BEGIN:VCALENDAR
VERSION:2.0
PRODID:-//Cultural Ilo - ECPv6.0.13//NONSGML v1.0//EN
CALSCALE:GREGORIAN
METHOD:PUBLISH
X-WR-CALNAME:Cultural Ilo
X-ORIGINAL-URL:https://cultural.edu.pe/ilo
X-WR-CALDESC:Eventos para Cultural Ilo
REFRESH-INTERVAL;VALUE=DURATION:PT1H
X-Robots-Tag:noindex
X-PUBLISHED-TTL:PT1H
BEGIN:VTIMEZONE
TZID:America/New_York
BEGIN:DAYLIGHT
TZOFFSETFROM:-0500
TZOFFSETTO:-0400
TZNAME:EDT
DTSTART:20260308T070000
END:DAYLIGHT
BEGIN:STANDARD
TZOFFSETFROM:-0400
TZOFFSETTO:-0500
TZNAME:EST
DTSTART:20261101T060000
END:STANDARD
END:VTIMEZONE
BEGIN:VEVENT
DTSTART;TZID=America/New_York:20260312T180000
DTEND;TZID=America/New_York:20260312T190000
DTSTAMP:20260423T043836
CREATED:20260418T182843Z
LAST-MODIFIED:20260418T182843Z
UID:4407-1773338400-1773342000@cultural.edu.pe
SUMMARY: Conversatorio: “Ilo a través de la historia”
DESCRIPTION: Conversatorio: “Ilo a través de la historia”El Gobierno Regional de Moquegua te invita a participar en este importante espacio de diálogo y aprendizaje donde conoceremos más sobre la historia y el desarrollo de nuestra querida provincia de Ilo. Ponentes invitados: Pedro Peralta Casani\, historiador\, docente y escritor del sur peruano. Gustavo Valcárcel Salas\, ingeniero e investigador con más de 30 años dedicados a la historia regional de Moquegua.
URL:https://cultural.edu.pe/ilo/eventos/conversatorio-ilo-a-traves-de-la-historia/
LOCATION:Cultural Ilo
CATEGORIES:Académico
ATTACH;FMTTYPE=image/jpeg:https://cultural.edu.pe/ilo/wp-content/uploads/2026/04/648778455_1329952975823880_607824687125898130_n.jpg
ORGANIZER;CN="Cultural":MAILTO:arequipa@cultural.edu.pe
END:VEVENT
BEGIN:VEVENT
DTSTART;TZID=America/New_York:20260324T180000
DTEND;TZID=America/New_York:20260324T190000
DTSTAMP:20260423T043836
CREATED:20260418T181848Z
LAST-MODIFIED:20260418T181848Z
UID:4402-1774375200-1774378800@cultural.edu.pe
SUMMARY: ILO Y MOQUEGUA EN LA MESA 
DESCRIPTION: ILO Y MOQUEGUA EN LA MESA Aromas\, historia y tradicionesLa gastronomía también cuenta historias. Te invitamos a un encuentro especial donde descubriremos los sabores\, aromas y tradiciones que forman parte de la identidad culinaria de Ilo y Moquegua.La reconocida Rosario Olivas Weston\, investigadora y autora de 14 libros de gastronomía\, compartirá su conocimiento y pasión por la cocina tradicional peruana. Ganadora del Premio Nacional de Gastronomía de España y 8 veces galardonada en los Gourmand World Cookbook Awards\, nos guiará en un recorrido por la historia y cultura que vive en cada plato.
URL:https://cultural.edu.pe/ilo/eventos/ilo-y-moquegua-en-la-mesa/
LOCATION:Cultural Ilo
CATEGORIES:Académico
ATTACH;FMTTYPE=image/jpeg:https://cultural.edu.pe/ilo/wp-content/uploads/2026/04/658326418_1340300961455748_2689402266422827250_n.jpg
ORGANIZER;CN="Cultural":MAILTO:arequipa@cultural.edu.pe
END:VEVENT
END:VCALENDAR