BEGIN:VCALENDAR
VERSION:2.0
PRODID:-//Cultural Ilo - ECPv6.0.13//NONSGML v1.0//EN
CALSCALE:GREGORIAN
METHOD:PUBLISH
X-ORIGINAL-URL:https://cultural.edu.pe/ilo
X-WR-CALDESC:Eventos para Cultural Ilo
REFRESH-INTERVAL;VALUE=DURATION:PT1H
X-Robots-Tag:noindex
X-PUBLISHED-TTL:PT1H
BEGIN:VTIMEZONE
TZID:America/New_York
BEGIN:DAYLIGHT
TZOFFSETFROM:-0500
TZOFFSETTO:-0400
TZNAME:EDT
DTSTART:20260308T070000
END:DAYLIGHT
BEGIN:STANDARD
TZOFFSETFROM:-0400
TZOFFSETTO:-0500
TZNAME:EST
DTSTART:20261101T060000
END:STANDARD
END:VTIMEZONE
BEGIN:VEVENT
DTSTART;TZID=America/New_York:20260407T180000
DTEND;TZID=America/New_York:20260407T190000
DTSTAMP:20260423T125449
CREATED:20260418T184133Z
LAST-MODIFIED:20260418T184133Z
UID:4415-1775584800-1775588400@cultural.edu.pe
SUMMARY:¡Una invitación imperdible para los amantes de la historia y el mar!
DESCRIPTION: ¡Una invitación imperdible para los amantes de la historia y el mar! \nEl autor Edwin Adriazola presenta su más reciente obra “Pacocha y otros eventos marinos”\, un libro que nos sumerge en relatos fascinantes inspirados en hechos marítimos\, memoria histórica y la conexión profunda con nuestro litoral.
URL:https://cultural.edu.pe/ilo/eventos/una-invitacion-imperdible-para-los-amantes-de-la-historia-y-el-mar/
LOCATION:Cultural Ilo
CATEGORIES:Académico
ATTACH;FMTTYPE=image/jpeg:https://cultural.edu.pe/ilo/wp-content/uploads/2026/04/658136753_1347084274110750_5499528358184941701_n.jpg
ORGANIZER;CN="Cultural":MAILTO:arequipa@cultural.edu.pe
END:VEVENT
END:VCALENDAR