BEGIN:VCALENDAR
VERSION:2.0
PRODID:-//Cultural Ilo - ECPv6.0.13//NONSGML v1.0//EN
CALSCALE:GREGORIAN
METHOD:PUBLISH
X-WR-CALNAME:Cultural Ilo
X-ORIGINAL-URL:https://cultural.edu.pe/ilo
X-WR-CALDESC:Eventos para Cultural Ilo
REFRESH-INTERVAL;VALUE=DURATION:PT1H
X-Robots-Tag:noindex
X-PUBLISHED-TTL:PT1H
BEGIN:VTIMEZONE
TZID:America/New_York
BEGIN:DAYLIGHT
TZOFFSETFROM:-0500
TZOFFSETTO:-0400
TZNAME:EDT
DTSTART:20200308T070000
END:DAYLIGHT
BEGIN:STANDARD
TZOFFSETFROM:-0400
TZOFFSETTO:-0500
TZNAME:EST
DTSTART:20201101T060000
END:STANDARD
END:VTIMEZONE
BEGIN:VEVENT
DTSTART;TZID=America/New_York:20201120T100000
DTEND;TZID=America/New_York:20201224T100000
DTSTAMP:20260425T070214
CREATED:20201029T182034Z
LAST-MODIFIED:20201209T155810Z
UID:476-1605866400-1608804000@cultural.edu.pe
SUMMARY:Conversatorio e inauguración virtual de la muestra fotográfica: “Bajo la sombra 2020”
DESCRIPTION:El presente año entre muchas cosas pone a prueba la fuerza de voluntad de todas las personas. Los alumnos asumieron el reto de la educación virtual y demostraron no solo su pasión por la fotografía si no también su temple como personas y su grado de responsabilidad. Los proyectos de primer semestre presentados por los alumnos mantienen el nivel de promociones anteriores\, pero además se debe reconocer y valorar la dificultad de desarrollar un proyecto con las dificultades propias del momento que estamos viviendo. “Bajo las sombras” es el título de la presente exposición la cual describe desde distintas miradas el sobrellevar de los días bajo unas circunstancias nunca antes vividas. Dos jóvenes luchando contra la ansiedad en una batalla no nueva\, pero quizás más sensible desde el encierro. Una mujer que aprovecha sabiamente el tiempo para disfrutar de la compañía de su padre próximo a cumplir 100 años. \nDespués de la inauguración se realizará un conversatorio en el que participarán Alonso Tejada\, fotógrafo profesional y docente del Thomas Jefferson\, Renzo Núñez fotógrafo profesional e Ysabel Tarqui\, en representación de los alumnos\, quienes hablarán sobre la importancia de la fotografía\, su ejecución y nos comentarán sobre el proceso realizado para crear cada uno de los proyectos que serán exhibidos en la muestra virtual.
URL:https://cultural.edu.pe/ilo/eventos/conversatorio-inauguracion-virtual-muestra-fotografica/
LOCATION:Galeria del Cultural
CATEGORIES:Presentaciones
ATTACH;FMTTYPE=image/jpeg:https://cultural.edu.pe/ilo/wp-content/uploads/2020/10/bajo-sombra-2020.jpg
END:VEVENT
BEGIN:VEVENT
DTSTART;TZID=America/New_York:20201128T190000
DTEND;TZID=America/New_York:20201128T190000
DTSTAMP:20260425T070214
CREATED:20201130T104156Z
LAST-MODIFIED:20201130T144401Z
UID:1954-1606590000-1606590000@cultural.edu.pe
SUMMARY:Cultural sessions Edicion Thanks Giving con Marikatia Campos
DESCRIPTION:No te pierdas este concierto virtual\, edición especial por Thanks giving. En esta oportunidad nos acompañará MariKatia Campos Rospigliosi\, actual alumna del Cultural y ganadora del Concurso Artista Cultural 2020\, actividad que descubrió\, estimuló y premió el talento de nuestros estudiantes a través de la expresión musical y escénica. MariKatia es músico-cantante\, vocalista en @lunduaqp y profesora de canto en el Emca «Escuela de música contemporánea de Arequipa». \nActualmente pertence al grupo de música afroperuana Lundú con el cual tuvo la oportunidad de irse de gira a Panamá\, Argentina y próximamente a Estados Unidos. MariKatia nos estará deleitando con su melodiosa voz este sábado 28 de noviembre desde las 7:00 pm. ¡Pasa la voz!
URL:https://cultural.edu.pe/ilo/eventos/cultural-sessions-con-marikatia-campos/
LOCATION:Teatro del Cultural
CATEGORIES:Académico
ATTACH;FMTTYPE=image/jpeg:https://cultural.edu.pe/ilo/wp-content/uploads/2020/11/cultural-sessions-marikatia-campos.jpg
END:VEVENT
END:VCALENDAR