BEGIN:VCALENDAR
VERSION:2.0
PRODID:-//Cultural Ilo - ECPv6.0.13//NONSGML v1.0//EN
CALSCALE:GREGORIAN
METHOD:PUBLISH
X-WR-CALNAME:Cultural Ilo
X-ORIGINAL-URL:https://cultural.edu.pe/ilo
X-WR-CALDESC:Eventos para Cultural Ilo
REFRESH-INTERVAL;VALUE=DURATION:PT1H
X-Robots-Tag:noindex
X-PUBLISHED-TTL:PT1H
BEGIN:VTIMEZONE
TZID:America/New_York
BEGIN:DAYLIGHT
TZOFFSETFROM:-0500
TZOFFSETTO:-0400
TZNAME:EDT
DTSTART:20200308T070000
END:DAYLIGHT
BEGIN:STANDARD
TZOFFSETFROM:-0400
TZOFFSETTO:-0500
TZNAME:EST
DTSTART:20201101T060000
END:STANDARD
END:VTIMEZONE
BEGIN:VEVENT
DTSTART;TZID=America/New_York:20201113T000000
DTEND;TZID=America/New_York:20201113T180000
DTSTAMP:20260425T070205
CREATED:20201029T181529Z
LAST-MODIFIED:20201130T113720Z
UID:471-1605225600-1605290400@cultural.edu.pe
SUMMARY:Cultural sessions con Juan Rios Vazquez
DESCRIPTION:Lotemm adipiscing elit. Feugiat viverra ac in gravida ut morbi nec\, odio aliquet. Cras proin ut amet et parturient ornare. Porta lobortis volutpat tincidunt dui. Sollicitudin eu id tincidunt mauris viverra mi.
URL:https://cultural.edu.pe/ilo/eventos/cultural-sessions-con-juan-rios-vazquez/
CATEGORIES:Artes visuales
ATTACH;FMTTYPE=image/jpeg:https://cultural.edu.pe/ilo/wp-content/uploads/2020/10/manuel-vera-tudela-example.jpg
END:VEVENT
BEGIN:VEVENT
DTSTART;TZID=America/New_York:20201113T200000
DTEND;TZID=America/New_York:20201113T200000
DTSTAMP:20260425T070205
CREATED:20201130T093912Z
LAST-MODIFIED:20201202T084939Z
UID:1935-1605297600-1605297600@cultural.edu.pe
SUMMARY:Presentación del libro: Poetics from an inhabited world I
DESCRIPTION:“Poetics from an inhabitated world I” es un libro realizado por los arquitectos Gonzalos Ríos y Carlos Zeballos\, en el cual han hecho dialogar la arquitectura y el paisaje a través de textos cortos en inglés que nos introducen en las experiencias fundamentales de la experiencia visual\, como: la perspectiva\, el orden\, el espacio y el símbolo\, sólo por mencionar algunos.
URL:https://cultural.edu.pe/ilo/eventos/presentacion-del-libro-poetics-from-an-inhabited-world-i/
CATEGORIES:Presentaciones
ATTACH;FMTTYPE=image/jpeg:https://cultural.edu.pe/ilo/wp-content/uploads/2020/11/presentacion-del-libro-poetics.jpg
END:VEVENT
END:VCALENDAR