BEGIN:VCALENDAR
VERSION:2.0
PRODID:-//Cultural Ilo - ECPv6.0.13//NONSGML v1.0//EN
CALSCALE:GREGORIAN
METHOD:PUBLISH
X-ORIGINAL-URL:https://cultural.edu.pe/ilo
X-WR-CALDESC:Eventos para Cultural Ilo
REFRESH-INTERVAL;VALUE=DURATION:PT1H
X-Robots-Tag:noindex
X-PUBLISHED-TTL:PT1H
BEGIN:VTIMEZONE
TZID:America/New_York
BEGIN:DAYLIGHT
TZOFFSETFROM:-0500
TZOFFSETTO:-0400
TZNAME:EDT
DTSTART:20200308T070000
END:DAYLIGHT
BEGIN:STANDARD
TZOFFSETFROM:-0400
TZOFFSETTO:-0500
TZNAME:EST
DTSTART:20201101T060000
END:STANDARD
END:VTIMEZONE
BEGIN:VEVENT
DTSTART;TZID=America/New_York:20201028T190000
DTEND;TZID=America/New_York:20201028T190000
DTSTAMP:20260425T070235
CREATED:20201130T142359Z
LAST-MODIFIED:20201130T144121Z
UID:2020-1603911600-1603911600@cultural.edu.pe
SUMMARY:Concurso de Instagram “Retrato de Terror 2020”
DESCRIPTION:¡Celebramos Halloween premiando tu talento y creatividad! \nTe invitamos a participar del concurso “Retrato de terror 2020”. Sube una foto relacionada con lo tenebroso de Halloween a tu perfil de Instagram (no historia) etiquetándonos en nuestra cuenta de instgram  @cultural.arequipa\, usa el hashtag #RetratoDeTerrorCultural\, llena el Formulario y ¡listo! Ya estás participando. \nPREMIOS\nSe otorgará 1 premio para el único ganador de cada categoría \n\nCategoría niños y adolescentes (de a 13 años)\n\nUn almuerzo valorizado en 250 soles para 4 personas \n\nCategoría Jóvenes y adultos (de 14 años a más)\n\nUn almuerzo valorizado en 250 soles para 4 personas \n*Se recibirán las inscripciones hasta las 11:59 pm del día miércoles 28 de octubre \nDescarga las bases del concurso Aquí
URL:https://cultural.edu.pe/ilo/eventos/concurso-de-instagram-retrato-de-terror-2020/
CATEGORIES:Académico
ATTACH;FMTTYPE=image/jpeg:https://cultural.edu.pe/ilo/wp-content/uploads/2020/11/retrato-terror.jpg
END:VEVENT
END:VCALENDAR