BEGIN:VCALENDAR
VERSION:2.0
PRODID:-//Cultural Arequipa - ECPv6.0.13//NONSGML v1.0//EN
CALSCALE:GREGORIAN
METHOD:PUBLISH
X-ORIGINAL-URL:https://cultural.edu.pe
X-WR-CALDESC:Eventos para Cultural Arequipa
REFRESH-INTERVAL;VALUE=DURATION:PT1H
X-Robots-Tag:noindex
X-PUBLISHED-TTL:PT1H
BEGIN:VTIMEZONE
TZID:America/New_York
BEGIN:DAYLIGHT
TZOFFSETFROM:-0500
TZOFFSETTO:-0400
TZNAME:EDT
DTSTART:20220313T070000
END:DAYLIGHT
BEGIN:STANDARD
TZOFFSETFROM:-0400
TZOFFSETTO:-0500
TZNAME:EST
DTSTART:20221106T060000
END:STANDARD
END:VTIMEZONE
BEGIN:VEVENT
DTSTART;TZID=America/New_York:20221013T180000
DTEND;TZID=America/New_York:20221013T200000
DTSTAMP:20260425T200420
CREATED:20230117T220018Z
LAST-MODIFIED:20230117T220018Z
UID:6930-1665684000-1665691200@cultural.edu.pe
SUMMARY:III Encuentro Internacional de Escritoras: Tu voz existe
DESCRIPTION:Somos parte del III Encuentro Internacional de Escritoras: Tu voz existe\, el Centro Cultural Peruano Norteamericano y la Asociación Cultural Athena invitanal público en general al Homenaje a Patricia Roberts Billig; escritora\, pintora\, especialista en artes orientales de relajación. Columnista por largos años del diario El Pueblo. Sus poemas\, escritos en inglés como en español\, han sido publicados en revistas de Estados Unidos (donde estudió y residió largo tiempo)\, España\, y Arequipa.\n\n\n\nEntre sus publicaciones están Images and Feelings from the Sea (1978)\, Poemas de antes y después (1980)\, Chipping Stone (1982)\, Going Beyond Limits (1997)\, Esencias (2005)\, Wen fu\, el arte de escribir por Lu Chi» (2009) \, Sabiduría para la segunda mitad de la vida\, reflexiones sobre el Tao Te Ching de Lao Tse (2009)\, Imperpamencia (Cascahuesos 2016)\, Preludio (Carpe Diem 2018).
URL:https://cultural.edu.pe/eventos/iii-encuentro-internacional-de-escritoras-tu-voz-existe/
LOCATION:Teatro del Cultural\, Calle Melgar 109\, Arequipa\, Arequipa\, 04001\, Perú
CATEGORIES:Presentaciones
ATTACH;FMTTYPE=image/jpeg:https://cultural.edu.pe/wp-content/uploads/2023/01/encuentro-escritoras.jpg
ORGANIZER;CN="Cultural":MAILTO:cultura@cultural.edu.pe
END:VEVENT
END:VCALENDAR