BEGIN:VCALENDAR
VERSION:2.0
PRODID:-//Cultural Arequipa - ECPv6.0.13//NONSGML v1.0//EN
CALSCALE:GREGORIAN
METHOD:PUBLISH
X-WR-CALNAME:Cultural Arequipa
X-ORIGINAL-URL:https://cultural.edu.pe
X-WR-CALDESC:Eventos para Cultural Arequipa
REFRESH-INTERVAL;VALUE=DURATION:PT1H
X-Robots-Tag:noindex
X-PUBLISHED-TTL:PT1H
BEGIN:VTIMEZONE
TZID:America/New_York
BEGIN:DAYLIGHT
TZOFFSETFROM:-0500
TZOFFSETTO:-0400
TZNAME:EDT
DTSTART:20220313T070000
END:DAYLIGHT
BEGIN:STANDARD
TZOFFSETFROM:-0400
TZOFFSETTO:-0500
TZNAME:EST
DTSTART:20221106T060000
END:STANDARD
END:VTIMEZONE
BEGIN:VEVENT
DTSTART;TZID=America/New_York:20220819T190000
DTEND;TZID=America/New_York:20220819T203000
DTSTAMP:20260425T230340
CREATED:20230117T141025Z
LAST-MODIFIED:20230117T141821Z
UID:6876-1660935600-1660941000@cultural.edu.pe
SUMMARY:Conversatorio: Tradiciones y picanterías de Arequipa
DESCRIPTION:Con ocasión de celebrarse este mes de agosto el 482º Aniversario de la “Ciudad Blanca” de Arequipa\, el Centro Cultural Peruano Norteamericano\, presentará un interesante conversatorio en el que participarán el Dr. Jorge Bedregal La Vera\, Historiador\, Docente Principal de la Escuela de Historia de la U.N.S.A. e integrante de la Sociedad Picantera\, y Hélard Fuentes Pastor\, Lic. en Historia\, escritor y columnista de diferentes medios de prensa escrita como Correo y El Pueblo\, quienes nos hablarán sobre El origen de la Picantería. Condicionantes ecológicos\, históricos\, geográficos de la gastronomía arequipeña y La Sociedad Picantera de Arequipa. También veremos cómo Arequipa es una ciudad de múltiples costumbres y tradiciones\, y cómo éstas han enriquecido muchas generaciones en la vida cotidiana\, dándose a  conocer anécdotas y experiencias en torno a la dinámica sociocultural en la ciudad\, a través del tiempo que nos permitirá observar los cambios y permanencias en los imaginarios culturales de nuestra sociedad. La cocina arequipeña es uno de los pilares de la gastronomía del Perú y las picanterías son su máxima y más auténtica expresión. No por nada\, Las Picanterías han sido declaradas Patrimonio Cultural de la Nación de Perú en 2014. \nEn cuanto a las tradiciones y costumbres\, también son importantes ya que reflejan la identidad cultural mestiza de nuestra ciudad. Estas han surgido de un mestizaje que ha hecho que se guarden muchos rasgos originales\, siendo los más resaltantes en los arequipeños\, su fuerza\, coraje y  su espíritu rebelde y campechano\, que han permitido generar sus propias costumbres y expresiones.
URL:https://cultural.edu.pe/eventos/conversatorio-tradiciones-y-picanterias-de-arequipa/
LOCATION:Auditorio del Cultural\, Calle Melgar 109\, Arequipa\, Arequipa\, 04001\, Perú
CATEGORIES:Presentaciones
ATTACH;FMTTYPE=image/jpeg:https://cultural.edu.pe/wp-content/uploads/2023/01/picanteria.jpg
ORGANIZER;CN="Cultural":MAILTO:cultura@cultural.edu.pe
END:VEVENT
BEGIN:VEVENT
DTSTART;TZID=America/New_York:20220819T190000
DTEND;TZID=America/New_York:20220819T203000
DTSTAMP:20260425T230340
CREATED:20230117T172947Z
LAST-MODIFIED:20230117T172947Z
UID:6879-1660935600-1660941000@cultural.edu.pe
SUMMARY:Conversatorio: Tradiciones y picanterías de Arequipa
DESCRIPTION:Con ocasión de celebrarse este mes de agosto el 482º Aniversario de la “Ciudad Blanca” de Arequipa\, el Centro Cultural Peruano Norteamericano\, presentará un interesante conversatorio en el que participarán el Dr. Jorge Bedregal La Vera\, Historiador\, Docente Principal de la Escuela de Historia de la U.N.S.A. e integrante de la Sociedad Picantera\, y Hélard Fuentes Pastor\, Lic. en Historia\, escritor y columnista de diferentes medios de prensa escrita como Correo y El Pueblo\, quienes nos hablarán sobre El origen de la Picantería. Condicionantes ecológicos\, históricos\, geográficos de la gastronomía arequipeña y La Sociedad Picantera de Arequipa. También veremos cómo Arequipa es una ciudad de múltiples costumbres y tradiciones\, y cómo éstas han enriquecido muchas generaciones en la vida cotidiana\, dándose a conocer anécdotas y experiencias en torno a la dinámica sociocultural en la ciudad\, a través del tiempo que nos permitirá observar los cambios y permanencias en los imaginarios culturales de nuestra sociedad. La cocina arequipeña es uno de los pilares de la gastronomía del Perú y las picanterías son su máxima y más auténtica expresión. No por nada\, Las Picanterías han sido declaradas Patrimonio Cultural de la Nación de Perú en 2014. \nEn cuanto a las tradiciones y costumbres\, también son importantes ya que reflejan la identidad cultural mestiza de nuestra ciudad. Estas han surgido de un mestizaje que ha hecho que se guarden muchos rasgos originales\, siendo los más resaltantes en los arequipeños\, su fuerza\, coraje y su espíritu rebelde y campechano\, que han permitido generar sus propias costumbres y expresiones.
URL:https://cultural.edu.pe/eventos/conversatorio-tradiciones-y-picanterias-de-arequipa-2/
LOCATION:Auditorio del Cultural\, Calle Melgar 109\, Arequipa\, Arequipa\, 04001\, Perú
CATEGORIES:Presentaciones
ATTACH;FMTTYPE=image/jpeg:https://cultural.edu.pe/wp-content/uploads/2023/01/picanteria.jpg
ORGANIZER;CN="Cultural":MAILTO:cultura@cultural.edu.pe
END:VEVENT
END:VCALENDAR