BEGIN:VCALENDAR
VERSION:2.0
PRODID:-//Cultural Arequipa - ECPv6.0.13//NONSGML v1.0//EN
CALSCALE:GREGORIAN
METHOD:PUBLISH
X-WR-CALNAME:Cultural Arequipa
X-ORIGINAL-URL:https://cultural.edu.pe
X-WR-CALDESC:Eventos para Cultural Arequipa
REFRESH-INTERVAL;VALUE=DURATION:PT1H
X-Robots-Tag:noindex
X-PUBLISHED-TTL:PT1H
BEGIN:VTIMEZONE
TZID:America/New_York
BEGIN:DAYLIGHT
TZOFFSETFROM:-0500
TZOFFSETTO:-0400
TZNAME:EDT
DTSTART:20220313T070000
END:DAYLIGHT
BEGIN:STANDARD
TZOFFSETFROM:-0400
TZOFFSETTO:-0500
TZNAME:EST
DTSTART:20221106T060000
END:STANDARD
END:VTIMEZONE
BEGIN:VEVENT
DTSTART;TZID=America/New_York:20221119T160000
DTEND;TZID=America/New_York:20221119T170000
DTSTAMP:20260425T170759
CREATED:20230125T174026Z
LAST-MODIFIED:20230125T174026Z
UID:6963-1668873600-1668877200@cultural.edu.pe
SUMMARY:Cuentacuentos: María Julia y el árbol gallinero de Erika Stockholm con Laberinto Teatro
DESCRIPTION:Autora: Erika Stockholm \nMaría Julia tiene una mascota: una gallina negra cuya gran ilusión es convertirse en madre. Pero eso difícilmente podría ocurrir\, pues no hay un gallo en la casa. María Julia no parará hasta lograr\, con sus ingeniosas ideas\, que su adorada mascota realice su sueño.
URL:https://cultural.edu.pe/eventos/cuentacuentos-maria-julia-y-el-arbol-gallinero-de-erika-stockholm-con-laberinto-teatro/
LOCATION:Teatro del Cultural\, Calle Melgar 109\, Arequipa\, Arequipa\, 04001\, Perú
CATEGORIES:Artes escénicas,Presentaciones
ATTACH;FMTTYPE=image/jpeg:https://cultural.edu.pe/wp-content/uploads/2023/01/maria-julia-arbol-gallinero.jpg
ORGANIZER;CN="Cultural":MAILTO:cultura@cultural.edu.pe
END:VEVENT
BEGIN:VEVENT
DTSTART;TZID=America/New_York:20221122T193000
DTEND;TZID=America/New_York:20221122T210000
DTSTAMP:20260425T170800
CREATED:20230125T172246Z
LAST-MODIFIED:20230125T172247Z
UID:6953-1669145400-1669150800@cultural.edu.pe
SUMMARY:Presentación de libro “Mi más grande armamento para vencer la dislexia" de Iris Delgado
DESCRIPTION:Presentación del libro “Mi más grande armamento para vencer la dislexia» de la narradora y poeta Iris Delgado de la Torre Bueno\, a cargo del reconocido psicólogo Charles Portilla Revollar. \nEn prosa y en verso\, desde el recuerdo e interpretación de sus vivencias\, Iris Delgado de la Torre Bueno nos cuenta su descubrimiento\, a los 34 años de edad\, de tener dislexia\, haberla heredado con ayuda de su padre\, a quien considera el dador del armamento para «construir» una persona segura de sí misma con alta autoestima capaz de conducir su vida sola superando retos\, como lo demuestra en este cuarto libro.
URL:https://cultural.edu.pe/eventos/presentacion-de-libro-mi-mas-grande-armamento-para-vencer-la-dislexia-de-iris-delgado/
LOCATION:Teatro del Cultural\, Calle Melgar 109\, Arequipa\, Arequipa\, 04001\, Perú
CATEGORIES:Presentaciones
ATTACH;FMTTYPE=image/jpeg:https://cultural.edu.pe/wp-content/uploads/2023/01/mi-mas-grande-armamento-para-vencer-la-dislexia.jpg
ORGANIZER;CN="Cultural":MAILTO:cultura@cultural.edu.pe
END:VEVENT
BEGIN:VEVENT
DTSTART;TZID=America/New_York:20221125T180000
DTEND;TZID=America/New_York:20221125T200000
DTSTAMP:20260425T170800
CREATED:20230125T172723Z
LAST-MODIFIED:20230125T172723Z
UID:6956-1669399200-1669406400@cultural.edu.pe
SUMMARY:Presentación del libro Potenciales evocados de María Luz Castañeda Aguilar
DESCRIPTION:Presentación del libro de poesía Potenciales evocados\, libro de María Luz Castañeda\, es el octavo título que se publica trabajado en El Laboratorio. Este proyecto de escritura\, como menciona Maurizio Medo\, «crea un espacio de posibilidad de acción\, una que no se supedita a constituirse en la patente de corso de una expresión individual\, sino que\, al materializarse\, consigue abrirse a los distintos contextos en los que\, a través de la lectura del Otro\, transforma cada una de las experiencias aquí reunidas en verdaderos acontecimientos».
URL:https://cultural.edu.pe/eventos/presentacion-del-libro-potenciales-evocados-de-maria-luz-castaneda-aguilar/
LOCATION:Biblioteca del Cultural\, Calle Melgar 109\, Arequipa\, Arequipa\, 04001\, Perú
CATEGORIES:Presentaciones
ATTACH;FMTTYPE=image/jpeg:https://cultural.edu.pe/wp-content/uploads/2023/01/potenciales-evocados.jpg
ORGANIZER;CN="Cultural":MAILTO:cultura@cultural.edu.pe
END:VEVENT
BEGIN:VEVENT
DTSTART;TZID=America/New_York:20221126T160000
DTEND;TZID=America/New_York:20221126T170000
DTSTAMP:20260425T170800
CREATED:20230125T173229Z
LAST-MODIFIED:20230607T204837Z
UID:6960-1669478400-1669482000@cultural.edu.pe
SUMMARY:Cuentacuentos: “Operativo corazón partido”
DESCRIPTION:De María Fernanda Heredia  \nEdú es el mejor amigo de Juan\, quien está enamorado de Jazmín\, y para conquistarla debe aguantar a su insoportable hermano menor conocido como “el micro tirano”
URL:https://cultural.edu.pe/eventos/cuentacuentos-operativo-corazon-partido-de-maria-fernanda-heredia-con-alexis-valverde-centty/
LOCATION:Auditorio del Cultural\, Calle Melgar 109\, Arequipa\, Arequipa\, 04001\, Perú
CATEGORIES:Artes escénicas,Presentaciones
ATTACH;FMTTYPE=image/jpeg:https://cultural.edu.pe/wp-content/uploads/2023/01/operacion-corazon-partido.jpg
ORGANIZER;CN="Cultural":MAILTO:cultura@cultural.edu.pe
END:VEVENT
END:VCALENDAR