BEGIN:VCALENDAR
VERSION:2.0
PRODID:-//Cultural Arequipa - ECPv6.0.13//NONSGML v1.0//EN
CALSCALE:GREGORIAN
METHOD:PUBLISH
X-WR-CALNAME:Cultural Arequipa
X-ORIGINAL-URL:https://cultural.edu.pe
X-WR-CALDESC:Eventos para Cultural Arequipa
REFRESH-INTERVAL;VALUE=DURATION:PT1H
X-Robots-Tag:noindex
X-PUBLISHED-TTL:PT1H
BEGIN:VTIMEZONE
TZID:America/New_York
BEGIN:DAYLIGHT
TZOFFSETFROM:-0500
TZOFFSETTO:-0400
TZNAME:EDT
DTSTART:20220313T070000
END:DAYLIGHT
BEGIN:STANDARD
TZOFFSETFROM:-0400
TZOFFSETTO:-0500
TZNAME:EST
DTSTART:20221106T060000
END:STANDARD
END:VTIMEZONE
BEGIN:VEVENT
DTSTART;TZID=America/New_York:20220902T170000
DTEND;TZID=America/New_York:20220902T183000
DTSTAMP:20260425T200044
CREATED:20230117T175651Z
LAST-MODIFIED:20230117T175651Z
UID:6888-1662138000-1662143400@cultural.edu.pe
SUMMARY:Presentación de la revista: Talento Literario Sin Fronteras (TALSIF)
DESCRIPTION:Talento Literario Sin Fronteras (TALSIF)\, hace la presentación de la primera edición de la Revista «LETRAS SIN FRONTERAS»\, por motivo de la conmemoración del XXXIII Aniversario de su fundación.
URL:https://cultural.edu.pe/eventos/revista-talento-literario-sin-fronteras/
LOCATION:Teatro del Cultural\, Calle Melgar 109\, Arequipa\, Arequipa\, 04001\, Perú
CATEGORIES:Presentaciones
ATTACH;FMTTYPE=image/jpeg:https://cultural.edu.pe/wp-content/uploads/2023/01/revista-talsif.jpg
ORGANIZER;CN="Cultural":MAILTO:cultura@cultural.edu.pe
END:VEVENT
BEGIN:VEVENT
DTSTART;TZID=America/New_York:20220916T190000
DTEND;TZID=America/New_York:20220916T203000
DTSTAMP:20260425T200044
CREATED:20230117T205514Z
LAST-MODIFIED:20230117T205514Z
UID:6903-1663354800-1663360200@cultural.edu.pe
SUMMARY:Conversatorio: Las redes sociales en la difusión de la historia con Merlín Chambi y Kevin Zavaleta
DESCRIPTION:Durante la última década\, la difusión de la Historia ha cambiado. El advenimiento de Internet (y con ello\, de las redes sociales) ha iniciado una nueva manera de enseñarla\, acorde a los medios que van apareciendo. ¿Cuáles han sido estos cambios? ¿Fueron positivos o negativos? ¿Qué consecuencias ha traído?\nEl debate gira alrededor del alcance y las limitaciones de las redes sociales para la difusión. Por un lado\, las redes como un espacio que prepondera el espectáculo y lo efímero donde no tiene cabida el conocimiento; por el otro\, como una óptima alternativa para alcanzar a nuevos públicos y plantear nuevas perspectivas. \nEste conversatorio estará a cargo de:\nMerlín Chambi\, egresado de la carrera de Historia por la Universidad Nacional Federico Villareal. Es autor de dos cuentos de portada de la revista Relatos Increíbles. Fue embajador de la FIL 2022 y actualmente crea contenido cultural en su canal de Youtube “La Biblioteca de Merlín” y es mediador de las Cátedras Bicentenarios que realiza el Ministerio de Cultura. \nKevin Zavaleta\, es Comunicador Social por la Universidad Nacional Mayor de San Marcos. Perteneció a la editorial Cartonazo Editores\, editorial premiada en el II Concurso de Responsabilidad Social Universitaria.  Hace dos años es mediador de lectura en la Casa de la Literatura Peruana. Su presencia en Internet comenzó con el canal cultural de YouTube Histeria del Perú\, y continúa con otros proyectos digitales sobre historia\, cine y literatura.
URL:https://cultural.edu.pe/eventos/conversatorio-las-redes-sociales-en-la-difusion-de-la-historia-con-merlin-chambi-y-kevin-zavaleta/
LOCATION:Auditorio del Cultural\, Calle Melgar 109\, Arequipa\, Arequipa\, 04001\, Perú
CATEGORIES:Presentaciones
ATTACH;FMTTYPE=image/jpeg:https://cultural.edu.pe/wp-content/uploads/2023/01/conversatorio-merlin-kevin.jpg
ORGANIZER;CN="Cultural":MAILTO:cultura@cultural.edu.pe
END:VEVENT
BEGIN:VEVENT
DTSTART;TZID=America/New_York:20220921T100000
DTEND;TZID=America/New_York:20220922T190000
DTSTAMP:20260425T200044
CREATED:20230117T210503Z
LAST-MODIFIED:20230117T210503Z
UID:6906-1663754400-1663873200@cultural.edu.pe
SUMMARY:1er. Festival Nacional del cóndor andino
DESCRIPTION:El Servicio Nacional Forestal y de Fauna Silvestre (SERFOR) es la Autoridad Nacional Forestal y de Fauna Silvestre que tiene como función principal promover la gestión sostenible de la flora y fauna silvestre del país. Es un órgano adscrito al Ministerio de Desarrollo Agrario y Riego que trabaja con los gobiernos regionales\, locales\, organizaciones indígenas\, campesinas y civiles para asegurar la sostenibilidad de los bosques y otros ecosistemas de vegetación silvestre y el comercio legal de sus recursos\, entre otras competencias. \nComo parte de las actividades de promoción y difusión sobre el cuidado y protección dirigida al cóndor andino\, la oficina regional del SERFOR en Arequipa realizará el 1er Festival Nacional del Cóndor Andino. Este festival permitirá organizar una serie de actividades que buscan dar a conocer las experiencias de trabajo realizadas en cóndores de la región y concientizar a la población en general sobre la importancia de esta ave emblemática de nuestra región. \nEl 1er. Festival Nacional del Cóndor Andino se desarrollará el 20\, 21 y 22 de octubre en la ciudad de Arequipa. Gracias a una alianza estratégica con el Centro Cultural Peruano Norteamericano\,se brindará una serie de actividades que empezarán con una Conferencia Magistral  el 21 a las 19:00 h en el Teatro\, luego habrá una exposición de Artesanías a cargo de artesanas del Valle del Cóndor y un catering a los invitados que asistan a la Conferencia.   \nEl segundo día del Festival\, se realizará la premiación a los ganadores del Concurso de Dibujo y Pintura a partir de las 10:00 h en el Patio A. \nHabrá también una presentación de disfraces reciclados y una visita a stands con productos de artesanía relacionados a la defensa y protección del cóndor andino.
URL:https://cultural.edu.pe/eventos/1er-festival-nacional-del-condor-andino/
LOCATION:Cultural Arequipa\, Calle Melgar 109\, Arequipa\, Arequipa\, Arequipa\, 04001\, Perú
CATEGORIES:Presentaciones
ATTACH;FMTTYPE=image/jpeg:https://cultural.edu.pe/wp-content/uploads/2023/01/serfor.jpg
ORGANIZER;CN="Cultural":MAILTO:cultura@cultural.edu.pe
END:VEVENT
BEGIN:VEVENT
DTSTART;TZID=America/New_York:20220924T160000
DTEND;TZID=America/New_York:20220924T170000
DTSTAMP:20260425T200044
CREATED:20230117T174313Z
LAST-MODIFIED:20230117T174349Z
UID:6881-1664035200-1664038800@cultural.edu.pe
SUMMARY:Cuentacuentos: Papá mago de Jorge Eslava
DESCRIPTION:Un padre es capaz de cualquier cosa por sus hijos\, incluso de aprender magia para hacer su vida más entretenida. Pero hay un límite entre los trucos y la magia real. De Jorge Eslava.
URL:https://cultural.edu.pe/eventos/cuentacuentos-papa-mago-jorge-eslava/
LOCATION:Auditorio del Cultural\, Calle Melgar 109\, Arequipa\, Arequipa\, 04001\, Perú
CATEGORIES:Presentaciones
ATTACH;FMTTYPE=image/jpeg:https://cultural.edu.pe/wp-content/uploads/2023/01/papa-mago.jpg
ORGANIZER;CN="Cultural":MAILTO:cultura@cultural.edu.pe
END:VEVENT
BEGIN:VEVENT
DTSTART;TZID=America/New_York:20220929T180000
DTEND;TZID=America/New_York:20220929T190000
DTSTAMP:20260425T200044
CREATED:20230117T180159Z
LAST-MODIFIED:20230117T180159Z
UID:6891-1664474400-1664478000@cultural.edu.pe
SUMMARY:Club de lectura del Cultural: La piel del cielo de Elena Poniatowska
DESCRIPTION:Mamá\, ¿allá atrás se acaba el mundo?» Esta frase abre camino a una historia fascinante: la de un hombre de enorme talento destinado a desentrañar los misterios de la astronomía. Lorenzo de Tena\, inconformista y rebelde\, deberá luchar contra las desigualdades sociales\, las trampas burocráticas y las tentaciones políticas para ver realizada su vocación. Pero los mayores retos de su búsqueda no vendrán de la ciencia sino de la cara más oculta de las personas\, la que esconde las pasiones y los sentimientos. Una novela que\, como un telescopio\, nos acerca a los desafíos más inalcanzables: las estrellas y el amor.
URL:https://cultural.edu.pe/eventos/club-de-lectura-la-piel-del-cielo-elena/
LOCATION:Google Meet
CATEGORIES:Presentaciones
ATTACH;FMTTYPE=image/jpeg:https://cultural.edu.pe/wp-content/uploads/2023/01/la-piel-del-cielo.jpg
ORGANIZER;CN="Cultural":MAILTO:cultura@cultural.edu.pe
END:VEVENT
END:VCALENDAR