BEGIN:VCALENDAR
VERSION:2.0
PRODID:-//Cultural Arequipa - ECPv6.0.13//NONSGML v1.0//EN
CALSCALE:GREGORIAN
METHOD:PUBLISH
X-ORIGINAL-URL:https://cultural.edu.pe
X-WR-CALDESC:Eventos para Cultural Arequipa
REFRESH-INTERVAL;VALUE=DURATION:PT1H
X-Robots-Tag:noindex
X-PUBLISHED-TTL:PT1H
BEGIN:VTIMEZONE
TZID:America/New_York
BEGIN:DAYLIGHT
TZOFFSETFROM:-0500
TZOFFSETTO:-0400
TZNAME:EDT
DTSTART:20250309T070000
END:DAYLIGHT
BEGIN:STANDARD
TZOFFSETFROM:-0400
TZOFFSETTO:-0500
TZNAME:EST
DTSTART:20251102T060000
END:STANDARD
END:VTIMEZONE
BEGIN:VEVENT
DTSTART;TZID=America/New_York:20250927T160000
DTEND;TZID=America/New_York:20250927T170000
DTSTAMP:20260422T172046
CREATED:20250721T031555Z
LAST-MODIFIED:20250904T222044Z
UID:14324-1758988800-1758992400@cultural.edu.pe
SUMMARY:Cuentacuentos Musicalizado: «Dónde viven los monstruos»
DESCRIPTION:📚✨ ¡Ven con tu pequeñ@ y disfruten juntos de una historia que despertará la imaginación en todas sus formas! 👧👦\nEmbárcate en un viaje narrativo lleno de emociones\, ritmo y creatividad con la lectura dramatizada del clásico Dónde viven los monstruos\, acompañada de música en vivo que da vida a cada escena y emoción de la historia. \nCon pequeños instrumentos\, luces suaves y elementos visuales\, la narradora y el músico crearán una atmósfera mágica e inmersiva\, donde los niños podrán identificarse con Max y descubrir que incluso las emociones “monstruosas” también necesitan ser escuchadas y abrazadas. \n🌟 Objetivos pedagógicos\n\nEstimular la imaginación y la escucha atenta.\nAbordar el manejo emocional desde el arte.\nIntroducir la música como lenguaje expresivo.\n\n💡 Mensaje central:\nAbrazar y comprender las emociones difíciles forma parte de una niñez sana. A través del arte podemos explorar la ira\, el miedo y la tristeza sin juicio. \n👩‍🏫 Realizado por: Roberto Palacios \n\n Fecha:\nSábado 27 de septiembre \n\n\n Hora: \n4:00 p.m. (apertura 3:30 p.m.) \n\n\n Lugar:\n\nBiblioteca\, Calle Melgar 109 \n🎟️ Ingreso Libre
URL:https://cultural.edu.pe/eventos/cuentacuentos-musicalizado/
LOCATION:Biblioteca del Cultural\, Calle Melgar 109\, Arequipa\, Arequipa\, 04001\, Perú
CATEGORIES:Otro
ATTACH;FMTTYPE=image/png:https://cultural.edu.pe/wp-content/uploads/2025/07/5.1-1.png
END:VEVENT
END:VCALENDAR