BEGIN:VCALENDAR
VERSION:2.0
PRODID:-//Cultural Arequipa - ECPv6.0.13//NONSGML v1.0//EN
CALSCALE:GREGORIAN
METHOD:PUBLISH
X-ORIGINAL-URL:https://cultural.edu.pe
X-WR-CALDESC:Eventos para Cultural Arequipa
REFRESH-INTERVAL;VALUE=DURATION:PT1H
X-Robots-Tag:noindex
X-PUBLISHED-TTL:PT1H
BEGIN:VTIMEZONE
TZID:America/New_York
BEGIN:DAYLIGHT
TZOFFSETFROM:-0500
TZOFFSETTO:-0400
TZNAME:EDT
DTSTART:20250309T070000
END:DAYLIGHT
BEGIN:STANDARD
TZOFFSETFROM:-0400
TZOFFSETTO:-0500
TZNAME:EST
DTSTART:20251102T060000
END:STANDARD
END:VTIMEZONE
BEGIN:VEVENT
DTSTART;TZID=America/New_York:20250920T040000
DTEND;TZID=America/New_York:20250920T170000
DTSTAMP:20260422T172047
CREATED:20250721T032018Z
LAST-MODIFIED:20250918T195221Z
UID:14326-1758340800-1758387600@cultural.edu.pe
SUMMARY:Club de lectura infantil. Ciclo de obras "Eloísa y los Bichos de Jairo Buitrago"
DESCRIPTION:📚✨ ¡Ven con tu pequeñ@ y disfruten juntos de una historia que cambiará su manera de ver el mundo! 👧👦\nEn esta sesión del Club de Lectura Infantil\, conoceremos a Eloísa\, una niña que llega a la ciudad y se enfrenta a un lugar lleno de “bichos raros”. Entre la sorpresa y las dificultades para adaptarse\, su relato nos invita a reflexionar sobre la diversidad y la experiencia de los inmigrantes\, con una mirada sensible\, renovadora y cercana a los niños. \n🏆 Libro ganador de: \n\nWhite Ravens 2011\nBanco del Libro de Venezuela 2011\nRevista Semana 2009\n\n👩‍🏫 Narrado por: Teffy Bengoa \n⭐ Sobre Teffy Bengoa:\nEstefani Bengoa\, Arequipa (1990). Actriz\, psicóloga y mediadora de lectura egresada del Programa especializado en Cátedra de mediación de lectura\, escritura y bibliotecas del Perú (2021). Educadora en el marco de la primera infancia acompañado a niños y padres en pedagogías activas. Actualmente es cofundadora de Legere Club\, espacio de lectura\, encargado del fomento\, difusión y diversificación del libro. \n\n Fecha:\nSábado 20 de septiembre \n\n\n Hora: \n4: 00 p.m. \n\n\n Lugar:\n\nBiblioteca\, Calle Melgar 109 \n🎟️ Ingreso Libre
URL:https://cultural.edu.pe/eventos/club-de-lectura-infantil-ciclo-de-obras-eloisa-y-los-bichos-de-jairo-buitrago/
LOCATION:Biblioteca del Cultural\, Calle Melgar 109\, Arequipa\, Arequipa\, 04001\, Perú
CATEGORIES:Otro,Presentaciones
ATTACH;FMTTYPE=image/png:https://cultural.edu.pe/wp-content/uploads/2025/07/4.1-1.png
END:VEVENT
END:VCALENDAR