BEGIN:VCALENDAR
VERSION:2.0
PRODID:-//Cultural Arequipa - ECPv6.0.13//NONSGML v1.0//EN
CALSCALE:GREGORIAN
METHOD:PUBLISH
X-WR-CALNAME:Cultural Arequipa
X-ORIGINAL-URL:https://cultural.edu.pe
X-WR-CALDESC:Eventos para Cultural Arequipa
REFRESH-INTERVAL;VALUE=DURATION:PT1H
X-Robots-Tag:noindex
X-PUBLISHED-TTL:PT1H
BEGIN:VTIMEZONE
TZID:America/New_York
BEGIN:DAYLIGHT
TZOFFSETFROM:-0500
TZOFFSETTO:-0400
TZNAME:EDT
DTSTART:20250309T070000
END:DAYLIGHT
BEGIN:STANDARD
TZOFFSETFROM:-0400
TZOFFSETTO:-0500
TZNAME:EST
DTSTART:20251102T060000
END:STANDARD
END:VTIMEZONE
BEGIN:VEVENT
DTSTART;TZID=America/New_York:20250827T120000
DTEND;TZID=America/New_York:20250828T190000
DTSTAMP:20260422T183049
CREATED:20250719T175334Z
LAST-MODIFIED:20250811T211143Z
UID:14286-1756296000-1756407600@cultural.edu.pe
SUMMARY:Festival Internacional de Bluegrass y Jazz del Centro Cultural Peruano Norteamericano
DESCRIPTION:🎷 Gran Festival Internacional de Jazz: Celebrando 200 años de hermandad 🎶\nPresentamos el «Gran Festival Internacional de Bluegrass y Jazz»\, un evento inolvidable que celebra los 200 años de relaciones diplomáticas entre Perú y Estados Unidos a través del lenguaje universal de la música. \nDurante dos días de conciertos GRATUITOS\, el escenario se llenará de talento con agrupaciones provenientes de Estados Unidos\, Perú\, Chile y Turquía. \n                          \n🎶 Programación\n📅 Día 1 – Miércoles 27 de agosto | 🕛 12:00 m.\n🟣 Banda invitada: Della Mae (EE. UU.)La reconocida banda femenina de bluegrass Della Mae será la encargada de abrir el festival. Conformada por Kimber Ludiker\, Celia Woodsmith\, Vickie Vaughn y la invitada especial Laura Ray\, Della Mae ha sido nominada al GRAMMY y ha llevado su música a más de 16 países. \nCon una trayectoria de 15 años\, esta agrupación ha redefinido el género desde una perspectiva potente\, diversa y global. Su presencia marcará un hito en el festival y promete una experiencia musical única. \n📅 Día 2 – Jueves 28 de agosto | 🕖 7:00 p.m.\nUna noche dedicada al jazz latinoamericano y global con agrupaciones que fusionan tradición e innovación: \n🎵 Four For Jazz (Perú)🎵 José Macías Quinteto (Chile)🎵 Jan Turkoglu Trío (Turquía) \nInterpretarán obras propias y composiciones de grandes maestros como Alomía Robles (Perú)\, Horace Silver\, Frank Churchill y Larry Morey (EE. UU.) \n                          \n\n Fecha:\nMiércoles 27 y jueves 28 de agosto \n\n\n Hora: \n\n27 de agosto: 12:00 m.\n28 de agosto: 7:00 p.m.\n\n\n\n Lugar:\n\nTeatro (Calle Melgar 109) \n🎟️ Ingreso Libre previo registro.
URL:https://cultural.edu.pe/eventos/festival-internacional-de-jazz-del-centro-cultural-peruano-norteamericano/
LOCATION:Teatro del Cultural\, Calle Melgar 109\, Arequipa\, Arequipa\, 04001\, Perú
CATEGORIES:Artes escénicas,Música,Otro,Presentaciones
ATTACH;FMTTYPE=image/png:https://cultural.edu.pe/wp-content/uploads/2025/07/Web-Cultura1.png
END:VEVENT
END:VCALENDAR