BEGIN:VCALENDAR
VERSION:2.0
PRODID:-//Cultural Arequipa - ECPv6.0.13//NONSGML v1.0//EN
CALSCALE:GREGORIAN
METHOD:PUBLISH
X-ORIGINAL-URL:https://cultural.edu.pe
X-WR-CALDESC:Eventos para Cultural Arequipa
REFRESH-INTERVAL;VALUE=DURATION:PT1H
X-Robots-Tag:noindex
X-PUBLISHED-TTL:PT1H
BEGIN:VTIMEZONE
TZID:America/New_York
BEGIN:DAYLIGHT
TZOFFSETFROM:-0500
TZOFFSETTO:-0400
TZNAME:EDT
DTSTART:20250309T070000
END:DAYLIGHT
BEGIN:STANDARD
TZOFFSETFROM:-0400
TZOFFSETTO:-0500
TZNAME:EST
DTSTART:20251102T060000
END:STANDARD
END:VTIMEZONE
BEGIN:VEVENT
DTSTART;TZID=America/New_York:20250819T172000
DTEND;TZID=America/New_York:20250819T192000
DTSTAMP:20260422T183353
CREATED:20250719T180342Z
LAST-MODIFIED:20250724T052339Z
UID:14296-1755624000-1755631200@cultural.edu.pe
SUMMARY:Segunda Convocatoria: Club de Teatro del Cultural
DESCRIPTION:
URL:https://cultural.edu.pe/eventos/segunda-convocatoria-club-de-teatro-del-cultural/
LOCATION:Teatro del Cultural\, Calle Melgar 109\, Arequipa\, Arequipa\, 04001\, Perú
CATEGORIES:Artes escénicas,Otro,Presentaciones
ATTACH;FMTTYPE=image/png:https://cultural.edu.pe/wp-content/uploads/2025/07/post-8.png
END:VEVENT
END:VCALENDAR