BEGIN:VCALENDAR
VERSION:2.0
PRODID:-//Cultural Arequipa - ECPv6.0.13//NONSGML v1.0//EN
CALSCALE:GREGORIAN
METHOD:PUBLISH
X-ORIGINAL-URL:https://cultural.edu.pe
X-WR-CALDESC:Eventos para Cultural Arequipa
REFRESH-INTERVAL;VALUE=DURATION:PT1H
X-Robots-Tag:noindex
X-PUBLISHED-TTL:PT1H
BEGIN:VTIMEZONE
TZID:America/New_York
BEGIN:DAYLIGHT
TZOFFSETFROM:-0500
TZOFFSETTO:-0400
TZNAME:EDT
DTSTART:20250309T070000
END:DAYLIGHT
BEGIN:STANDARD
TZOFFSETFROM:-0400
TZOFFSETTO:-0500
TZNAME:EST
DTSTART:20251102T060000
END:STANDARD
END:VTIMEZONE
BEGIN:VEVENT
DTSTART;TZID=America/New_York:20250809T090000
DTEND;TZID=America/New_York:20250809T130000
DTSTAMP:20260422T182756
CREATED:20250719T181730Z
LAST-MODIFIED:20250726T175055Z
UID:14300-1754730000-1754744400@cultural.edu.pe
SUMMARY:Taller: Del juego a la palabra\, de la palabra al textil
DESCRIPTION:🧶 ¡Una experiencia para educar desde el arte! ✨\nEste taller vivencial y creativo está dirigido a docentes\, estudiantes de pedagogía y público interesado en explorar nuevas formas de expresión con infancias y juventudes. \nA través del juego\, el cuerpo\, la imaginación y los textiles\, los participantes descubrirán herramientas para desarrollar sesiones lúdicas de narración con un enfoque sensible y transformador. \n✨ Objetivo\nBrindar conocimientos y herramientas necesarias para realizar sesiones de juego y narración con niños\, niñas y adolescentes\, desde una metodología vivencial\, reflexiva y de construcción colectiva. \n👤 Sobre el facilitador\nLenin Luis (Perú)\, actor y narrador oral textil. Desde 2003 impulsa el proyecto “Lenin Hijo de la Luna”\, dedicado a sensibilizar a chicos y grandes a través de los cuentos. \nHa participado en festivales internacionales\, dictado talleres y desarrollado una línea de investigación sobre la narración de cuentos a través de tapetes y prendas textiles desde 2015. \nEs facilitador en proyectos de Fomento a la Lectura del Ministerio de Educación del Perú. \n                          \n🧠 Contenidos\n\nHabitar el espacio de juego\nReconocimiento y manejo del esquema corporal\nEspacio\, ritmo y sensibilización mediante objetos\nDesarrollo de la imaginación\nLa palabra como medio de expresión\nDesmontaje de una función de narración textil\n\n                          \n🔧 Metodología y forma de trabajo\nEl taller será práctico y participativo\, desarrollado en un espacio amplio y ventilado\, con sillas dispuestas alrededor.Requisitos: asistir con ropa cómoda y traer: \n\nHojas de papel\nLápiz y borrador\nLápices de colores o crayolas\n\n                          \n💵 Costo\n\nPúblico en general: S/ 30.00\nColegios asociados: S/ 20.00(Pago vía transferencia bancaria)\n\n📲  Informes: 956 320 905 \n📩  Inscripciones: biblioteca@cultural.edu.pe \n                          \n\n Fecha:\nSábado 9 de agosto \n\n\n Hora: \nDe 9:00 a.m. a 1:00 p.m. \n\n\n Lugar:\n\nTeatro (Calle Melgar 109) \n🎟️ Venta de entradas por transferencia
URL:https://cultural.edu.pe/eventos/taller-del-juego-a-la-palabra-de-la-palabra-al-textil/
LOCATION:Teatro del Cultural\, Calle Melgar 109\, Arequipa\, Arequipa\, 04001\, Perú
CATEGORIES:Artes escénicas,Música,Otro,Presentaciones
ATTACH;FMTTYPE=image/png:https://cultural.edu.pe/wp-content/uploads/2025/07/post-3.png
END:VEVENT
BEGIN:VEVENT
DTSTART;TZID=America/New_York:20250809T160000
DTEND;TZID=America/New_York:20250809T170000
DTSTAMP:20260422T182756
CREATED:20250719T182750Z
LAST-MODIFIED:20250724T051608Z
UID:14307-1754755200-1754758800@cultural.edu.pe
SUMMARY:Cuentacuentos Textil: "Cuentos que sopla el viento"
DESCRIPTION:🧶 ¡Historias que viajan entre hilos y generaciones! ✨\nAcompáñanos en una experiencia única de narración textil junto a Lenin Hijo de la Luna\, donde los cuentos ancestrales cobran vida a través de telas\, texturas y memorias compartidas. \n“El viento al soplar lleva las voces de los ancestros\, que atraviesan el tiempo y se transforman en relatos que viajan de generación en generación.” \nEstas historias se tejen con el hilo de la memoria y se hilvanan con retazos coloridos para dar forma al espectáculo de narración textil “Cuentos que sopla el viento”\, un homenaje vivo a la tradición oral. \n🎯 Propósito del espectáculoPreservar los cuentos que forman parte de nuestra herencia cultural y literaria\, fomentando su transmisión como parte vital de nuestra memoria colectiva. \n🧒👵 Apto para toda la familiaIdeal para disfrutar con niños\, jóvenes y adultos en una tarde mágica llena de imaginación y sensibilidad. \n\n Fecha:\nSábado 9 de agosto \n\n\n Hora: \nDe 4:00 p.m. a 5:00 p.m. \n\n\n Lugar:\n\nTeatro (Calle Melgar 109) \n🎟️ Ingreso Libre*
URL:https://cultural.edu.pe/eventos/cuentacuentos-textil-cuentos-que-sopla-el-viento/
LOCATION:Teatro del Cultural\, Calle Melgar 109\, Arequipa\, Arequipa\, 04001\, Perú
CATEGORIES:Artes escénicas,Música,Otro,Presentaciones
ATTACH;FMTTYPE=image/png:https://cultural.edu.pe/wp-content/uploads/2025/07/post-6.png
END:VEVENT
END:VCALENDAR