BEGIN:VCALENDAR
VERSION:2.0
PRODID:-//Cultural Arequipa - ECPv6.0.13//NONSGML v1.0//EN
CALSCALE:GREGORIAN
METHOD:PUBLISH
X-WR-CALNAME:Cultural Arequipa
X-ORIGINAL-URL:https://cultural.edu.pe
X-WR-CALDESC:Eventos para Cultural Arequipa
REFRESH-INTERVAL;VALUE=DURATION:PT1H
X-Robots-Tag:noindex
X-PUBLISHED-TTL:PT1H
BEGIN:VTIMEZONE
TZID:America/New_York
BEGIN:DAYLIGHT
TZOFFSETFROM:-0500
TZOFFSETTO:-0400
TZNAME:EDT
DTSTART:20250309T070000
END:DAYLIGHT
BEGIN:STANDARD
TZOFFSETFROM:-0400
TZOFFSETTO:-0500
TZNAME:EST
DTSTART:20251102T060000
END:STANDARD
END:VTIMEZONE
BEGIN:VEVENT
DTSTART;TZID=America/New_York:20250711T190000
DTEND;TZID=America/New_York:20250711T190000
DTSTAMP:20260422T193002
CREATED:20250618T112951Z
LAST-MODIFIED:20250626T164811Z
UID:14130-1752260400-1752260400@cultural.edu.pe
SUMMARY:Conversatorio con Carlos "Carlín" Tóvar  y Omar Zevallos
DESCRIPTION:🎨 ¡Una mirada profunda al arte de la caricatura! ✨\nDos referentes del humor gráfico nacional se reúnen en un conversatorio imperdible. Carlos Tovar “Carlín” y Omar Zevallos compartirán sus miradas sobre el poder de la caricatura\, su trayectoria y cómo el humor se convierte en una herramienta crítica en nuestra sociedad. \n👨‍🎨 Sobre Carlos «Carlín» Tovar:\nCarlos Tovar Samanez\, Carlín\, es arquitecto\, diseñador\, caricaturista y filósofo. Se graduó de arquitecto en la Universidad Nacional de Ingeniería\, estudió diseño gráfico e ilustración en la École Nationale d’Arts Décoratifs\, en París\, y es magíster en filosofía por la Universidad de San Marcos. Ganó la bienal del humor Perú Ríe en 1984. Ha obtenido importantes premios como diseñador gráfico. Es autor del logotipo de la Comisión de la Verdad y Reconciliación. Fue miembro de Monos y monadas y El idiota ilustrado. Actualmente es caricaturista del diario La República. Ha publicado varios libros de caricaturas\, el último de los cuales se titula Lo peor de Carlín (2017). En 1989\, con Técnica del dibujo y de la caricatura\, texto didáctico con ilustraciones\, debutó como escritor. Ha sido galardonado con varios premios. \n👨‍🎨 Sobre Omar Zevallos:\nNació en Arequipa en 1958. Ejerce el periodismo desde hace más de cuarenta años como editor de suplementos en los diarios Correo y Expreso. En los últimos quince años\, ha dedicado mucho tiempo a la investigación periodística y a escribir crónicas como freelance. En el 2010\, publicó el libro Trazos y risas\, los caricaturistas arequipeños (GRA – Cuzzi Editores); tres años después\, Los acuarelistas arequipeños 1840-1940 (GRA/Cuzzi Editores). En el 2016\, publicó el libro La Pinacoteca del Museo Municipal de Arequipa Guillermo Zegarra Meneses (Caja Arequipa). Publicó en el 2019 el libro Hemingway desconocido\, cuatro crónicas desconocidas sobre el escritor en el Perú y el mundo (Penguin Random House). En el 2023\, ha publicado El arte de tragar sapos (Memoria Editorial). Actualmente\, tiene una columna de opinión en el diario Correo. Es miembro del Consejo Directivo del Instituto Quevedo para las Artes del Humor en Alcalá de Henares\, España. \n\n Fecha:\nviernes 11 de julio \n\n\n Hora: \n7: 00 p.m. \n\n\n Lugar:\n\nAuditorio (Calle Melgar 109) \n🎟️ Ingreso Libre
URL:https://cultural.edu.pe/eventos/conversatorio-con-carlos-tovar-carlin-y-omar-zevallos/
LOCATION:Auditorio del Cultural\, Calle Melgar 109\, Arequipa\, Arequipa\, 04001\, Perú
CATEGORIES:Otro,Presentaciones
ATTACH;FMTTYPE=image/png:https://cultural.edu.pe/wp-content/uploads/2025/06/conversatorio-web.png
END:VEVENT
END:VCALENDAR