BEGIN:VCALENDAR
VERSION:2.0
PRODID:-//Cultural Arequipa - ECPv6.0.13//NONSGML v1.0//EN
CALSCALE:GREGORIAN
METHOD:PUBLISH
X-ORIGINAL-URL:https://cultural.edu.pe
X-WR-CALDESC:Eventos para Cultural Arequipa
REFRESH-INTERVAL;VALUE=DURATION:PT1H
X-Robots-Tag:noindex
X-PUBLISHED-TTL:PT1H
BEGIN:VTIMEZONE
TZID:America/New_York
BEGIN:DAYLIGHT
TZOFFSETFROM:-0500
TZOFFSETTO:-0400
TZNAME:EDT
DTSTART:20250309T070000
END:DAYLIGHT
BEGIN:STANDARD
TZOFFSETFROM:-0400
TZOFFSETTO:-0500
TZNAME:EST
DTSTART:20251102T060000
END:STANDARD
END:VTIMEZONE
BEGIN:VEVENT
DTSTART;TZID=America/New_York:20251030T180000
DTEND;TZID=America/New_York:20251030T203000
DTSTAMP:20260422T145247
CREATED:20251016T142555Z
LAST-MODIFIED:20251016T195856Z
UID:14950-1761847200-1761856200@cultural.edu.pe
SUMMARY:"Recital de piano"
DESCRIPTION:🎹 Recital de Piano 🎶\n¡Te invitamos a disfrutar de una noche llena de música y talento! 🎶Ven a celebrar el arte del piano en un recital donde la pasión\, la técnica y la emoción se encuentran sobre el escenario. 🌟🎵 \n✨ Sobre el recitalBajo la dirección de la maestra Pilar Lopera Quintanilla\, los estudiantes de los últimos años de la carrera profesional interpretarán un repertorio académico que resalta la excelencia y la sensibilidad de la formación artística. 🎶 \nParticipan:🎵 Gabriel Ortiz Diez Canseco🎵 Nicolle Meléndez🎵 Mariel Dueñas Ccuno🎵 Gianella Sullo Romano🎵 Bryan Estremadoyro \n🎼 Organiza:Escuela Profesional de Artes de la Universidad Nacional de San Agustín de Arequipa \n🤝 PatrocinaCentro Cultural Peruano Norteamericano \n📍 Lugar\nTeatro – Centro Cultural Peruano Norteamericano \n📅 Fecha\nJueves 30 de octubre \n⏰ Hora\n6:00 p.m. \nUna velada para dejarse llevar por la belleza del piano y celebrar el talento de los jóvenes intérpretes que dan vida a la música con cada nota. 🎼✨ \n¡No te lo pierdas! 🎹💖
URL:https://cultural.edu.pe/eventos/recital-de-piano/
LOCATION:Teatro del Cultural\, Calle Melgar 109\, Arequipa\, Arequipa\, 04001\, Perú
CATEGORIES:Música,Otro
ATTACH;FMTTYPE=image/png:https://cultural.edu.pe/wp-content/uploads/2025/10/Post-Recital-de-trabajo-1.png
END:VEVENT
BEGIN:VEVENT
DTSTART;TZID=America/New_York:20251031T190000
DTEND;TZID=America/New_York:20251031T203000
DTSTAMP:20260422T145247
CREATED:20251003T152958Z
LAST-MODIFIED:20251003T171232Z
UID:14889-1761937200-1761942600@cultural.edu.pe
SUMMARY:Concierto: "La Gran Jarana Criolla"
DESCRIPTION:🎶 La Gran Jarana Criolla\n🎼Un viaje por nuestra historia\n🎤 Con motivo del Día de la Canción Criolla\, el Teatro del Centro Cultural se llena de música\, tradición y alegría para rendir homenaje al criollismo peruano y a su herencia sonora. \nEl vals\, el cajón y la guitarra serán los protagonistas de una velada que conecta generaciones y mantiene vivo un legado cultural que sigue emocionando. En esta ocasión\, el maestro Víctor Marín regresa con entusiasmo y nuevas propuestas\, en un espectáculo que reúne relatos y canciones de ayer y hoy\, en homenaje a nuestra identidad musical. \n🎼 Participaciones especiales\nLa noche contará con la presencia de jóvenes talentos acompañados por Víctor Marín y Huaco Negro\, además de invitados de lujo: \n\n\nFlor Ruiz y su saxo criollo 🎷 \n\n\nLuz de Fátima Trillo\, destacada cantante arequipeña 🎤 \n\n\nEl elenco Estampa Criolla 💃 \n\n\nLuis Guío · Mitsuo Cobinos · Óscar Vargas · Sandro Sacco \n\n\nShirley y Eduardo \n\n\nCoro Polifónico \n\n\nDirección musical a cargo de Giordan Ortiz Cruz. \n🎼 Organiza:Víctor Marín y Huaco Negro \n🤝 PatrocinaCentro Cultural Peruano Norteamericano \n📍 Lugar\nTeatro – Centro Cultural Peruano Norteamericano \n📅 Fecha\nViernes 31 de octubre \n⏰ Hora\n7:00 p.m. \n¡Ven y celebra con nosotros la fuerza y alegría del criollismo peruano! 🎤
URL:https://cultural.edu.pe/eventos/concierto-la-gran-fiesta-criolla/
LOCATION:Teatro del Cultural\, Calle Melgar 109\, Arequipa\, Arequipa\, 04001\, Perú
CATEGORIES:Música,Otro
ATTACH;FMTTYPE=image/jpeg:https://cultural.edu.pe/wp-content/uploads/2025/10/La-jarana-criolla-Web.jpg
END:VEVENT
END:VCALENDAR