BEGIN:VCALENDAR
VERSION:2.0
PRODID:-//Cultural Arequipa - ECPv6.0.13//NONSGML v1.0//EN
CALSCALE:GREGORIAN
METHOD:PUBLISH
X-ORIGINAL-URL:https://cultural.edu.pe
X-WR-CALDESC:Eventos para Cultural Arequipa
REFRESH-INTERVAL;VALUE=DURATION:PT1H
X-Robots-Tag:noindex
X-PUBLISHED-TTL:PT1H
BEGIN:VTIMEZONE
TZID:America/New_York
BEGIN:DAYLIGHT
TZOFFSETFROM:-0500
TZOFFSETTO:-0400
TZNAME:EDT
DTSTART:20250309T070000
END:DAYLIGHT
BEGIN:STANDARD
TZOFFSETFROM:-0400
TZOFFSETTO:-0500
TZNAME:EST
DTSTART:20251102T060000
END:STANDARD
END:VTIMEZONE
BEGIN:VEVENT
DTSTART;TZID=America/New_York:20250705T100000
DTEND;TZID=America/New_York:20250705T100000
DTSTAMP:20260422T181720
CREATED:20250618T113958Z
LAST-MODIFIED:20250703T173354Z
UID:14136-1751709600-1751709600@cultural.edu.pe
SUMMARY:Títeres en la Biblioteca del Cultural
DESCRIPTION:🧸«Imaginación\, amistad y descubrimiento»✨\nPor motivo del 4 de julio\, se presentará una divertida historia elaborada con materiales reciclados\, donde Benny\, una ardilla curiosa\, y Jelly\, un mapache entusiasta\, creen haber descubierto el invento del siglo: una deliciosa combinación que se ha convertido en toda una costumbre americana. Con ingenio y humor\, esta obra nos invita a valorar la creatividad\, la amistad y el juego compartido. Un espectáculo ideal para las infancias\, que culminará con un pequeño compartir. \n🎭 Sobre la actividad:\nEste show de títeres es una creación original de la Biblioteca del Cultural\, dirigido a niños y niñas de 6 a 10 años. La función tiene una duración de 60 minutos y un aforo máximo de 30 asistentes. Se recomienda puntualidad para disfrutar de la experiencia completa. Al finalizar\, se realizará un compartir con los asistentes. \n\n Fecha:\nsábado 5 de julio \n\n\n Hora: \n10: 00 a.m. \n\n\n Lugar:\n\nBiblioteca (Calle Melgar 109) \n🎟️ Ingreso Libre hasta completar aforo
URL:https://cultural.edu.pe/eventos/titeres-en-la-biblioteca-del-cultural/
LOCATION:Biblioteca del Cultural\, Calle Melgar 109\, Arequipa\, Arequipa\, 04001\, Perú
CATEGORIES:Otro,Presentaciones
ATTACH;FMTTYPE=image/png:https://cultural.edu.pe/wp-content/uploads/2025/06/titeres-web.png
END:VEVENT
BEGIN:VEVENT
DTSTART;TZID=America/New_York:20250710T180000
DTEND;TZID=America/New_York:20250710T180000
DTSTAMP:20260422T181720
CREATED:20250618T112143Z
LAST-MODIFIED:20250704T173543Z
UID:14124-1752170400-1752170400@cultural.edu.pe
SUMMARY:Documental: "Locas Mujeres"
DESCRIPTION:✍️ «Historia\, cultura y memoria» 📖 \nEn el marco de los 80 años del Premio Nobel de Literatura otorgado a Gabriela Mistral\, el Consulado General de Chile en Arequipa presenta este valioso documental que busca destacar la dimensión más íntima y humana de la escritora chilena. \n“Locas Mujeres”\, es un largometraje documental que explora el mundo interior de la poeta chilena Gabriela Mistral y su relación amorosa con la norteamericana Doris Dana. \n📝 Sinopsis:\nGabriela Mistral conoce a Doris Dana cuando cree que ya lo único que le queda es morir. La artista ha ganado el Premio Nobel\, pero no se sobrepone a la gran tragedia de su vida: el suicidio de su único hijo Yin Yin. En Doris\, Gabriela encuentra lo que siempre le fue esquivo\, amar y sentirse amada. Con ella forma una familia y un hogar en Roslyn\, Long Island. Consciente de que su compañera pronto ya no estará\, Doris registra las conversaciones con Gabriela y los amigos que llegan a la casa. Esas grabaciones son nuestra llave de acceso al universo afectivo de una mujer que vive en permanente tensión con sus demonios internos y cuya sensibilidad y ambición la convierten en protagonista de su época. \n“Locas Mujeres”\, es la historia íntima y desconocida de Gabriela Mistral\, de los sucesos que remecieron su vida de adulta y la transformaron como ser humano y como poeta. Es la Gabriela en la cúspide de su creación\, la que escribe Lagar y Locas Mujeres. \n👩 Sobre la directora:\nRealizadora de documentales\, dirigió el filme La hija del general\, sobre la historia de vida de la primera mujer Presidenta de Chile\, Michelle Bachelet. Fue productora ejecutiva de programas periodísticos y documentales en la televisión pública chilena\, entre ellos la serie documental Nuestro Siglo\, sobre la historia de Chile y los chilenos durante el siglo 20 (Premio al mejor programa de televisión realizado con archivos en Viena\, Austria\, 2001). Directora de la trilogía de mediometrajes documentales “Jallalla”\, “Mamiña”\, “Macaya”\, sobre la recuperación de las iglesias destruidas por el terremoto del año 2005 en el norte de Chile. LOCASMUJERES es su segundo largometraje documental. \n\n Fecha:\njueves 10 de julio \n\n\n Hora: \n6: 00 p.m. \n\n\n Lugar:\n\nTeatro (Calle Melgar 109) \n🎟️ Ingreso Libre
URL:https://cultural.edu.pe/eventos/documental-locas-mujeres/
LOCATION:Teatro del Cultural\, Calle Melgar 109\, Arequipa\, Arequipa\, 04001\, Perú
CATEGORIES:Cine,Otro,Presentaciones
ATTACH;FMTTYPE=image/png:https://cultural.edu.pe/wp-content/uploads/2025/06/locas-mujeres-web.png
END:VEVENT
BEGIN:VEVENT
DTSTART;TZID=America/New_York:20250711T190000
DTEND;TZID=America/New_York:20250711T190000
DTSTAMP:20260422T181720
CREATED:20250618T112951Z
LAST-MODIFIED:20250626T164811Z
UID:14130-1752260400-1752260400@cultural.edu.pe
SUMMARY:Conversatorio con Carlos "Carlín" Tóvar  y Omar Zevallos
DESCRIPTION:🎨 ¡Una mirada profunda al arte de la caricatura! ✨\nDos referentes del humor gráfico nacional se reúnen en un conversatorio imperdible. Carlos Tovar “Carlín” y Omar Zevallos compartirán sus miradas sobre el poder de la caricatura\, su trayectoria y cómo el humor se convierte en una herramienta crítica en nuestra sociedad. \n👨‍🎨 Sobre Carlos «Carlín» Tovar:\nCarlos Tovar Samanez\, Carlín\, es arquitecto\, diseñador\, caricaturista y filósofo. Se graduó de arquitecto en la Universidad Nacional de Ingeniería\, estudió diseño gráfico e ilustración en la École Nationale d’Arts Décoratifs\, en París\, y es magíster en filosofía por la Universidad de San Marcos. Ganó la bienal del humor Perú Ríe en 1984. Ha obtenido importantes premios como diseñador gráfico. Es autor del logotipo de la Comisión de la Verdad y Reconciliación. Fue miembro de Monos y monadas y El idiota ilustrado. Actualmente es caricaturista del diario La República. Ha publicado varios libros de caricaturas\, el último de los cuales se titula Lo peor de Carlín (2017). En 1989\, con Técnica del dibujo y de la caricatura\, texto didáctico con ilustraciones\, debutó como escritor. Ha sido galardonado con varios premios. \n👨‍🎨 Sobre Omar Zevallos:\nNació en Arequipa en 1958. Ejerce el periodismo desde hace más de cuarenta años como editor de suplementos en los diarios Correo y Expreso. En los últimos quince años\, ha dedicado mucho tiempo a la investigación periodística y a escribir crónicas como freelance. En el 2010\, publicó el libro Trazos y risas\, los caricaturistas arequipeños (GRA – Cuzzi Editores); tres años después\, Los acuarelistas arequipeños 1840-1940 (GRA/Cuzzi Editores). En el 2016\, publicó el libro La Pinacoteca del Museo Municipal de Arequipa Guillermo Zegarra Meneses (Caja Arequipa). Publicó en el 2019 el libro Hemingway desconocido\, cuatro crónicas desconocidas sobre el escritor en el Perú y el mundo (Penguin Random House). En el 2023\, ha publicado El arte de tragar sapos (Memoria Editorial). Actualmente\, tiene una columna de opinión en el diario Correo. Es miembro del Consejo Directivo del Instituto Quevedo para las Artes del Humor en Alcalá de Henares\, España. \n\n Fecha:\nviernes 11 de julio \n\n\n Hora: \n7: 00 p.m. \n\n\n Lugar:\n\nAuditorio (Calle Melgar 109) \n🎟️ Ingreso Libre
URL:https://cultural.edu.pe/eventos/conversatorio-con-carlos-tovar-carlin-y-omar-zevallos/
LOCATION:Auditorio del Cultural\, Calle Melgar 109\, Arequipa\, Arequipa\, 04001\, Perú
CATEGORIES:Otro,Presentaciones
ATTACH;FMTTYPE=image/png:https://cultural.edu.pe/wp-content/uploads/2025/06/conversatorio-web.png
END:VEVENT
BEGIN:VEVENT
DTSTART;TZID=America/New_York:20250712T090000
DTEND;TZID=America/New_York:20250712T103000
DTSTAMP:20260422T181720
CREATED:20250702T160454Z
LAST-MODIFIED:20250708T164431Z
UID:14231-1752310800-1752316200@cultural.edu.pe
SUMMARY:Charla: De Perú a las estrellas con la Dra. Aracely Quispe 🇵🇪🎆
DESCRIPTION:🌟 ¡Inspírate con una historia que rompe barreras! 🌟 \nEn esta charla\, la destacada Dra. Aracelly Quispe compartirá su experiencia de vida\, contando cómo el dominio del inglés abrió las puertas para cumplir sus sueños en Estados Unidos y llegar a trabajar en el prestigioso Space Telescope Science Institute\, vinculado al poderoso Telescopio Webb. 🔭 \nConoce de primera mano los desafíos que superó\, las oportunidades que encontró gracias al idioma\, y cómo la perseverancia puede llevarte más allá de las estrellas. 🙌🏼 \n👩🏼‍🚀 Conoce más de la Dra. Aracely Quispe Neira: \n“Siempre he creído que todos podemos. No importa quién eres\, de dónde vienes o tu condición social” … “Si yo pude\, tú también puedes”. Desde pequeña mostró un profundo interés por la ciencia y las estrellas\, alimentando su sueño de alcanzar el cielo. \nAracely Quispe es ingeniera astronáutica\, científica\, profesora universitaria y la primera mujer latinoamericana en liderar tres misiones de la NASA\, incluyendo el innovador y multimillonario Telescopio James Webb. \nCon siete grados académicos\, ha dedicado su carrera a desafiar los límites de la exploración espacial y contribuir al avance de la tecnología aeroespacial. Su compromiso con la educación STEM y el liderazgo femenino la llevó a fundar AQN y SPACETECH Inspira\, iniciativas con las que ha impactado a más de 15\,000 jóvenes en América y el mundo. \n🚨 No te pierdas esta oportunidad de motivarte y descubrir hasta dónde puede llevarte el inglés. \n📅 Fecha y hora: 12 de julio – 9:00 a.m.📍 Lugar: Teatro del Cultural \nRegistra tu participación aquí 👉🏼: https://forms.gle/iSao4JyH6NoedjBJA \n¡Te esperamos! 🚀
URL:https://cultural.edu.pe/eventos/charla-de-peru-a-las-estrellas-%f0%9f%87%b5%f0%9f%87%aa%f0%9f%8e%86/
LOCATION:Teatro del Cultural\, Calle Melgar 109\, Arequipa\, Arequipa\, 04001\, Perú
CATEGORIES:Otro
ATTACH;FMTTYPE=image/png:https://cultural.edu.pe/wp-content/uploads/2025/07/Evento-Astronauta-Web-1.png
ORGANIZER;CN="Cultural":MAILTO:cultura@cultural.edu.pe
END:VEVENT
BEGIN:VEVENT
DTSTART;TZID=America/New_York:20250717T190000
DTEND;TZID=America/New_York:20250717T190000
DTSTAMP:20260422T181720
CREATED:20250618T201603Z
LAST-MODIFIED:20250618T201603Z
UID:14187-1752778800-1752778800@cultural.edu.pe
SUMMARY:Conversatorio con Liese Ricketts\, con ocasión de la muestra "La Peregrina Curiosa"
DESCRIPTION:🖼️ ¡Vivencias y reflexiones de una artista única! ✨\nA Liese Ricketts le ha tomado años comprender cómo su amor por la arqueología\, la fotografía\, su obsesión por la genealogía y sus antepasados muertos se han entrelazado en su imaginación para fluir en su proceso creativo. En este conversatorio\, la artista compartirá vivencias y reflexiones sobre estos temas y otros vinculados con su quehacer artístico. \n👩 Sobre la Artista:\n🎓 Experiencia Académica \n\n1999: Certificado de Primer Año\, Programa de Publicaciones\, Universidad de Chicago.\n1986 – 1988: Maestría en Bellas Artes (M.F.A.)\, School of the Art Institute of Chicago\, Chicago\, IL.\n1983 – 1985: Maestría en Comunicaciones Mediáticas\, Governors State University\, University Park\, IL.\n1966 – 1970: Licenciatura en Letras Clásicas\, magna cum laude\, Manhattanville College\, Purchase\, NY.\n1968 – 1969: Universidad de Stanford\, Centro Intercolegial de Estudios Clásicos\, Roma\, Italia.\n\n💼 Experiencia Profesional \n\n2023: Inclusión en el Departamento de Colecciones Especiales y Archivos Universitarios de las Bibliotecas de UMass Amherst.\nSeptiembre 1988 – 2014: Profesora Emérita\, University of Chicago Laboratory Schools.\n1992 – 2000: Directora de Talleres\, Paper Source Chicago.\n1998 – 2003: Diseñadora y Editora de Nota Bene\, revista profesional de la Universidad de Chicago.\n1997 – 2000: Profesora a tiempo parcial\, Columbia College\, Centro de Artes del Libro y del Papel.\nJulio 1991 – 1993: Profesora a tiempo parcial\, School of the Art Institute of Chicago.\nJunio 1986 – Septiembre 1988: Profesora a tiempo parcial\, Prairie State College\, Chicago Heights\, IL.\nEnero 1987 – Mayo 1987: Profesora a tiempo parcial\, Valparaiso University\, Valparaiso\, IN.\nJunio 1983 – Junio 2006: Editora Asociada y Coordinadora de Producción para especiales de PBS-TV y redes de cable en Marz and Associates\, Chicago\, IL. Con créditos televisivos nacionales por su trabajo en documentales como:\n\nLittle Mexico (2006)\nA Home I Had (1986)\nRussia: Love It or Leave It (1986)\nPortrait of America: Washington\, DC (1986)\nWhite Oak Goes Black (1985)\nWelcome to America (1985)\nBlack Pols\, White Press (1984)\nJewish Mother (1984)\nAdemás de fotografías publicitarias para White Oak Goes Black (1984) y Russia: Love It or Leave It (1984).\n\n\n1985: Exposición fotográfica por encargo\, Indiana Dunes National Lakeshore\, Indiana.\n1980 – 1983: Directora del Instituto Cultural Peruano Norteamericano\, Arequipa\, Perú\, supervisando clases de inglés para más de 2\,000 estudiantes y la coordinación administrativa de 70 empleados.\n1977 – 1980: Colegio Angloamericano Prescott\, Arequipa\, Perú.\n\n\n Fecha:\njueves 17 de julio \n\n\n Hora: \n7: 00 p.m. \n\n\n Lugar:\n\nAuditorio (Calle Melgar 109) \n🎟️ Ingreso Libre
URL:https://cultural.edu.pe/eventos/conversatorio-con-liese-ricketts-con-ocasion-de-la-muestra-la-peregrina-curiosa/
LOCATION:Auditorio del Cultural\, Calle Melgar 109\, Arequipa\, Arequipa\, 04001\, Perú
CATEGORIES:Otro,Presentaciones
ATTACH;FMTTYPE=image/png:https://cultural.edu.pe/wp-content/uploads/2025/06/conversatorio-2-web.png
END:VEVENT
BEGIN:VEVENT
DTSTART;TZID=America/New_York:20250721T190000
DTEND;TZID=America/New_York:20250721T190000
DTSTAMP:20260422T181720
CREATED:20250618T115119Z
LAST-MODIFIED:20250618T195207Z
UID:14143-1753124400-1753124400@cultural.edu.pe
SUMMARY:Presentación del club de Teatro del Cultural: "El maleficio de la mariposa"
DESCRIPTION:🎭 ¡De la palabra al escenario: el debut del Club de Teatro! 🔥\nEl Club de Teatro del Cultural alza el telón con su primera presentación oficial\, interpretando una joya de la dramaturgia: El maleficio de la mariposa\, la primera obra teatral escrita por el gran poeta español Federico García Lorca. \nEn esta delicada y simbólica fábula\, los personajes son insectos que encarnan las emociones humanas con ternura y profundidad. Una comunidad de cucarachas se ve conmovida por la llegada de una mariposa herida\, que despertará el amor y la transformación en Curianito\, un insecto poeta rechazado por los suyos. \nUna historia sobre la belleza\, la diferencia\, la sensibilidad y los amores imposibles\, contada desde la fuerza del teatro juvenil. \n👨 Dirige:\nJota Mirman \n🎬 A cargo de:\nClub de Teatro del Cultural \n\n Fecha:\nlunes 21 de julio \n\n\n Hora: \n7: 00 p.m. \n\n\n Lugar:\n\nTeatro (Calle Melgar 109) \n🎟️ Ingreso Libre
URL:https://cultural.edu.pe/eventos/presentacion-del-club-de-teatro-del-cultural-el-maleficio-de-la-mariposa/
LOCATION:Teatro del Cultural\, Calle Melgar 109\, Arequipa\, Arequipa\, 04001\, Perú
CATEGORIES:Artes escénicas,Otro,Presentaciones
ATTACH;FMTTYPE=image/png:https://cultural.edu.pe/wp-content/uploads/2025/06/teatro-web.png
END:VEVENT
BEGIN:VEVENT
DTSTART;TZID=America/New_York:20250724T190000
DTEND;TZID=America/New_York:20250724T190000
DTSTAMP:20260422T181720
CREATED:20250618T120407Z
LAST-MODIFIED:20250618T180116Z
UID:14147-1753383600-1753383600@cultural.edu.pe
SUMMARY:Concierto: "Raíces y Resonancias\, un viaje musical desde la tradición al mundo contemporáneo"
DESCRIPTION:🎶 ¡Un viaje sonoro desde los Andes al mundo! ✨\nEl proyecto Raíces y Resonancias: Un viaje musical desde la tradición al mundo contemporáneo reúne al dúo conformado por la violonchelista alemana Nicole Wiebe y el guitarrista arequipeño Jorge Herrera Santander\, quienes estrenarán obras inéditas compuestas especialmente para esta ocasión por destacados compositores peruanos. \nDesde su debut en el Festival Hamburg-Dialogues (Alemania\, 2021)\, Wiebe y Herrera han cultivado una conexión artística singular que ahora se presenta por primera vez en Arequipa. Una velada para descubrir nuevos sonidos y estrechar lazos entre culturas a través de la música. \n\n Fecha:\njueves 24 de julio \n\n\n Hora: \n7: 00 p.m. \n\n\n Lugar:\n\nTeatro (Calle Melgar 109) \n🎟️ Ingreso Libre
URL:https://cultural.edu.pe/eventos/concierto-raices-y-resonancias-un-viaje-musical-desde-la-tradicion-al-mundo-contemporaneo/
LOCATION:Teatro del Cultural\, Calle Melgar 109\, Arequipa\, Arequipa\, 04001\, Perú
CATEGORIES:Música,Otro,Presentaciones
ATTACH;FMTTYPE=image/png:https://cultural.edu.pe/wp-content/uploads/2025/06/concierto-1-web.png
END:VEVENT
BEGIN:VEVENT
DTSTART;TZID=America/New_York:20250731T190000
DTEND;TZID=America/New_York:20250731T190000
DTSTAMP:20260422T181720
CREATED:20250618T121925Z
LAST-MODIFIED:20250618T193447Z
UID:14153-1753988400-1753988400@cultural.edu.pe
SUMMARY:Concierto: "Ecos de Chopin en el Alma de España"
DESCRIPTION:🎶 ¡Romanticismo y pasión por la música en un solo concierto! ✨\nEste evento propone un diálogo musical entre las obras de Frédéric Chopin y composiciones españolas\, incluyendo estrenos del reconocido pianista y compositor español\, Ramón Grau Perales. \nEl programa busca tender puentes entre la tradición musical europea y la riqueza artística española\, ofreciendo al público una experiencia única que fusiona el romanticismo de Chopin con la pasión y el carácter de la música española. Además del concierto\, el maestro Grau Perales impartirá clases magistrales en la Universidad Nacional de San Agustín de Arequipa y en el Conservatorio Luis Dunker Lavalle\, brindando a los estudiantes de música la oportunidad de aprender de primera mano de un artista de trayectoria internacional. \n\n Fecha:\njueves 31 de julio \n\n\n Hora: \n7: 00 p.m. \n\n\n Lugar:\n\nTeatro (Calle Melgar 109) \n🎟️ Ingreso Libre
URL:https://cultural.edu.pe/eventos/concierto-ecos-de-chopin-en-el-alma-de-espana/
LOCATION:Teatro del Cultural\, Calle Melgar 109\, Arequipa\, Arequipa\, 04001\, Perú
CATEGORIES:Música,Otro,Presentaciones
ATTACH;FMTTYPE=image/png:https://cultural.edu.pe/wp-content/uploads/2025/06/concierto-2-web.png
END:VEVENT
END:VCALENDAR