BEGIN:VCALENDAR
VERSION:2.0
PRODID:-//Cultural Arequipa - ECPv6.0.13//NONSGML v1.0//EN
CALSCALE:GREGORIAN
METHOD:PUBLISH
X-WR-CALNAME:Cultural Arequipa
X-ORIGINAL-URL:https://cultural.edu.pe
X-WR-CALDESC:Eventos para Cultural Arequipa
REFRESH-INTERVAL;VALUE=DURATION:PT1H
X-Robots-Tag:noindex
X-PUBLISHED-TTL:PT1H
BEGIN:VTIMEZONE
TZID:America/New_York
BEGIN:DAYLIGHT
TZOFFSETFROM:-0500
TZOFFSETTO:-0400
TZNAME:EDT
DTSTART:20260308T070000
END:DAYLIGHT
BEGIN:STANDARD
TZOFFSETFROM:-0400
TZOFFSETTO:-0500
TZNAME:EST
DTSTART:20261101T060000
END:STANDARD
END:VTIMEZONE
BEGIN:VEVENT
DTSTART;TZID=America/New_York:20260420T083000
DTEND;TZID=America/New_York:20260424T173000
DTSTAMP:20260423T072158
CREATED:20260330T194520Z
LAST-MODIFIED:20260330T194616Z
UID:15699-1776673800-1777051800@cultural.edu.pe
SUMMARY:📚 Exposición bibliográfica por el Día Mundial del Libro
DESCRIPTION:📚 Exposición bibliográfica por el Día Mundial del Libro\n✨ Celebramos la lectura y la palabra \nEn el marco del Día Mundial del Libro y del Derecho de Autor y el Día del Idioma Español\, el Centro Cultural Peruano Norteamericano presenta una exposición bibliográfica especial ✨📖. \nEsta fecha conmemora a grandes referentes de la literatura universal como Miguel de Cervantes\, William Shakespeare y el Inca Garcilaso de la Vega\, cuyas obras han marcado la historia de las letras y continúan inspirando a generaciones 🌍📚. \n📖 Sobre la muestra:La exposición reúne una cuidada selección de libros\, presentada en vitrinas y módulos en el patio principal\, invitando al público a acercarse\, explorar y redescubrir el valor de la lectura. \nUna oportunidad para celebrar el poder de los libros como puentes de conocimiento\, imaginación y cultura 💡✨. \n📅 Fechas: Del 20 al 24 de abril🕣 Horario: 8:30 a. m. – 5:30 p. m.📍 Lugar: Patio principal🎟️ Ingreso libre \n✨ Te invitamos a recorrer la muestra y visitar nuestra biblioteca\, un espacio abierto para seguir descubriendo historias y disfrutando la lectura 📚💛
URL:https://cultural.edu.pe/eventos/%f0%9f%93%9a-exposicion-bibliografica-por-el-dia-mundial-del-libro/
LOCATION:Patio Principal\, Calle Melgar 109\, Arequipa\, Arequipa\, 04001\, Perú
CATEGORIES:Exposiciones,libros,Libros,Presentaciones
ATTACH;FMTTYPE=image/png:https://cultural.edu.pe/wp-content/uploads/2026/03/Expo.png
ORGANIZER;CN="Cultural":MAILTO:cultura@cultural.edu.pe
END:VEVENT
END:VCALENDAR