BEGIN:VCALENDAR
VERSION:2.0
PRODID:-//Cultural Arequipa - ECPv6.0.13//NONSGML v1.0//EN
CALSCALE:GREGORIAN
METHOD:PUBLISH
X-ORIGINAL-URL:https://cultural.edu.pe
X-WR-CALDESC:Eventos para Cultural Arequipa
REFRESH-INTERVAL;VALUE=DURATION:PT1H
X-Robots-Tag:noindex
X-PUBLISHED-TTL:PT1H
BEGIN:VTIMEZONE
TZID:America/New_York
BEGIN:DAYLIGHT
TZOFFSETFROM:-0500
TZOFFSETTO:-0400
TZNAME:EDT
DTSTART:20250309T070000
END:DAYLIGHT
BEGIN:STANDARD
TZOFFSETFROM:-0400
TZOFFSETTO:-0500
TZNAME:EST
DTSTART:20251102T060000
END:STANDARD
END:VTIMEZONE
BEGIN:VEVENT
DTSTART;TZID=America/New_York:20251218T173000
DTEND;TZID=America/New_York:20251218T210000
DTSTAMP:20260423T114205
CREATED:20251127T224001Z
LAST-MODIFIED:20251201T170043Z
UID:15165-1766079000-1766091600@cultural.edu.pe
SUMMARY:Presentación del Club de Teatro: “Las Aventuras de Tom Sawyer”
DESCRIPTION:🎭 Muestra del Taller del Club de Teatro: “Las Aventuras de Tom Sawyer”\n📘 Basada en la obra de Mark Twain\n🎬 Dirección: Jesús Miranda \n🎭 Co-dirección: Martín Agramonte \nEl escenario se transforma en las orillas del río Mississippi para dar vida a una de las historias más queridas de la literatura universal. Los alumnos del Club de Teatro presentan “Las Aventuras de Tom Sawyer”\, una puesta en escena llena de picardía\, ingenio y espíritu juvenil ✨🌅. \n🎭 Sinopsis: \nTom Sawyer es un muchacho astuto\, rebelde y siempre listo para la aventura. Su mundo—formado por callejones\, cuevas\, árboles y secretos—se convierte en un enorme escenario donde todo es posible.Junto a su inseparable amigo Huckleberry Finn\, Tom vive travesías que bordean la leyenda\, enfrenta peligros reales tras descubrir un crimen ⚠️ y se adentra en planes audaces que desafían el orden adulto.Entre juegos\, escapatorias y valentía\, Tom descubre que la imaginación puede ser tan poderosa como el miedo… y tan verdadera como el deber. \nDesde una mirada teatral\, esta adaptación muestra a Tom como un creador instintivo: inventa reglas\, compone escenas y actúa con entrega absoluta. La obra nos recuerda que la infancia —como el teatro— es un espacio donde la libertad se ensaya\, la verdad se juega y la realidad puede reinventarse con solo atreverse a imaginar 🎈🌟. \n🎟️ 2 Funciones:📅 Jueves 18 de diciembre🕠 Horarios: 5:30 p. m. y 7:00 p. m.📍 Lugar: Teatro del Cultural👥 Modalidad: Presencial 🎟️ Ingreso libre \n✨ Una muestra llena de energía\, creatividad y ternura\, donde los jóvenes actores dan vida a un clásico que celebra la libertad\, la amistad y la aventura. ¡Una cita imperdible para disfrutar en familia!
URL:https://cultural.edu.pe/eventos/presentacion-del-club-de-teatro-las-aventuras-de-tom-sawyer/
LOCATION:Teatro del Cultural\, Calle Melgar 109\, Arequipa\, Arequipa\, 04001\, Perú
CATEGORIES:Libros,libros,Presentaciones
ATTACH;FMTTYPE=image/jpeg:https://cultural.edu.pe/wp-content/uploads/2025/11/Teatro.jpg
END:VEVENT
END:VCALENDAR