BEGIN:VCALENDAR
VERSION:2.0
PRODID:-//Cultural Arequipa - ECPv6.0.13//NONSGML v1.0//EN
CALSCALE:GREGORIAN
METHOD:PUBLISH
X-ORIGINAL-URL:https://cultural.edu.pe
X-WR-CALDESC:Eventos para Cultural Arequipa
REFRESH-INTERVAL;VALUE=DURATION:PT1H
X-Robots-Tag:noindex
X-PUBLISHED-TTL:PT1H
BEGIN:VTIMEZONE
TZID:America/New_York
BEGIN:DAYLIGHT
TZOFFSETFROM:-0500
TZOFFSETTO:-0400
TZNAME:EDT
DTSTART:20250309T070000
END:DAYLIGHT
BEGIN:STANDARD
TZOFFSETFROM:-0400
TZOFFSETTO:-0500
TZNAME:EST
DTSTART:20251102T060000
END:STANDARD
END:VTIMEZONE
BEGIN:VEVENT
DTSTART;TZID=America/New_York:20251212T180000
DTEND;TZID=America/New_York:20251212T193000
DTSTAMP:20260423T114205
CREATED:20251127T213747Z
LAST-MODIFIED:20251202T135059Z
UID:15145-1765562400-1765567800@cultural.edu.pe
SUMMARY:Presentación de libro: “El cementerio de piedras y el eco de su voz”
DESCRIPTION:📚 Presentación de libro: “El cementerio de piedras y el eco de su voz”\n✍️ De Rubén Mesía Matos\nEl Cultural presenta la primera novela de Rubén Mesía\, uno de los ganadores del Concurso Nacional de Relatos Breves de la revista NN 2025. Una historia imperdible que explora la pérdida\, la orfandad\, el amor y la identidad a través de una atmósfera cargada de tradición atávica y resonancias míticas. \n📖 Sinopsis:En esta novela\, la tradición mítica y la modernidad se encuentran para tejer un relato donde el misterio y el romance se enlazan hasta conducirnos a un final sorprendente. Un texto breve pero intenso que deja una huella perdurable en cada lector. \n📅 Fecha: Viernes 12 de diciembre🕠 Hora: 6:00 p. m.📍 Lugar: Biblioteca Principal👥 Modalidad: Presencial — Duración: 60 min. \n🎟️ Ingreso libre \n✨ Una presentación para descubrir nuevas voces\, explorar mundos simbólicos y dejarse llevar por la fuerza de una historia que resuena más allá de sus páginas.
URL:https://cultural.edu.pe/eventos/presentacion-de-libro-el-cementerio-de-piedras-y-el-eco-de-su-voz/
LOCATION:Biblioteca del Cultural\, Calle Melgar 109\, Arequipa\, Arequipa\, 04001\, Perú
CATEGORIES:libros,Libros,Presentaciones
ATTACH;FMTTYPE=image/png:https://cultural.edu.pe/wp-content/uploads/2025/11/Post-Web-Noviembre2.png
END:VEVENT
END:VCALENDAR