BEGIN:VCALENDAR
VERSION:2.0
PRODID:-//Cultural Arequipa - ECPv6.0.13//NONSGML v1.0//EN
CALSCALE:GREGORIAN
METHOD:PUBLISH
X-WR-CALNAME:Cultural Arequipa
X-ORIGINAL-URL:https://cultural.edu.pe
X-WR-CALDESC:Eventos para Cultural Arequipa
REFRESH-INTERVAL;VALUE=DURATION:PT1H
X-Robots-Tag:noindex
X-PUBLISHED-TTL:PT1H
BEGIN:VTIMEZONE
TZID:America/New_York
BEGIN:DAYLIGHT
TZOFFSETFROM:-0500
TZOFFSETTO:-0400
TZNAME:EDT
DTSTART:20250309T070000
END:DAYLIGHT
BEGIN:STANDARD
TZOFFSETFROM:-0400
TZOFFSETTO:-0500
TZNAME:EST
DTSTART:20251102T060000
END:STANDARD
END:VTIMEZONE
BEGIN:VEVENT
DTSTART;TZID=America/New_York:20251105T200000
DTEND;TZID=America/New_York:20251105T210000
DTSTAMP:20260423T084801
CREATED:20251029T215746Z
LAST-MODIFIED:20251030T135132Z
UID:14986-1762372800-1762376400@cultural.edu.pe
SUMMARY:Presentación del libro: “Fascinación”
DESCRIPTION:📚 Presentación del libro: “Fascinación”\n✍️ Autor: Diego Molina\nEl escritor arequipeño Diego Molina presenta «Fascinación»\, su primera novela\, una historia donde el amor\, el deseo y la culpa se entrelazan en una intensa exploración de la condición humana. \nEn Fascinación\, Diego —un hombre maduro— recuerda su relación con Tomás\, un joven que despierta en él una pasión tan profunda como destructiva. A través de una voz confesional y lúcida\, la novela reflexiona sobre los límites del deseo\, la dependencia emocional y la fragilidad del yo en una Lima contemporánea. \n📖 Acompañan al autor:\nAlonso Ruiz Rosas · Martín López de Romaña · Helard Fuentes \n🤝 Patrocina\nCentro Cultural Peruano Norteamericano \n📅 Fecha: Miércoles 5 de noviembre🕗 Hora: 8:00 p. m.📍 Lugar: Teatro – Centro Cultural Peruano Norteamericano \n🎟️ Ingreso libre \n✨ ¡Ven y sé parte de esta noche literaria donde la palabra revela las pasiones y contradicciones del alma humana! 💫
URL:https://cultural.edu.pe/eventos/presentacion-del-libro-fascinacion/
LOCATION:Teatro del Cultural\, Calle Melgar 109\, Arequipa\, Arequipa\, 04001\, Perú
CATEGORIES:libros,Presentaciones
ATTACH;FMTTYPE=image/png:https://cultural.edu.pe/wp-content/uploads/2025/10/Post-Web-Noviembre.png
END:VEVENT
BEGIN:VEVENT
DTSTART;TZID=America/New_York:20251122T160000
DTEND;TZID=America/New_York:20251122T180000
DTSTAMP:20260423T084801
CREATED:20251029T224420Z
LAST-MODIFIED:20251030T135310Z
UID:15010-1763827200-1763834400@cultural.edu.pe
SUMMARY:Club de lectura infantil: “La tortilla corredora”
DESCRIPTION:📚 Club de lectura infantil: “La tortilla corredora”\n👧 Con Tefy Bengoa\nEl Club de Lectura Infantil vuelve con una historia llena de humor\, ingenio y aventura. En esta sesión\, los más pequeños disfrutarán de la divertida narración de “La tortilla corredora”\, un clásico cuento popular que enseña valores como la astucia y la libertad. \n🥚 Sinopsis:\nUna madre prepara una tortilla para sus siete hijos hambrientos… pero la tortilla no piensa dejar que nadie se la coma. ¡Escapa corriendo y esquiva a todos los que quieren atraparla! Una historia que despierta la imaginación y las risas de grandes y chicos. \n📅 Fecha: Sábado 22 de noviembre🕓 Hora: 4:00 p. m.📍 Lugar: Biblioteca Principal👩‍🏫 Modalidad: Presencial🎟️ Ingreso libre \n✨ ¡Ven y disfruta de una tarde de lectura\, imaginación y diversión junto a Tefy Bengoa! 📖🌟
URL:https://cultural.edu.pe/eventos/club-de-lectura-infantil-la-tortilla-corredora/
LOCATION:Biblioteca del Cultural\, Calle Melgar 109\, Arequipa\, Arequipa\, 04001\, Perú
CATEGORIES:libros,Presentaciones
ATTACH;FMTTYPE=image/png:https://cultural.edu.pe/wp-content/uploads/2025/10/Post-Web-Noviembre-2.png
END:VEVENT
BEGIN:VEVENT
DTSTART;TZID=America/New_York:20251129T160000
DTEND;TZID=America/New_York:20251129T180000
DTSTAMP:20260423T084801
CREATED:20251029T223851Z
LAST-MODIFIED:20251030T135328Z
UID:15004-1764432000-1764439200@cultural.edu.pe
SUMMARY:Cuentacuentos: “El oso gigante y la Osa Mayor”
DESCRIPTION:📚 Cuentacuentos: “El oso gigante y la Osa Mayor”\n🪶 Con Alexis Valverde\nEl Club de Lectura Infantil presenta un fascinante cuento popular de los nativos americanos que combina aventura\, mito y sabiduría ancestral. \n🐻 Sinopsis:\nLa tribu Mohawk enfrenta un grave problema: un gigantesco oso ha comenzado a espantar a los animales del bosque y a acabar con los cazadores que intentan detenerlo. Este relato explica cómo la lucha entre los humanos y la bestia dio origen a las estrellas que hoy forman la Osa Mayor. \n📅 Fecha: Sábado 29 de noviembre🕓 Hora: 4:00 p. m.📍 Lugar: Biblioteca Principal👧 Modalidad: Presencial🎟️ Ingreso libre \n🌌 Una historia para imaginar el cielo\, descubrir la fuerza de la naturaleza y aprender de las leyendas que dieron forma al universo.
URL:https://cultural.edu.pe/eventos/cuentacuentos-el-oso-gigante-y-la-osa-mayor/
LOCATION:Biblioteca del Cultural\, Calle Melgar 109\, Arequipa\, Arequipa\, 04001\, Perú
CATEGORIES:libros,Libros,Presentaciones
ATTACH;FMTTYPE=image/png:https://cultural.edu.pe/wp-content/uploads/2025/10/5-2.png
END:VEVENT
END:VCALENDAR