BEGIN:VCALENDAR
VERSION:2.0
PRODID:-//Cultural Arequipa - ECPv6.0.13//NONSGML v1.0//EN
CALSCALE:GREGORIAN
METHOD:PUBLISH
X-WR-CALNAME:Cultural Arequipa
X-ORIGINAL-URL:https://cultural.edu.pe
X-WR-CALDESC:Eventos para Cultural Arequipa
REFRESH-INTERVAL;VALUE=DURATION:PT1H
X-Robots-Tag:noindex
X-PUBLISHED-TTL:PT1H
BEGIN:VTIMEZONE
TZID:America/New_York
BEGIN:DAYLIGHT
TZOFFSETFROM:-0500
TZOFFSETTO:-0400
TZNAME:EDT
DTSTART:20260308T070000
END:DAYLIGHT
BEGIN:STANDARD
TZOFFSETFROM:-0400
TZOFFSETTO:-0500
TZNAME:EST
DTSTART:20261101T060000
END:STANDARD
END:VTIMEZONE
BEGIN:VEVENT
DTSTART;TZID=America/New_York:20260420T083000
DTEND;TZID=America/New_York:20260424T173000
DTSTAMP:20260422T031212
CREATED:20260330T194520Z
LAST-MODIFIED:20260330T194616Z
UID:15699-1776673800-1777051800@cultural.edu.pe
SUMMARY:📚 Exposición bibliográfica por el Día Mundial del Libro
DESCRIPTION:📚 Exposición bibliográfica por el Día Mundial del Libro\n✨ Celebramos la lectura y la palabra \nEn el marco del Día Mundial del Libro y del Derecho de Autor y el Día del Idioma Español\, el Centro Cultural Peruano Norteamericano presenta una exposición bibliográfica especial ✨📖. \nEsta fecha conmemora a grandes referentes de la literatura universal como Miguel de Cervantes\, William Shakespeare y el Inca Garcilaso de la Vega\, cuyas obras han marcado la historia de las letras y continúan inspirando a generaciones 🌍📚. \n📖 Sobre la muestra:La exposición reúne una cuidada selección de libros\, presentada en vitrinas y módulos en el patio principal\, invitando al público a acercarse\, explorar y redescubrir el valor de la lectura. \nUna oportunidad para celebrar el poder de los libros como puentes de conocimiento\, imaginación y cultura 💡✨. \n📅 Fechas: Del 20 al 24 de abril🕣 Horario: 8:30 a. m. – 5:30 p. m.📍 Lugar: Patio principal🎟️ Ingreso libre \n✨ Te invitamos a recorrer la muestra y visitar nuestra biblioteca\, un espacio abierto para seguir descubriendo historias y disfrutando la lectura 📚💛
URL:https://cultural.edu.pe/eventos/%f0%9f%93%9a-exposicion-bibliografica-por-el-dia-mundial-del-libro/
LOCATION:Patio Principal\, Calle Melgar 109\, Arequipa\, Arequipa\, 04001\, Perú
CATEGORIES:Exposiciones,libros,Libros,Presentaciones
ATTACH;FMTTYPE=image/png:https://cultural.edu.pe/wp-content/uploads/2026/03/Expo.png
ORGANIZER;CN="Cultural":MAILTO:cultura@cultural.edu.pe
END:VEVENT
BEGIN:VEVENT
DTSTART;TZID=America/New_York:20260424T083000
DTEND;TZID=America/New_York:20260424T173000
DTSTAMP:20260422T031212
CREATED:20260330T194912Z
LAST-MODIFIED:20260330T195014Z
UID:15700-1777019400-1777051800@cultural.edu.pe
SUMMARY:📚 Adopta un libro
DESCRIPTION:📖 Adopta un libro 📚\n✨ Celebra el Día Mundial del Libro leyendo más\nLa Biblioteca del Cultural te invita a ser parte de Adopta un libro\, una iniciativa especial por el Día Mundial del Libro que busca conectar a más lectores con nuevas historias 💛📖. \n📖 Sobre la actividad:En esta jornada\, los usuarios de la biblioteca podrán llevar un libro para disfrutar en casa y\, además\, elegir otro de una selección especial de títulos que esperan ser adoptados ✨. \nUna oportunidad para descubrir nuevas lecturas\, darle una segunda vida a los libros y seguir fomentando el amor por la lectura en nuestra comunidad 📚🌱. \n📅 Fecha: Viernes 24 de abril🕣 Horario: 8:30 a. m. – 1:00 p. m. y 3:00 p. m. – 5:30 p. m.📍 Lugar: Biblioteca🎟️ Ingreso libre \n👥 Actividad exclusiva para usuarios de la biblioteca \n✨ Ven\, elige\, adopta y deja que un nuevo libro llegue a tus manos 📖💫
URL:https://cultural.edu.pe/eventos/%f0%9f%93%9a-adopta-un-libro/
LOCATION:Biblioteca del Cultural\, Calle Melgar 109\, Arequipa\, Arequipa\, 04001\, Perú
CATEGORIES:Exposiciones,libros,Libros,Presentaciones
ATTACH;FMTTYPE=image/png:https://cultural.edu.pe/wp-content/uploads/2026/03/Adopta.png
ORGANIZER;CN="Cultural":MAILTO:cultura@cultural.edu.pe
END:VEVENT
BEGIN:VEVENT
DTSTART;TZID=America/New_York:20260425T160000
DTEND;TZID=America/New_York:20260425T170000
DTSTAMP:20260422T031212
CREATED:20260330T193946Z
LAST-MODIFIED:20260408T192651Z
UID:15696-1777132800-1777136400@cultural.edu.pe
SUMMARY:📖 Cuentacuentos: “El diario de Greg” 😂📚
DESCRIPTION:📖 Cuentacuentos: “El diario de Greg” 😂📚\n🎭 Con Alexis Valverde\nEl Club de Lectura Infantil te invita a disfrutar de una tarde llena de risas y diversión con el cuentacuentos de El diario de Greg ✨. Una historia que conecta con grandes y chicos a través del humor y las aventuras de la vida escolar. \n🤣 Sobre la historia:Conoceremos a Greg Heffley\, un niño de secundaria que escribe en su diario todas sus ocurrencias\, problemas y estrategias para sobrevivir al colegio 😅. Entre intentos por ser popular\, situaciones familiares (especialmente con su hermano Rodrick) y momentos inolvidables como el famoso “Toque de Queso” 🧀\, Greg nos muestra su particular forma de ver el mundo. \nUna historia divertida que nos acerca a los pensamientos más sinceros y caóticos de la adolescencia\, invitándonos a reír y reconocernos en sus experiencias 🎒✨. \n📅 Fecha: Sábado 25 de abril🕓 Hora: 4:00 p. m.📍 Lugar: Biblioteca🎟️ Ingreso libre \n✍️ Inscribe a tu pequeño en el formulario: https://forms.gle/fYypSm1gUhFzGir99 \n👧🧒 ¡Los esperamos para compartir una tarde llena de historias\, humor y muchas risas! 📚😂
URL:https://cultural.edu.pe/eventos/%f0%9f%93%96-cuentacuentos-el-diario-de-greg-%f0%9f%98%82%f0%9f%93%9a/
LOCATION:Biblioteca del Cultural\, Calle Melgar 109\, Arequipa\, Arequipa\, 04001\, Perú
CATEGORIES:Exposiciones,libros,Libros,Presentaciones
ATTACH;FMTTYPE=image/png:https://cultural.edu.pe/wp-content/uploads/2026/03/Greg.png
ORGANIZER;CN="Cultural":MAILTO:cultura@cultural.edu.pe
END:VEVENT
END:VCALENDAR