BEGIN:VCALENDAR
VERSION:2.0
PRODID:-//Cultural Arequipa - ECPv6.0.13//NONSGML v1.0//EN
CALSCALE:GREGORIAN
METHOD:PUBLISH
X-ORIGINAL-URL:https://cultural.edu.pe
X-WR-CALDESC:Eventos para Cultural Arequipa
REFRESH-INTERVAL;VALUE=DURATION:PT1H
X-Robots-Tag:noindex
X-PUBLISHED-TTL:PT1H
BEGIN:VTIMEZONE
TZID:America/New_York
BEGIN:DAYLIGHT
TZOFFSETFROM:-0500
TZOFFSETTO:-0400
TZNAME:EDT
DTSTART:20260308T070000
END:DAYLIGHT
BEGIN:STANDARD
TZOFFSETFROM:-0400
TZOFFSETTO:-0500
TZNAME:EST
DTSTART:20261101T060000
END:STANDARD
END:VTIMEZONE
BEGIN:VEVENT
DTSTART;TZID=America/New_York:20260122T180000
DTEND;TZID=America/New_York:20260122T190000
DTSTAMP:20260422T063951
CREATED:20260114T202741Z
LAST-MODIFIED:20260114T202741Z
UID:15349-1769104800-1769108400@cultural.edu.pe
SUMMARY:Presentación de libro: “Tío Maeni sube a la montaña sagrada”
DESCRIPTION:📚 Presentación de libro: “Tío Maeni sube a la montaña sagrada”✍️ De José Antonio Vázquez Medina\nCelebramos el nacimiento de Tutu Ediciones\, la primera editorial arequipeña especializada en literatura infantil y juvenil\, con la presentación de Tío Maeni sube a la montaña sagrada\, un clásico moderno que conmueve y conecta con lectores de todas las edades. \n📖 Sinopsis:Tío Maeni\, un valiente oso de anteojos\, emprende una travesía desde la Amazonía del Cusco hasta las altas montañas en busca de su sobrino Uku. En el camino enfrenta peligros y descubre la magia de los Apus\, en una historia donde lo sagrado y lo maravilloso se entrelazan para recordarnos que el amor es la fuerza que todo lo sana. Un relato lleno de sensibilidad\, aventura y profundidad simbólica. 🐻⛰️ \nBajo la dirección de Ysabel Rodríguez\, Tutu Ediciones nace al pie del Misti con el propósito de tender puentes entre las historias y los jóvenes lectores\, apostando por una literatura que inspire\, emocione y dialogue con nuestras raíces. \n🎙️ Comentarios:Augusto Carrasco · Zarelly del Rosario Contreras de Delgado · Rosario Cardeña \n📅 Fecha: Jueves 22 de enero⏰ Hora: 18:00 h📍 Lugar: Biblioteca Principal\, Melgar 109👥 Modalidad: Presencial — Duración: 60 min.🎟️ Ingreso libre \n✨ Una presentación para sumergirse en una aventura donde la naturaleza\, la memoria y la magia dialogan con la fuerza de la literatura infantil y juvenil.✨📖
URL:https://cultural.edu.pe/eventos/presentacion-de-libro-tio-maeni-sube-a-la-montana-sagrada/
LOCATION:Biblioteca del Cultural\, Calle Melgar 109\, Arequipa\, Arequipa\, 04001\, Perú
CATEGORIES:Artes escénicas,libros,Libros,Presentaciones
ATTACH;FMTTYPE=image/png:https://cultural.edu.pe/wp-content/uploads/2026/01/Presentacion-de-libro-web.png
END:VEVENT
END:VCALENDAR