BEGIN:VCALENDAR
VERSION:2.0
PRODID:-//Cultural Arequipa - ECPv6.0.13//NONSGML v1.0//EN
CALSCALE:GREGORIAN
METHOD:PUBLISH
X-ORIGINAL-URL:https://cultural.edu.pe
X-WR-CALDESC:Eventos para Cultural Arequipa
REFRESH-INTERVAL;VALUE=DURATION:PT1H
X-Robots-Tag:noindex
X-PUBLISHED-TTL:PT1H
BEGIN:VTIMEZONE
TZID:America/New_York
BEGIN:DAYLIGHT
TZOFFSETFROM:-0500
TZOFFSETTO:-0400
TZNAME:EDT
DTSTART:20250309T070000
END:DAYLIGHT
BEGIN:STANDARD
TZOFFSETFROM:-0400
TZOFFSETTO:-0500
TZNAME:EST
DTSTART:20251102T060000
END:STANDARD
END:VTIMEZONE
BEGIN:VEVENT
DTSTART;VALUE=DATE:20251011
DTEND;VALUE=DATE:20251012
DTSTAMP:20260424T015649
CREATED:20251001T175134Z
LAST-MODIFIED:20251002T164323Z
UID:14846-1760140800-1760227199@cultural.edu.pe
SUMMARY:Exhibición de muestra: "Arequipa\, luz de la acuarela"
DESCRIPTION:🎨Muestra de Acuarelas: Arequipa\, luz de la acuarela✨\nUna exposición que celebra la tradición pictórica arequipeña en el marco del X Congreso Internacional de la Lengua Española. \n📖 Sobre la muestraEl Centro Cultural Peruano Norteamericano abre las puertas de su galería principal para presentar una exposición representativa de maestros contemporáneos de la acuarela arequipeña. Esta técnica\, cultivada en la ciudad desde fines del siglo XIX\, ha alcanzado un prestigio excepcional en el continente gracias a figuras como Jorge Vinatea Reinoso\, los hermanos Teodoro y Alejandro Núñez Ureta\, Luis Palao Berastaín\, Víctor Martínez Gómez y Mauro Castillo\, entre otros grandes artistas.Esta exhibición busca resaltar el diálogo entre el arte y la lengua como expresiones vivas de la identidad cultural. \n🖌️ Artistas participantesDestacados acuarelistas contemporáneos que mantienen vigente la tradición pictórica de la ciudad. \n🏛️ OrganizaCentro Cultural Peruano Norteamericano con el apoyo del Ministerio de Relaciones Exteriores del Perú. \n📍 LugarSala 1 · Galería de Arte\, Calle Melgar 109 – Arequipa \n🖼️ ExhibiciónDel 11 al 31 de octubre \n\n\nLunes a viernes: 8:30 – 19:30 h \n\n\nSábados: 10:00 – 16:00 h \n\n\n🎟️ Ingreso libre \n¡Los esperamos para celebrar juntos el arte y la cultura! 🤩
URL:https://cultural.edu.pe/eventos/exhibicion-de-muestra-arequipa-luz-de-la-acuarela/
LOCATION:Galería de Arte\, Calle Melgar 109\, Arequipa\, Arequipa\, 04001
CATEGORIES:Artes visuales,Exposiciones
ATTACH;FMTTYPE=image/jpeg:https://cultural.edu.pe/wp-content/uploads/2025/10/Acuarelas.jpg
ORGANIZER;CN="Cultural":MAILTO:cultura@cultural.edu.pe
END:VEVENT
BEGIN:VEVENT
DTSTART;TZID=America/New_York:20251011T160000
DTEND;TZID=America/New_York:20251011T170000
DTSTAMP:20260424T015649
CREATED:20251003T145006Z
LAST-MODIFIED:20251003T190003Z
UID:14885-1760198400-1760202000@cultural.edu.pe
SUMMARY:Club de Lectura Infantil: "El misterio de Huesópolis"
DESCRIPTION:👻 El misterio de Huesópolis\n✍️ De Jean-Luc Fromental y Joëlle Jolivet · Con Teffy Bengoa \nUna tarde de misterio y diversión en la Biblioteca Principal para celebrar la magia de la narración oral en vísperas de la Noche de Brujas 🎃. \n🔍 Sobre la obra\n¿Quién será el ladrón del húmero de la lavandera\, del peroné del carnicero\, del coxis del enmienda huesos y de decenas de huesos más? Los habitantes de Huesópolis están aterrados por una serie de robos insólitos que ponen en jaque a toda la ciudad. \nEl gran detective Sherlock Huesos será el encargado de resolver este enigma. Con su inseparable pipa\, su calculadora y la astucia de un sabueso\, deberá seguir las pistas que apuntan siempre a la misma sospecha: una misteriosa bestia peluda que siembra el terror entre las calacas. \nEste libro\, lleno de humor\, intriga y guiños a la obra de Arthur Conan Doyle\, invita a los más pequeños a sumergirse en una historia de detectives que mezcla misterio y diversión a partes iguales. \n👩‍🏫 Intérprete\nTeffy Bengoa guiará la lectura\, despertando la curiosidad y el ingenio de los niños a través de esta fascinante historia. \n📍 Lugar\nBiblioteca Principal – Centro Cultural Peruano Norteamericano \n📅 Fecha\nSábado 11 de octubre \n⏰ Hora\n4:00 p.m. – Duración: 60 min. \n🎟️ Ingreso libre\n¡Acompáñanos a resolver este misterio y vive una tarde de lectura llena de emoción y aventura! 🦴🔍✨
URL:https://cultural.edu.pe/eventos/club-de-lectura-infantil-el-misterio-de-huesopolis/
LOCATION:Biblioteca del Cultural\, Calle Melgar 109\, Arequipa\, Arequipa\, 04001\, Perú
CATEGORIES:Libros,libros,Presentaciones
ATTACH;FMTTYPE=image/png:https://cultural.edu.pe/wp-content/uploads/2025/10/Post-WebEdt-1.png
ORGANIZER;CN="Cultural":MAILTO:cultura@cultural.edu.pe
END:VEVENT
END:VCALENDAR