BEGIN:VCALENDAR
VERSION:2.0
PRODID:-//Cultural Arequipa - ECPv6.0.13//NONSGML v1.0//EN
CALSCALE:GREGORIAN
METHOD:PUBLISH
X-ORIGINAL-URL:https://cultural.edu.pe
X-WR-CALDESC:Eventos para Cultural Arequipa
REFRESH-INTERVAL;VALUE=DURATION:PT1H
X-Robots-Tag:noindex
X-PUBLISHED-TTL:PT1H
BEGIN:VTIMEZONE
TZID:America/New_York
BEGIN:DAYLIGHT
TZOFFSETFROM:-0500
TZOFFSETTO:-0400
TZNAME:EDT
DTSTART:20260308T070000
END:DAYLIGHT
BEGIN:STANDARD
TZOFFSETFROM:-0400
TZOFFSETTO:-0500
TZNAME:EST
DTSTART:20261101T060000
END:STANDARD
END:VTIMEZONE
BEGIN:VEVENT
DTSTART;TZID=America/New_York:20260312T083000
DTEND;TZID=America/New_York:20260430T193000
DTSTAMP:20260422T020117
CREATED:20260302T203840Z
LAST-MODIFIED:20260304T140154Z
UID:15446-1773304200-1777577400@cultural.edu.pe
SUMMARY:Exhibición de la muestra: «Varga’s Girls»✨
DESCRIPTION:🗓️  Visita la muestra “Varga’s Girls”\n🖼️ De Alberto Vargas y Chávez\nLa exposición “Varga’s Girls” abre sus puertas para redescubrir la obra de uno de los ilustradores peruanos más influyentes del siglo XX ✨. Alberto Vargas\, nacido en Arequipa\, ocupa un lugar central en la historia del arte norteamericano gracias a un estilo refinado\, sensual y técnicamente impecable que transformó la cultura visual moderna. \nEn 1916\, un joven Vargas y Chávez\, hijo del reconocido fotógrafo Max T. Vargas\, llegó al puerto de Nueva York procedente de Europa 🌎. Fascinado por la vitalidad de la ciudad y la elegancia de la figura femenina norteamericana\, decidió quedarse en la llamada “Gran Manzana” 🍎\, iniciando así una carrera meteórica. \nMuy pronto comenzó a trabajar para la compañía de revistas musicales Ziegfeld Follies 🎭\, donde pintaba a las bailarinas y diseñaba afiches. Allí conocería a su musa\, Anna Mae\, y daría forma a las icónicas Varga’s Girls: imágenes de extraordinaria precisión anatómica\, delicadeza en la acuarela y dominio magistral del aerógrafo 🎨. \nSus ilustraciones alcanzarían fama internacional al publicarse en revistas como Esquire y Playboy 📖\, consolidando un estilo que marcó un antes y un después en la profesionalización de la ilustración artística. \nLas obras reproducidas en esta muestra presentadas en el tamaño original pertenecen a la colección privada del galerista norteamericano Louis K. Meisel\, quien las cedió en exclusiva para esta exposición. Hoy\, después de 68 años\, la obra de Vargas se exhibe nuevamente en su ciudad natal 🏛️\, reafirmando su legado como una de las contribuciones peruanas más reconocidas a las artes visuales del siglo XX. \nSu exhibición también es posible gracias al valioso aporte de la colección particular de Miguel Cordero 🖼️. \nLa curaduría está a cargo de Omar Zevallos Velarde 🖋️. \n📅 Permanencia de la muestra:\nDel jueves 12 al jueves 30 de abril \n📍 Lugar: Galería de Arte\, Calle Melgar 109 – Arequipa \n🎟️ Ingreso libre \n¡Te esperamos!
URL:https://cultural.edu.pe/eventos/exhibicion-de-la-muestra-vargas-girls%e2%9c%a8/
LOCATION:Galería de Arte\, Calle Melgar 109\, Arequipa\, Arequipa\, 04001
CATEGORIES:Artes visuales,Exposiciones,Presentaciones
ATTACH;FMTTYPE=image/png:https://cultural.edu.pe/wp-content/uploads/2026/02/Visita-la-galeria-de-arte-Vargas-1.png
ORGANIZER;CN="Cultural":MAILTO:cultura@cultural.edu.pe
END:VEVENT
BEGIN:VEVENT
DTSTART;TZID=America/New_York:20260409T083000
DTEND;TZID=America/New_York:20260430T193000
DTSTAMP:20260422T020117
CREATED:20260330T164351Z
LAST-MODIFIED:20260330T164517Z
UID:15656-1775723400-1777577400@cultural.edu.pe
SUMMARY:✨Visita la muestra: «Diversas propuestas\, diversas miradas»🎨
DESCRIPTION:🗓️ Visita la muestra “Diversas propuestas\, diversas miradas”\n🖼️ Exposición colectiva de artistas jóvenes arequipeños\nLa exposición «Diversas propuestas\, diversas miradas» abre sus puertas para descubrir el trabajo de una nueva generación de artistas de Arequipa ✨. Impulsada por el curador Luis Lama\, la muestra reúne distintas sensibilidades que dialogan sobre el presente\, el territorio y la experiencia de crear en un contexto en constante cambio. \n🖌️ Sobre la muestra:A través de lenguajes como la pintura\, el dibujo y la instalación\, las obras abordan tensiones entre lo íntimo y lo social\, el cuerpo y la memoria\, lo cotidiano y lo simbólico. Aquí\, Arequipa no es solo escenario\, sino una condición que atraviesa los procesos creativos: una ciudad que se transforma\, resiste y deja huella en cada propuesta. \nLos artistas apuestan por una mirada atenta y reflexiva\, invitando a detenerse y contemplar obras que exploran emociones\, identidades y paisajes desde perspectivas diversas 🎨. \n👩‍🎨 Artistas participantes:• Ángel Hernández: pintura que explora la catarsis y la experiencia humana.• Christopher Herrera: imaginarios simbólicos entre lo espiritual y lo emocional.• Cristal Luque: exploración del cuerpo\, el tiempo y la cotidianidad desde múltiples medios.• Fernando Peña: reinterpretación del paisaje y la arquitectura arequipeña.• José Carlos Bernedo: vínculos entre cuerpo\, memoria urbana y vida cotidiana.• Marita Chávez: pintura introspectiva centrada en emociones y experiencias personales.• Milagros Quispe: identidad y memoria a través del tejido y lo simbólico.• Nicole Lazarte: exploración del cuerpo y la mente desde lo introspectivo y lo visual. \n📅 Permanencia de la muestra:Del miércoles 8 al jueves 30 de abril \n📍 Lugar: Galería de Arte (Calle Melgar 109) \n⏰ Horarios:Lunes a viernes: 8:30 a. m. – 7:30 p. m.Sábados: 10:00 a. m. – 4:00 p. m. \n🎟️ Ingreso libre \n✨ Una muestra que reúne nuevas miradas y voces que siguen construyendo y enriqueciendo la escena artística contemporánea de Arequipa.
URL:https://cultural.edu.pe/eventos/visita-la-muestra-diversas-propuestas-diversas-miradas/
LOCATION:Galería de Arte\, Calle Melgar 109\, Arequipa\, Arequipa\, 04001
CATEGORIES:Artes visuales,Presentaciones
ATTACH;FMTTYPE=image/png:https://cultural.edu.pe/wp-content/uploads/2026/03/Visita.png
ORGANIZER;CN="Cultural":MAILTO:cultura@cultural.edu.pe
END:VEVENT
END:VCALENDAR