BEGIN:VCALENDAR
VERSION:2.0
PRODID:-//Cultural Arequipa - ECPv6.0.13//NONSGML v1.0//EN
CALSCALE:GREGORIAN
METHOD:PUBLISH
X-WR-CALNAME:Cultural Arequipa
X-ORIGINAL-URL:https://cultural.edu.pe
X-WR-CALDESC:Eventos para Cultural Arequipa
REFRESH-INTERVAL;VALUE=DURATION:PT1H
X-Robots-Tag:noindex
X-PUBLISHED-TTL:PT1H
BEGIN:VTIMEZONE
TZID:America/New_York
BEGIN:DAYLIGHT
TZOFFSETFROM:-0500
TZOFFSETTO:-0400
TZNAME:EDT
DTSTART:20250309T070000
END:DAYLIGHT
BEGIN:STANDARD
TZOFFSETFROM:-0400
TZOFFSETTO:-0500
TZNAME:EST
DTSTART:20251102T060000
END:STANDARD
BEGIN:DAYLIGHT
TZOFFSETFROM:-0500
TZOFFSETTO:-0400
TZNAME:EDT
DTSTART:20260308T070000
END:DAYLIGHT
BEGIN:STANDARD
TZOFFSETFROM:-0400
TZOFFSETTO:-0500
TZNAME:EST
DTSTART:20261101T060000
END:STANDARD
END:VTIMEZONE
BEGIN:VEVENT
DTSTART;TZID=America/New_York:20251122T083000
DTEND;TZID=America/New_York:20260108T193000
DTSTAMP:20260422T081602
CREATED:20251111T221351Z
LAST-MODIFIED:20260109T222435Z
UID:15049-1763800200-1767900600@cultural.edu.pe
SUMMARY:Visita la exposición temática: Bicentenario de Relaciones Diplomáticas Perú - Estados Unidos 
DESCRIPTION:🇵🇪🇺🇸Bicentenario de Relaciones Diplomáticas Perú – Estados Unidos\nLa muestra conmemora dos siglos de relaciones bilaterales entre Perú y Estados Unidos\, destacando los lazos históricos\, culturales y de colaboración que han fortalecido esta relación sólida y duradera. \n🖼️ Una mirada a la historia compartidaCompuesta por 30 paneles temáticos\, la exposición recorre los principales hitos de esta relación:🔹 Cooperación entre agencias espaciales🔹 Trabajo conjunto en seguridad y defensa🔹 Intercambio comercial y empresarial🔹 Protección del patrimonio cultural🔹 Promoción de las artes\, la música\, el cine y el deporte \n📚 Además\, resalta los esfuerzos conjuntos en educación y enseñanza del idioma inglés\, la labor de los centros binacionales (American Spaces) en todo el país\, y la solidaridad entre ambas naciones en tiempos de crisis. \nCada panel reúne fotografías históricas y contemporáneas que ilustran los pilares de esta alianza bilateral\, celebrando los logros alcanzados y reafirmando el compromiso compartido hacia un futuro de cooperación y prosperidad. \n📅 Fecha: Del viernes 22 de noviembre de 2025 al 29 de mayo de 2026🕛 Hora: Lunes a viernes: 8:30 a. m. – 7:30 p. m.Sábados: 10:00 a. m. – 4:00 p. m.📍 Lugar: Instalaciones del Cultural🎟️ Ingreso libre \n🤝 PatrocinaCentro Cultural Peruano Norteamericano \n🤝 Una exposición para conmemorar 200 años de amistad\, diálogo y colaboración entre dos naciones unidas por la historia y el respeto mutuo. \nCréditos de la foto: 13 oct 1966 Astronautas_249: Lima\, 13 de octubre de 1966 Astronautas Neil Armstrong y Richard Gordon dictan una Charla en el Instituto Cultural Peruano Norteamericano. Foto: El Comercio
URL:https://cultural.edu.pe/eventos/visita-la-exposicion-tematica-bicentenario-de-relaciones-diplomaticas-peru-estados-unidos/
LOCATION:Cultural Arequipa\, Calle Melgar 109\, Arequipa\, Arequipa\, Arequipa\, 04001\, Perú
CATEGORIES:Artes visuales,Exposiciones,Presentaciones
ATTACH;FMTTYPE=image/png:https://cultural.edu.pe/wp-content/uploads/2025/11/8.png
END:VEVENT
BEGIN:VEVENT
DTSTART;TZID=America/New_York:20251213T083000
DTEND;TZID=America/New_York:20260112T193000
DTSTAMP:20260422T081602
CREATED:20251201T203902Z
LAST-MODIFIED:20260113T142051Z
UID:15224-1765614600-1768246200@cultural.edu.pe
SUMMARY:Exhibición de la muestra fotográfica: "La luz en sí"
DESCRIPTION:🗓️ Visita la muestra «La luz en sí»\n🖼️ De Antonio Escalante Loredo\n“La Luz en sí” estará abierta al público durante más de un mes\, ofreciendo un espacio ideal para contemplar con calma cada una de las piezas creadas por Antonio Escalante. Los visitantes podrán recorrer la exposición y descubrir de cerca el proceso artesanal detrás de estas imágenes\, donde el tiempo\, la luz y la química se convierten en protagonistas. \nEn cada obra\, la delicadeza del vidrio\, la textura de las emulsiones y la precisión del revelado permiten apreciar la materialidad de la fotografía en su forma más pura. La muestra invita a detenerse\, observar y dejarse llevar por la atmósfera íntima y silenciosa que caracteriza cada retrato. \nDurante este periodo\, el público también podrá participar en actividades paralelas —como conversatorios y recorridos guiados— que profundizan en la recuperación de técnicas históricas y en el diálogo entre tradición y contemporaneidad. \nUna oportunidad imperdible para explorar un universo visual donde la luz no solo revela imágenes\, sino también la sensibilidad y la poética de un oficio que resurge con fuerza en el siglo XXI. \n📅 Fecha: sábado 13 de diciembre al miércoles 28 de enero de 2026🕛 Hora: Lunes a viernes: 8:30 a. m. – 7:30 p. m.Sábados: 10:00 a. m. – 4:00 p. m.📍 Lugar: Galería de Arte🎟️ Ingreso libre \n✨ Una exposición que celebra la magia de la luz\, la memoria y la materialidad fotográfica; un encuentro entre tradición y experimentación donde cada imagen revela la esencia más pura de lo humano 📸🖼️. Una invitación a contemplar\, detenerse y redescubrir la fotografía desde su origen.
URL:https://cultural.edu.pe/eventos/exhibicion-de-la-muestra-fotografica-la-luz-en-si/
LOCATION:Galería de Arte\, Calle Melgar 109\, Arequipa\, Arequipa\, 04001
CATEGORIES:Artes visuales,Exposiciones,Presentaciones
ATTACH;FMTTYPE=image/png:https://cultural.edu.pe/wp-content/uploads/2025/03/Sin-titulo-5.png
END:VEVENT
END:VCALENDAR