BEGIN:VCALENDAR
VERSION:2.0
PRODID:-//Cultural Arequipa - ECPv6.0.13//NONSGML v1.0//EN
CALSCALE:GREGORIAN
METHOD:PUBLISH
X-ORIGINAL-URL:https://cultural.edu.pe
X-WR-CALDESC:Eventos para Cultural Arequipa
REFRESH-INTERVAL;VALUE=DURATION:PT1H
X-Robots-Tag:noindex
X-PUBLISHED-TTL:PT1H
BEGIN:VTIMEZONE
TZID:America/New_York
BEGIN:DAYLIGHT
TZOFFSETFROM:-0500
TZOFFSETTO:-0400
TZNAME:EDT
DTSTART:20250309T070000
END:DAYLIGHT
BEGIN:STANDARD
TZOFFSETFROM:-0400
TZOFFSETTO:-0500
TZNAME:EST
DTSTART:20251102T060000
END:STANDARD
END:VTIMEZONE
BEGIN:VEVENT
DTSTART;VALUE=DATE:20251010
DTEND;VALUE=DATE:20251011
DTSTAMP:20260422T122930
CREATED:20251001T210433Z
LAST-MODIFIED:20251001T210639Z
UID:14864-1760054400-1760140799@cultural.edu.pe
SUMMARY:Exhibición de Caricaturas: "Gran Premio Internacional de Caricatura Málaga Grenet 2025"
DESCRIPTION:✍️🌍 Gran Premio Internacional de Caricatura Málaga Grenet 2025Arequipa vuelve a convertirse en el epicentro del arte gráfico mundial con la tercera edición de este prestigioso certamen. \n📖 Sobre el premioEl Centro Cultural Peruano Norteamericano presenta\, por tercer año consecutivo\, el Gran Premio Internacional de Caricatura Málaga Grenet – 2025\, una cita que busca revalorizar el arte de la caricatura desde Arequipa hacia el mundo.En la edición anterior se recibieron más de 300 obras procedentes de 41 países\, lo que consolidó al concurso como uno de los más relevantes de su género a nivel internacional. \nEste galardón rinde homenaje a Julio Málaga Grenet\, considerado el artista gráfico más influyente de la primera mitad del siglo XX\, cuya obra destacó por su impecable técnica y su incisivo espíritu crítico frente a la realidad social y política de su tiempo. \nEn esta nueva edición celebramos al caricaturista español Matías Tolsà Montedoro\, ganador del certamen\, junto con una exhibición de 49 obras seleccionadas de artistas de distintas partes del mundo. \n🏆 Un homenaje vivoEl Gran Premio reconoce el legado de Málaga Grenet\, quien dejó huella en diversos géneros del arte gráfico como la ilustración literaria\, de moda\, la historieta\, el dibujo publicitario y\, especialmente\, la caricatura. \n🏛️ OrganizaCentro Cultural Peruano Norteamericano \n📍 LugarSala 2 · Galería de Arte\, Calle Melgar 109 – Arequipa \n🖼️ ExhibiciónDel 10 al 31 de octubre \n\n\nLunes a viernes: 8:30 – 19:00 h \n\n\nSábados: 10:00 – 16:00 h \n\n\n🎟️ Ingreso libre \n¡Sé parte de uno de los concursos de caricatura más importantes del mundo y celebra con nosotros el poder del arte gráfico! 🤩
URL:https://cultural.edu.pe/eventos/exhibicion-de-caricaturas-gran-premio-internacional-de-caricatura-malaga-grenet-2025/
LOCATION:Galería de Arte\, Calle Melgar 109\, Arequipa\, Arequipa\, 04001
CATEGORIES:Artes visuales,Exposiciones
ATTACH;FMTTYPE=image/jpeg:https://cultural.edu.pe/wp-content/uploads/2025/10/Caricaturas.jpg
ORGANIZER;CN="Cultural":MAILTO:cultura@cultural.edu.pe
END:VEVENT
END:VCALENDAR