BEGIN:VCALENDAR
VERSION:2.0
PRODID:-//Cultural Arequipa - ECPv6.0.13//NONSGML v1.0//EN
CALSCALE:GREGORIAN
METHOD:PUBLISH
X-ORIGINAL-URL:https://cultural.edu.pe
X-WR-CALDESC:Eventos para Cultural Arequipa
REFRESH-INTERVAL;VALUE=DURATION:PT1H
X-Robots-Tag:noindex
X-PUBLISHED-TTL:PT1H
BEGIN:VTIMEZONE
TZID:America/New_York
BEGIN:DAYLIGHT
TZOFFSETFROM:-0500
TZOFFSETTO:-0400
TZNAME:EDT
DTSTART:20250309T070000
END:DAYLIGHT
BEGIN:STANDARD
TZOFFSETFROM:-0400
TZOFFSETTO:-0500
TZNAME:EST
DTSTART:20251102T060000
END:STANDARD
END:VTIMEZONE
BEGIN:VEVENT
DTSTART;TZID=America/New_York:20251009T193000
DTEND;TZID=America/New_York:20251009T210000
DTSTAMP:20260422T123041
CREATED:20251001T135952Z
LAST-MODIFIED:20251001T205329Z
UID:14826-1760038200-1760043600@cultural.edu.pe
SUMMARY:Inauguración y Premiación: "Gran Premio Internacional de Caricatura Málaga Grenet 2025"
DESCRIPTION:Gran Premio Internacional de Caricatura Málaga Grenet 2025 ✍️🌍Arequipa se convierte una vez más en el epicentro del arte gráfico mundial con la tercera edición de este importante certamen. \n📖 Sobre el premioEl Centro Cultural Peruano Norteamericano presenta\, por tercer año consecutivo\, el Gran Premio Internacional de Caricatura Málaga Grenet – 2025\, un evento que busca revalorar el arte de la caricatura desde Arequipa para el mundo entero.En la edición pasada participaron más de 300 obras de 41 países\, consolidando a este concurso como uno de los más importantes del género a nivel internacional. \nEl certamen lleva el nombre de Julio Málaga Grenet\, reconocido como el artista gráfico más relevante de la primera mitad del siglo XX\, cuya obra destacó por su calidad técnica y su mordaz crítica social y política. \nEn esta nueva edición celebramos al caricaturista español Matías Tolsà Montedoro\, ganador del concurso\, acompañado de una exposición con 49 obras seleccionadas de artistas de todo el mundo. \n🏆 Un homenajeEl Gran Premio rinde tributo al legado de Málaga Grenet\, quien se desenvolvió en la ilustración literaria\, de moda\, el dibujo publicitario\, la historieta y\, sobre todo\, la caricatura. \n🏛️ OrganizaCentro Cultural Peruano Norteamericano \n📍 LugarSala 2 · Galería de Arte\, Calle Melgar 109 – Arequipa \n📅 Inauguración y PremiaciónJueves 9 de octubre \n🕖 Hora7:30 p.m. \n🖼️ ExhibiciónDel 10 al 31 de octubre \n\n\nLunes a viernes: 8:30 – 19:00 h \n\n\nSábados: 10:00 – 16:00 h \n\n\n🎟️ Ingreso libre¡Ven y sé parte de uno de los concursos de caricatura más importantes del mundo! 🤩
URL:https://cultural.edu.pe/eventos/inauguracion-y-premiacion-gran-premio-internacional-de-caricatura-malaga-grenet-2025/
LOCATION:Galería de Arte\, Calle Melgar 109\, Arequipa\, Arequipa\, 04001
CATEGORIES:Artes visuales,Exposiciones
ATTACH;FMTTYPE=image/png:https://cultural.edu.pe/wp-content/uploads/2025/10/Post-Inauguracion-.png
END:VEVENT
END:VCALENDAR