BEGIN:VCALENDAR
VERSION:2.0
PRODID:-//Cultural Arequipa - ECPv6.0.13//NONSGML v1.0//EN
CALSCALE:GREGORIAN
METHOD:PUBLISH
X-WR-CALNAME:Cultural Arequipa
X-ORIGINAL-URL:https://cultural.edu.pe
X-WR-CALDESC:Eventos para Cultural Arequipa
REFRESH-INTERVAL;VALUE=DURATION:PT1H
X-Robots-Tag:noindex
X-PUBLISHED-TTL:PT1H
BEGIN:VTIMEZONE
TZID:America/New_York
BEGIN:DAYLIGHT
TZOFFSETFROM:-0500
TZOFFSETTO:-0400
TZNAME:EDT
DTSTART:20240310T070000
END:DAYLIGHT
BEGIN:STANDARD
TZOFFSETFROM:-0400
TZOFFSETTO:-0500
TZNAME:EST
DTSTART:20241103T060000
END:STANDARD
END:VTIMEZONE
BEGIN:VEVENT
DTSTART;TZID=America/New_York:20241009T193000
DTEND;TZID=America/New_York:20241009T193000
DTSTAMP:20260423T063428
CREATED:20241001T142015Z
LAST-MODIFIED:20241001T150941Z
UID:12013-1728502200-1728502200@cultural.edu.pe
SUMMARY:Gran premio internacional de caricatura Málaga Grenet 2024
DESCRIPTION:🎨 GRAN PREMIO INTERNACIONAL DE CARICATURA MÁLAGA GRENET 2024 🎨\n¡El evento más esperado del arte gráfico regresa a Arequipa! 🌍 El Centro Cultural Peruano Norteamericano te invita a la inauguración de la segunda edición del Gran Premio Internacional de Caricatura Málaga Grenet 2024\, un concurso que busca celebrar y revalorar el arte de la caricatura a nivel global. \nEl año pasado\, más de 500 obras de 57 países participaron\, reuniendo a los más grandes exponentes de la caricatura universal y convirtiendo este premio en uno de los concursos más importantes del mundo. En la primera edición\, el galardón fue otorgado al talentoso caricaturista portugués Pedro Silva\, quien estuvo presente en nuestra ciudad para recibir el prestigioso premio. \nEste evento lleva el nombre de Julio Málaga Grenet\, uno de los artistas gráficos más influyentes de la primera mitad del siglo XX. Reconocido por su impecable técnica y por su crítica aguda a la sociedad y política de su época\, Málaga Grenet dejó una huella imborrable en géneros como la caricatura\, la ilustración literaria y publicitaria\, el dibujo de moda\, y más. \n📅 Inauguración:\nMiércoles\, 09 de octubre de 2024 \n🕖 Hora:\n19:30 hrs. \n📍 Lugar:\nGalería de Arte (Calle Melgar 109) \n¡No te pierdas esta oportunidad de admirar las mejores caricaturas del mundo y celebrar el legado artístico de Málaga Grenet! 🌟
URL:https://cultural.edu.pe/eventos/gran-premio-internacional-de-caricatura-malaga-grenet-2024/
LOCATION:Galería del Cultural\, Calle Melgar 109\, Arequipa\, Arequipa\, 04001\, Perú
CATEGORIES:Artes visuales
ATTACH;FMTTYPE=image/jpeg:https://cultural.edu.pe/wp-content/uploads/2024/10/Inauguracion-y-Premiacion-scaled.jpg
END:VEVENT
END:VCALENDAR