BEGIN:VCALENDAR
VERSION:2.0
PRODID:-//Cultural Arequipa - ECPv6.0.13//NONSGML v1.0//EN
CALSCALE:GREGORIAN
METHOD:PUBLISH
X-WR-CALNAME:Cultural Arequipa
X-ORIGINAL-URL:https://cultural.edu.pe
X-WR-CALDESC:Eventos para Cultural Arequipa
REFRESH-INTERVAL;VALUE=DURATION:PT1H
X-Robots-Tag:noindex
X-PUBLISHED-TTL:PT1H
BEGIN:VTIMEZONE
TZID:America/New_York
BEGIN:DAYLIGHT
TZOFFSETFROM:-0500
TZOFFSETTO:-0400
TZNAME:EDT
DTSTART:20240310T070000
END:DAYLIGHT
BEGIN:STANDARD
TZOFFSETFROM:-0400
TZOFFSETTO:-0500
TZNAME:EST
DTSTART:20241103T060000
END:STANDARD
END:VTIMEZONE
BEGIN:VEVENT
DTSTART;TZID=America/New_York:20240717T193000
DTEND;TZID=America/New_York:20240717T193000
DTSTAMP:20260423T103346
CREATED:20240619T165317Z
LAST-MODIFIED:20240706T222925Z
UID:10261-1721244600-1721244600@cultural.edu.pe
SUMMARY:Inauguración de Muestra: «Animal»
DESCRIPTION:Muestra de Acuarelas en Gran Formato: «Animal» 🎨🐒\n📅Fecha de Inauguración:\nMiércoles 17 de julio del 2024 \n🕢Hora:\n19:30 h \n📍Ubicación:\nGalería de Arte 1 \nDuración de la Muestra:\n📅Fechas:\nDel 17 de julio al 9 de agosto \n🕒Horario de Visita:\n– Lunes a Viernes: De 8:30 a 19:00 h\n– Sábados: De 10:00 a 16:00 h \nDescripción:\n«Animal» es una impresionante exhibición que presenta cerca de 40 obras en acuarela\, dibujo y acrílico\, todas centradas en la figura de los simios. Lejos de ser simples ilustraciones científicas\, estos retratos capturan la esencia y el espíritu de los animales\, ofreciendo una profunda reflexión sobre su naturaleza. La inspiración para esta serie surgió cuando el artista\, Villalba\, presenció a unos jóvenes mofándose de un chimpancé al darle cigarrillos y alcohol. El chimpancé\, imitando el comportamiento humano\, fumaba y bebía mientras mostraba expresiones que mezclaban risa forzada y tristeza profunda. Esta experiencia llevó a Villalba a reflexionar sobre el trato humano hacia los animales y cómo debería ser nuestra relación con ellos. 🐵🎨 \nReflexión del Artista:\nA través de estas piezas\, Villalba invita al espectador a cuestionarse: ¿Qué impacto tiene el comportamiento humano en los animales? ¿Cuál debería ser nuestra relación con ellos? Estos retratos conmovedores buscan despertar una mayor conciencia y empatía hacia todos los seres vivos. 🌿✨ \n¡No te pierdas esta emotiva y reflexiva exhibición! Ven y sumérgete en «Animal»\, una muestra que te llevará a reconsiderar nuestra conexión con el mundo animal. 🌍🖌️
URL:https://cultural.edu.pe/eventos/10261/
LOCATION:Galería de Arte\, Calle Melgar 109\, Arequipa\, Arequipa\, 04001
CATEGORIES:Artes visuales
ATTACH;FMTTYPE=image/png:https://cultural.edu.pe/wp-content/uploads/2024/06/Inauguracion-de-muestra.png
END:VEVENT
END:VCALENDAR