BEGIN:VCALENDAR
VERSION:2.0
PRODID:-//Cultural Arequipa - ECPv6.0.13//NONSGML v1.0//EN
CALSCALE:GREGORIAN
METHOD:PUBLISH
X-ORIGINAL-URL:https://cultural.edu.pe
X-WR-CALDESC:Eventos para Cultural Arequipa
REFRESH-INTERVAL;VALUE=DURATION:PT1H
X-Robots-Tag:noindex
X-PUBLISHED-TTL:PT1H
BEGIN:VTIMEZONE
TZID:America/New_York
BEGIN:DAYLIGHT
TZOFFSETFROM:-0500
TZOFFSETTO:-0400
TZNAME:EDT
DTSTART:20220313T070000
END:DAYLIGHT
BEGIN:STANDARD
TZOFFSETFROM:-0400
TZOFFSETTO:-0500
TZNAME:EST
DTSTART:20221106T060000
END:STANDARD
END:VTIMEZONE
BEGIN:VEVENT
DTSTART;TZID=America/New_York:20221003T083000
DTEND;TZID=America/New_York:20221014T173000
DTSTAMP:20260424T153853
CREATED:20230117T212752Z
LAST-MODIFIED:20230117T212752Z
UID:6912-1664785800-1665768600@cultural.edu.pe
SUMMARY:Exposición fotográfica colectiva: La naturaleza de lo posible – Instituto Thomas Jefferson
DESCRIPTION:Pasaron 2 años desde que la pandemia cambio nuestra manera de ver y entender el mundo\, en este tiempo tuvimos que adaptarnos a una nueva manera de enseñar y aprender.\nLa presente exposición ¨ La naturaleza de lo posible ¨ Nos muestra proyectos fotográficos documentales y subjetivos realizados por alumnos egresados del Instituto Thomas Jefferson durante el confinamiento\nEntre ellos podemos ver proyectos como el de Jan Gutiérrez quien nos muestra de cerca la belleza de las flores ornamentales mostrando en él un gran control técnico o el proyecto de Mayra Rivera quien interpreta y representa la vida\, obra y muerte de la escritora Argentina Alejandra Pizarnik proyectando en sus fotografías un amplio conocimiento del lenguaje visual. El esfuerzo de quienes se despiertan mientras el mundo duerme para preparar el inicio del día y así ganarse la vida\, es el tema tocado por Víctor Quicaño. La esencia de la Sierra Peruana\, su gente y sus costumbres son documentadas por Nataly Llerena o la nostalgia del paso del tiempo y como este se refleja en los muros de su hogar es el tema que aborda Valeria Morillo.\nSon 14 proyectos en los cuales se refleja el cómo cada uno de los fotógrafos que conforman esta exposición colectiva entienden el mundo y utilizan la fotografía para entenderse a ellos mismos despertando mecanismos de proyección y empatía básicos para representar lo que son en lo que ven.\n“El secreto de la fotografía es que la cámara adquiere el carácter y la personalidad del que la lleva” es un pensamiento del gran fotógrafo estadounidense Walker Evans y es en ese momento en el que descubres que la cámara fotográfica se convierte en una extensión de tu ser y es ahí cuando se abre un mundo de posibilidades para retratar el mundo y a uno mismo.\n \nAlonso Tejada Polar 
URL:https://cultural.edu.pe/eventos/exposicion-fotografica-colectiva-la-naturaleza-de-lo-posible-instituto-thomas-jefferson/
LOCATION:Galería del Cultural\, Calle Melgar 109\, Arequipa\, Arequipa\, 04001\, Perú
CATEGORIES:Artes visuales
ATTACH;FMTTYPE=image/jpeg:https://cultural.edu.pe/wp-content/uploads/2023/01/muestra-fotografia-thomas-jefferson.jpg
ORGANIZER;CN="Cultural":MAILTO:cultura@cultural.edu.pe
END:VEVENT
BEGIN:VEVENT
DTSTART;TZID=America/New_York:20221012T083000
DTEND;TZID=America/New_York:20221029T173000
DTSTAMP:20260424T153853
CREATED:20230117T213552Z
LAST-MODIFIED:20230117T213552Z
UID:6915-1665563400-1667064600@cultural.edu.pe
SUMMARY:Muestra colectiva de grabado: Panorama de la gráfica argentina
DESCRIPTION:Perú y Argentina tienen una historia artística con similitudes y diferencias. A partir del siglo XX\, las dos repúblicas enfrentaron los desafíos de la industrialización\, las migraciones del campo a la ciudad\, el populismo\, las dictaduras militares y los cambios de la posmodernidad que serán patentes en una obra gráfica que transitó por la abstracción\, la nueva figuración\, el Pop y otras tendencias que abordan temas sociales\, políticos y surrealistas. \nEl Centro Cultural Peruano Norteamericano de Arequipa se complace en presentar la exposición “Panorama de la Gráfica Argentina” con la participación de doce artistas de amplia trayectoria bajo la curaduría del reconocido grabador Marcelo Aguilar. La exposición tiene la virtud de reunir 48 obras de tres generaciones de grabadores con una gran variedad de estilos y temas tratados\, así como una envidiable maestría en la técnica\, incorporando en algunos casos\, un uso audaz del color. \nMarcelo Aguilar\, curador de la muestra nos comenta\, en nuestro país\, la historia del grabado adquiere suma importancia. El arte impreso fue y es de gran valor tanto en lo que respecta a la gráfica escrita\, como en referencia a lo social y popular.  \nA través de esta muestra se exhibe el panorama actual de la gráfica argentina\, donde confluyen tres generaciones de grabadores que\, valiéndose de una expresión artística con predominio de xilografías\, litografías y técnicas mixtas\, dejan entrever en sus trabajos la calidad del dibujo\, fundamental para el desarrollo de esta disciplina.  \nLa marca argentina queda impresa con igualdad de fuerza en esta indagación de identidad que permite converger\, a dichos grabadores\, independientemente de su edad\, contexto y trayectoria\, en el ímpetu con que afilan sus gubias y alzan la voz con sus grabados. Emergen así desde el impulso creativo\, siendo para la historia todos uno y parte a la vez\, y engalanando su esencia con cada estampa.
URL:https://cultural.edu.pe/eventos/muestra-colectiva-de-grabado-panorama-de-la-grafica-argentina/
LOCATION:Galería del Cultural\, Calle Melgar 109\, Arequipa\, Arequipa\, 04001\, Perú
CATEGORIES:Artes visuales
ATTACH;FMTTYPE=image/jpeg:https://cultural.edu.pe/wp-content/uploads/2023/01/muestra-grabado.jpg
ORGANIZER;CN="Cultural":MAILTO:cultura@cultural.edu.pe
END:VEVENT
END:VCALENDAR