BEGIN:VCALENDAR
VERSION:2.0
PRODID:-//Cultural Arequipa - ECPv6.0.13//NONSGML v1.0//EN
CALSCALE:GREGORIAN
METHOD:PUBLISH
X-WR-CALNAME:Cultural Arequipa
X-ORIGINAL-URL:https://cultural.edu.pe
X-WR-CALDESC:Eventos para Cultural Arequipa
REFRESH-INTERVAL;VALUE=DURATION:PT1H
X-Robots-Tag:noindex
X-PUBLISHED-TTL:PT1H
BEGIN:VTIMEZONE
TZID:America/New_York
BEGIN:DAYLIGHT
TZOFFSETFROM:-0500
TZOFFSETTO:-0400
TZNAME:EDT
DTSTART:20220313T070000
END:DAYLIGHT
BEGIN:STANDARD
TZOFFSETFROM:-0400
TZOFFSETTO:-0500
TZNAME:EST
DTSTART:20221106T060000
END:STANDARD
END:VTIMEZONE
BEGIN:VEVENT
DTSTART;TZID=America/New_York:20220406T100000
DTEND;TZID=America/New_York:20220514T153000
DTSTAMP:20260424T233150
CREATED:20220405T143324Z
LAST-MODIFIED:20220405T162834Z
UID:6391-1649239200-1652542200@cultural.edu.pe
SUMMARY:Exposición fotográfica: Visiones del Altiplano
DESCRIPTION:La presente exposición está conformada por las muestras fotográficas “Apthapi” y “Puraqta Kay”. La primera fue una colectiva que surgió del Festival Internacional 2020 “Apthapi fotográfico”\, que se presentó en el Centro Cultural Peruano Norteamericano (sede Puno). En esta exposición curada por Michaela Novotna y que estuvo dedicada a la Fiesta de la Virgen de la Candelaria\, se presentaron los trabajos de Renzo Núñez\, Denis Mayhua\, Bengi Pancca\, Alfiery Rojo\, Juan José Finch\, Víctor Neira y Uriel Montúfar. La segunda exposición\, “Puraqta Kay (dualidad andina)”\, es una individual de Uriel Montúfar presentada virtualmente a través de las redes del Cultural de Arequipa y que  está conformada por una selección de fotografías realizadas en la emblemática isla de Amantaní (ubicada en el lago Titicaca) del “Ritual de Pachamama y Pachatata”. \nLas tradiciones comentadas siguen realizándose en sus lugares de origen\, pero también\, algunas de sus características se han difundido en toda la Región Sur del Perú. Ante un fenómeno de tal magnitud\, pensamos es necesario promover el conocimiento del alma de un pueblo que se expresa a través de sus costumbres\, por ello\, esta selección de imágenes reunidas en la muestra “Visiones del Altiplano”\, son un pequeño aporte para la construcción de un Perú más integrado y orgulloso de su diversidad.
URL:https://cultural.edu.pe/eventos/exposicion-fotografica-visiones-del-altiplano/
LOCATION:Galería del Cultural\, Calle Melgar 109\, Arequipa\, Arequipa\, 04001\, Perú
CATEGORIES:Artes visuales
ATTACH;FMTTYPE=image/jpeg:https://cultural.edu.pe/wp-content/uploads/2022/04/visiones-del-altiplano.jpg
END:VEVENT
END:VCALENDAR