BEGIN:VCALENDAR
VERSION:2.0
PRODID:-//Cultural Arequipa - ECPv6.0.13//NONSGML v1.0//EN
CALSCALE:GREGORIAN
METHOD:PUBLISH
X-WR-CALNAME:Cultural Arequipa
X-ORIGINAL-URL:https://cultural.edu.pe
X-WR-CALDESC:Eventos para Cultural Arequipa
REFRESH-INTERVAL;VALUE=DURATION:PT1H
X-Robots-Tag:noindex
X-PUBLISHED-TTL:PT1H
BEGIN:VTIMEZONE
TZID:America/New_York
BEGIN:DAYLIGHT
TZOFFSETFROM:-0500
TZOFFSETTO:-0400
TZNAME:EDT
DTSTART:20250309T070000
END:DAYLIGHT
BEGIN:STANDARD
TZOFFSETFROM:-0400
TZOFFSETTO:-0500
TZNAME:EST
DTSTART:20251102T060000
END:STANDARD
END:VTIMEZONE
BEGIN:VEVENT
DTSTART;VALUE=DATE:20250509
DTEND;VALUE=DATE:20250703
DTSTAMP:20260422T160322
CREATED:20250329T204646Z
LAST-MODIFIED:20250623T210519Z
UID:13485-1746748800-1751500799@cultural.edu.pe
SUMMARY:"Concurso Internacional de Caricatura ‘Málaga Grenet’ - 3.ª Edición"
DESCRIPTION:Be part of the Great International Caricature Competition Malaga Grenet 2025! 🖌️🎨🌍\n📢 For the third consecutive year\, the Peruvian-North American Cultural Center of Arequipa convenes the MÁLAGA GRENET INTERNATIONAL CARICATURE COMPETITION – 2025\, which seeks to revalue the art of caricature from Arequipa to the whole world. Last year\, the contest gathered more than 300 works from 41 countries\, with the participation of the greatest exponents of universal caricature\, which made the contest one of the most important in the world. The winner of the second edition was the Argentine caricaturist Juan Francisco Miranda\, who won the award and was in our city to receive the coveted prize. \n✍️ The contest is named after Julio Málaga Grenet\, since he is the most important graphic artist of the first half of the 20th century\, both for the technical and compositional quality of his formal language and for the sharp discourse of social and political criticism of his time. Malaga Grenet developed in various genres of graphic art such as literary illustration\, fashion illustration\, advertising drawing\, cartoons and caricature. \n\n\n\n\n\n📆 Deadline for submitting cartoons:\nJuly 2\, 2025 \n🕜 Time:\nMidnight (peruvian time) \n📝 Registration:\nCheck the terms and conditions and register through the following link: https://forms.gle/pAUotEKcAKNUva7v6 \n🤓 For further information\, please contact:\n\nMaría del Carmen Morales\, Culture Coordinator / Peruvian-North American Cultural Center / Telf:  959924785\nmariadelcarmen.morales@cultural.edu.pe\nOmar Zevallos\, Contest Commissioner / Telf: 995022224\nomarzev@yahoo.com\n\n➖➖➖➖➖➖➖➖➖➖➖➖➖➖➖➖➖➖➖➖➖➖➖➖➖➖➖➖➖➖➖➖➖➖➖➖➖➖➖➖➖➖➖➖➖➖➖➖➖➖➖➖➖➖➖➖➖➖➖ \n¡Sé parte del Gran Concurso Internacional de Caricatura Málaga Grenet 2025! 🖌️🎨🌍\n📢 Por tercer año consecutivo el Centro Cultural Peruano Norteamericano de Arequipa convoca al CONCURSO INTERNACIONAL DE CARICATURA MÁLAGA GRENET – 2025\, que busca revalorar el arte de la caricatura desde Arequipa para el mundo entero. El año pasado\, el concurso reunió a más de 300 obras de 41 países\, con la participación de los más grandes exponentes de la caricatura universal\, lo que convirtió al concurso en uno de los más importantes del mundo. El ganador de la segunda edición fue el caricaturista argentino\, Juan Francisco Miranda\, quien se llevó el galardón y estuvo en nuestra ciudad para recibir el codiciado premio. \n✍️ El Concurso lleva el nombre de Julio Málaga Grenet ya que es el artista gráfico más importante de la primera mitad del siglo XX\, tanto por la calidad técnica y compositiva de su lenguaje formal como por el agudo discurso de crítica social y política de su época. Málaga Grenet se desenvolvió en diversos géneros del arte gráfico como son la ilustración literaria\, la ilustración de moda\, el dibujo publicitario\, la historieta y la caricatura. \n📆 Fecha límite de envío de caricaturas:\nMartes\, 2 de julio de 2025 \n🕜 Hora:\n00:00 h (hora peruana) \n📝 Inscripción:\nRevisa las bases y regístrate a través del siguiente link: https://forms.gle/pAUotEKcAKNUva7v6 \n🤓 Mayor información\, contactar a:\n\nMaría del Carmen Morales\, Coordinadora de Cultura / Centro Cultural Peruano Norteamericano / Telf:  959924785\nmariadelcarmen.morales@cultural.edu.pe\nOmar Zevallos\, Curador del concurso / Telf: 995022224\nomarzev@yahoo.com
URL:https://cultural.edu.pe/eventos/concurso-internacional-de-caricatura-malaga-grenet-3-a-edicion/
LOCATION:Arequipa
CATEGORIES:Artes escénicas,Artes visuales,Concursos
ATTACH;FMTTYPE=image/png:https://cultural.edu.pe/wp-content/uploads/2025/03/WEB.png
END:VEVENT
BEGIN:VEVENT
DTSTART;TZID=America/New_York:20250606T083000
DTEND;TZID=America/New_York:20250704T190000
DTSTAMP:20260422T160322
CREATED:20250610T160436Z
LAST-MODIFIED:20250626T172523Z
UID:14028-1749198600-1751655600@cultural.edu.pe
SUMMARY:«Des-profanaciones» del artista Vicente López de Romaña
DESCRIPTION:🖼️ «Reflexión y descubrimiento» 🧠\nSilenciosamente\, la mayoría de las personas han sufrido programaciones que “profanaron” su interioridad\, por ello\, hoy es necesario aprender a “desprogramarse” y si quedan fuerzas… empezar de nuevo. \n“Des-profanaciones” es una muestra del artista Vicente López de Romaña que se caracteriza por el ensamble de juguetes y objetos utilitarios antiguos. En dicho corpus se percibe una reflexión sobre el espíritu infantil asediado por la sociedad de consumo\, las ideologías y sus modelos mentales. Al mismo tiempo\, es un retorno al oficio del juguetero que se relaciona con el niño que elabora relatos fantásticos y con el científico/mago que aplica sus conocimientos de filosofía\, astronomía y biología para confeccionar autómatas\, seres híbridos o escenas delirantes. \nEl artista pasó por una institución religiosa donde sufrió una programación mental que luego exorcizó a través del arte. Al final de un largo recorrido quedaron el sarcasmo y la capacidad de distinguir al lobo del cordero para evitar la profanación de un espacio que siempre debió ser tratado con el más profundo respeto y admiración. \n👨‍🎨 Sobre el artista Vicente López de Romaña \nVicente López de Romaña\, nació en Arequipa\, Perú en 1979.  \nAl finalizar sus estudios escolares en esa ciudad\, se trasladó a Lima\, donde\, en 1997\, ingresó al Sodalitium Christianae Vitae\, congregación religiosa a la que perteneció durante quince años. \nPosteriormente\, la institución lo envió a Santiago de Chile\, donde residió durante diez años. \nDurante ese período\, cursó un año de estudios en artes plásticas en la Universidad Finis Terrae. \nPosteriormente\, estudió diseño gráfico durante dos años en la Universidad del Pacífico. Más tarde\, cursó filosofía y teología en la Universidad Católica de Chile\, hasta que en 2011 decidió dejar la congregación y regresar a Lima. \nEn ese año ingresó a la escuela de arte y diseño Corriente Alterna hasta el 2015 año que se gradúa. \n🎨 Exposiciones \n\n2015 Individual\, Prima Facie\, Tostaduria Bisetti\, Lima\n2013 Colectivo “Umano”\, Lima\n2014 Exposición colectiva\, Sublimaciones\, Embajada de Perú\, Buenos Aires \n2021 ArtLima\, Galería Casa Cuadrada\, Bogotá-Zürich \n2024 Exposición colectiva\, White Noise\, Galería Martín Yépez\, Lima\n2024 Individual\, Des-profanaciones\, Lopez y Lopez Estudio\, Lima\n2025 Exposición colectiva\, Art Toys\, Corriente Alterna\, Lima\n2025 Exposición Des-profanaciones\, Galería de Arte del Centro Cultural Peruano Norteamericano\, Arequipa\n\n\n🖼️ Duración de la muestra:\nDel viernes 6 de junio al viernes 4 de julio \n⏰ Horarios de visita:\n\nLunes a viernes: 8:30 a 19:00 h.\nSábados: 10:00 a 16:00 h.\n\n\n Lugar:\n\nGalería de Arte (Calle Melgar 109) \n\n🎟️ INGRESO LIBRE
URL:https://cultural.edu.pe/eventos/des-profanaciones-del-artista-vicente-lopez-de-romana/
LOCATION:Galería de Arte\, Calle Melgar 109\, Arequipa\, Arequipa\, 04001
CATEGORIES:Artes escénicas,Artes visuales,Exposiciones,Presentaciones
ATTACH;FMTTYPE=image/png:https://cultural.edu.pe/wp-content/uploads/2025/06/foto-web.png
END:VEVENT
BEGIN:VEVENT
DTSTART;TZID=America/New_York:20250716T193000
DTEND;TZID=America/New_York:20250716T193000
DTSTAMP:20260422T160322
CREATED:20250329T212123Z
LAST-MODIFIED:20250916T165210Z
UID:13500-1752694200-1752694200@cultural.edu.pe
SUMMARY:Inauguración de la Muestra Fotográfica: Liese Ricketts\, La Peregrina Curiosa
DESCRIPTION:🎨 ¡Descubre la fascinante obra de Liese Ricketts! 🌍\nLiese Ricketts (Chicago\, 1948)\, hija de un médico arequipeño y una filósofa alemana\, es una artista multidisciplinaria con una trayectoria fascinante. Sus estudios de arqueología\, latín y griego en Roma y Nueva York sentaron las bases de su visión única. Tras un periodo en Perú\, donde contrajo matrimonio en 1973 con Luis Palao Beranstain (de quien se separó amistosamente)\, se trasladó a EE. UU. en 1982. Allí\, cursó un posgrado y desarrolló una prolífica carrera artística que suma más de 90 exposiciones. \nEn su nueva exposición\, «La Peregrina Curiosa»\, Liese Ricketts nos invita a explorar un universo intrigante a través de 32 collages fotográficos y 14 ferrotipos intervenidos. Estas obras evocan un mundo inquietante con figuras reanimadas que desafían la percepción. \n🎨 Sobre la Artista: Liese Ricketts\n🎓 Experiencia Académica \n\n1999: Certificado de Primer Año\, Programa de Publicaciones\, Universidad de Chicago.\n1986 – 1988: Maestría en Bellas Artes (M.F.A.)\, School of the Art Institute of Chicago\, Chicago\, IL.\n1983 – 1985: Maestría en Comunicaciones Mediáticas\, Governors State University\, University Park\, IL.\n1966 – 1970: Licenciatura en Letras Clásicas\, magna cum laude\, Manhattanville College\, Purchase\, NY.\n1968 – 1969: Universidad de Stanford\, Centro Intercolegial de Estudios Clásicos\, Roma\, Italia.\n\n💼 Experiencia Profesional \n\n2023: Inclusión en el Departamento de Colecciones Especiales y Archivos Universitarios de las Bibliotecas de UMass Amherst.\nSeptiembre 1988 – 2014: Profesora Emérita\, University of Chicago Laboratory Schools.\n1992 – 2000: Directora de Talleres\, Paper Source Chicago.\n1998 – 2003: Diseñadora y Editora de Nota Bene\, revista profesional de la Universidad de Chicago.\n1997 – 2000: Profesora a tiempo parcial\, Columbia College\, Centro de Artes del Libro y del Papel.\nJulio 1991 – 1993: Profesora a tiempo parcial\, School of the Art Institute of Chicago.\nJunio 1986 – Septiembre 1988: Profesora a tiempo parcial\, Prairie State College\, Chicago Heights\, IL.\nEnero 1987 – Mayo 1987: Profesora a tiempo parcial\, Valparaiso University\, Valparaiso\, IN.\nJunio 1983 – Junio 2006: Editora Asociada y Coordinadora de Producción para especiales de PBS-TV y redes de cable en Marz and Associates\, Chicago\, IL. Con créditos televisivos nacionales por su trabajo en documentales como:\n\nLittle Mexico (2006)\nA Home I Had (1986)\nRussia: Love It or Leave It (1986)\nPortrait of America: Washington\, DC (1986)\nWhite Oak Goes Black (1985)\nWelcome to America (1985)\nBlack Pols\, White Press (1984)\nJewish Mother (1984)\nAdemás de fotografías publicitarias para White Oak Goes Black (1984) y Russia: Love It or Leave It (1984).\n\n\n1985: Exposición fotográfica por encargo\, Indiana Dunes National Lakeshore\, Indiana.\n1980 – 1983: Directora del Instituto Cultural Peruano Norteamericano\, Arequipa\, Perú\, supervisando clases de inglés para más de 2\,000 estudiantes y la coordinación administrativa de 70 empleados.\n1977 – 1980: Colegio Angloamericano Prescott\, Arequipa\, Perú.\n\n\n Fecha:\nmiércoles 16 de julio \n\n\n Hora: \n7: 30 p.m. \n\n\n Lugar:\n\nGalería de Arte (Calle Melgar 109) \n🗓️ Duración de la muestra:\nDel 17 de julio al 15 de septiembre \n\nHorarios:\n\nLunes a viernes: 8:30 a.m. – 7:30 p.m.\nSábados: 10:00 a.m. – 4:00 p.m.\n\n\n\n🎟️ Ingreso Libre
URL:https://cultural.edu.pe/eventos/inauguracion-de-la-muestra-fotografica-la-peregrina-curiosa/
LOCATION:Galería de Arte\, Calle Melgar 109\, Arequipa\, Arequipa\, 04001
CATEGORIES:Artes escénicas,Artes visuales,Exposiciones
ATTACH;FMTTYPE=image/png:https://cultural.edu.pe/wp-content/uploads/2025/03/muestra-web-1.png
END:VEVENT
BEGIN:VEVENT
DTSTART;TZID=America/New_York:20250717T000000
DTEND;TZID=America/New_York:20250915T235900
DTSTAMP:20260422T160322
CREATED:20250719T172050Z
LAST-MODIFIED:20250916T165343Z
UID:14273-1752710400-1757980740@cultural.edu.pe
SUMMARY:Visita la Galería de Arte: "Liese Ricketts\, La peregrina curiosa"
DESCRIPTION:🎨 ¡Descubre la fascinante obra de Liese Ricketts! 🌍\nLiese Ricketts (Chicago\, 1948)\, hija de un médico arequipeño y una filósofa alemana\, es una artista multidisciplinaria con una trayectoria fascinante. Sus estudios de arqueología\, latín y griego en Roma y Nueva York sentaron las bases de su visión única. Tras un periodo en Perú\, donde contrajo matrimonio en 1973 con Luis Palao Beranstain (de quien se separó amistosamente)\, se trasladó a EE. UU. en 1982. Allí\, cursó un posgrado y desarrolló una prolífica carrera artística que suma más de 90 exposiciones. \nEn su nueva exposición\, «La peregrina curiosa»\, Liese Ricketts nos invita a explorar un universo intrigante a través de 32 collages fotográficos y 14 ferrotipos intervenidos. Estas obras evocan un mundo inquietante con figuras reanimadas que desafían la percepción. \n🎨 Sobre la Artista: Liese Ricketts\n🎓 Experiencia Académica \n\n1999: Certificado de Primer Año\, Programa de Publicaciones\, Universidad de Chicago.\n1986 – 1988: Maestría en Bellas Artes (M.F.A.)\, School of the Art Institute of Chicago\, Chicago\, IL.\n1983 – 1985: Maestría en Comunicaciones Mediáticas\, Governors State University\, University Park\, IL.\n1966 – 1970: Licenciatura en Letras Clásicas\, magna cum laude\, Manhattanville College\, Purchase\, NY.\n1968 – 1969: Universidad de Stanford\, Centro Intercolegial de Estudios Clásicos\, Roma\, Italia.\n\n💼 Experiencia Profesional \n\n2023: Inclusión en el Departamento de Colecciones Especiales y Archivos Universitarios de las Bibliotecas de UMass Amherst.\nSeptiembre 1988 – 2014: Profesora Emérita\, University of Chicago Laboratory Schools.\n1992 – 2000: Directora de Talleres\, Paper Source Chicago.\n1998 – 2003: Diseñadora y Editora de Nota Bene\, revista profesional de la Universidad de Chicago.\n1997 – 2000: Profesora a tiempo parcial\, Columbia College\, Centro de Artes del Libro y del Papel.\nJulio 1991 – 1993: Profesora a tiempo parcial\, School of the Art Institute of Chicago.\nJunio 1986 – Septiembre 1988: Profesora a tiempo parcial\, Prairie State College\, Chicago Heights\, IL.\nEnero 1987 – Mayo 1987: Profesora a tiempo parcial\, Valparaiso University\, Valparaiso\, IN.\nJunio 1983 – Junio 2006: Editora Asociada y Coordinadora de Producción para especiales de PBS-TV y redes de cable en Marz and Associates\, Chicago\, IL. Con créditos televisivos nacionales por su trabajo en documentales como:\n\nLittle Mexico (2006)\nA Home I Had (1986)\nRussia: Love It or Leave It (1986)\nPortrait of America: Washington\, DC (1986)\nWhite Oak Goes Black (1985)\nWelcome to America (1985)\nBlack Pols\, White Press (1984)\nJewish Mother (1984)\nAdemás de fotografías publicitarias para White Oak Goes Black (1984) y Russia: Love It or Leave It (1984).\n\n\n1985: Exposición fotográfica por encargo\, Indiana Dunes National Lakeshore\, Indiana.\n1980 – 1983: Directora del Instituto Cultural Peruano Norteamericano\, Arequipa\, Perú\, supervisando clases de inglés para más de 2\,000 estudiantes y la coordinación administrativa de 70 empleados.\n1977 – 1980: Colegio Angloamericano Prescott\, Arequipa\, Perú.\n\n\n Lugar:\n\nGalería de Arte (Calle Melgar 109) \n🗓️ Duración de la muestra:\nDel 17 de julio al 15 de septiembre \n\nHorarios:\n\nDe Lunes a viernes: 8:30 a.m. – 7:30 p.m.\nSábados: 10:00 a.m. – 4:00 p.m.\n\n\n\n🎟️ Ingreso Libre
URL:https://cultural.edu.pe/eventos/liese-ricketts-la-peregrina-curiosa/
LOCATION:Galería de Arte\, Calle Melgar 109\, Arequipa\, Arequipa\, 04001
CATEGORIES:Artes escénicas,Artes visuales,Exposiciones
ATTACH;FMTTYPE=image/png:https://cultural.edu.pe/wp-content/uploads/2025/06/conversatorio-2-web.png
END:VEVENT
END:VCALENDAR