BEGIN:VCALENDAR
VERSION:2.0
PRODID:-//Cultural Arequipa - ECPv6.0.13//NONSGML v1.0//EN
CALSCALE:GREGORIAN
METHOD:PUBLISH
X-ORIGINAL-URL:https://cultural.edu.pe
X-WR-CALDESC:Eventos para Cultural Arequipa
REFRESH-INTERVAL;VALUE=DURATION:PT1H
X-Robots-Tag:noindex
X-PUBLISHED-TTL:PT1H
BEGIN:VTIMEZONE
TZID:America/New_York
BEGIN:DAYLIGHT
TZOFFSETFROM:-0500
TZOFFSETTO:-0400
TZNAME:EDT
DTSTART:20250309T070000
END:DAYLIGHT
BEGIN:STANDARD
TZOFFSETFROM:-0400
TZOFFSETTO:-0500
TZNAME:EST
DTSTART:20251102T060000
END:STANDARD
END:VTIMEZONE
BEGIN:VEVENT
DTSTART;TZID=America/New_York:20250320T083000
DTEND;TZID=America/New_York:20250422T193000
DTSTAMP:20260422T220935
CREATED:20250320T172341Z
LAST-MODIFIED:20250722T145253Z
UID:13260-1742459400-1745350200@cultural.edu.pe
SUMMARY:Exposición Fotográfica: "Desde nuestros lentes"
DESCRIPTION:  El Cultural te invita a descubrir historias únicas contadas a través de la mirada de los exalumnos de la Promoción 2024 del curso de Fotografía del Instituto de Educación Superior Thomas Jefferson. \n\n💡 Sobre la muestra:\n«Desde nuestros lentes» es una ventana abierta a las miradas únicas de los estudiantes de fotografía\, quienes a través de sus 21 proyectos personales nos invitan a explorar distintas realidades\, emociones y perspectivas. Cada imagen refleja una historia individual\, un enfoque creativo y una interpretación del mundo que los rodea. Esta muestra es un viaje visual que demuestra el poder del lente como herramienta de expresión\, comunicación y reflexión. Los proyectos expuestos no solo capturan momentos\, sino que también invitan al espectador a cuestionar\, sentir y conectar con cada visión propuesta. En «Desde nuestros lentes»\, la diversidad de enfoques es el hilo conductor que une las experiencias y los sueños de estos jóvenes artistas. \n📅 Inauguración:\nmiércoles 19 de marzo \n⏰ Hora:\n7:30 p.m. \n📍 Lugar:\nGalería de Arte \n🖼️ Duración de la muestra:\nDel jueves 20 de marzo al martes 22 de abril de 2024 \n Ingreso libre \n⏰ Horarios de visita:\n\nLunes a viernes: 8:30 a 19:00 h.\nSábados: 10:00 a 16:00 h.\n\n¡Te esperamos para experimentar una experiencia única! 🔝
URL:https://cultural.edu.pe/eventos/desde-nuestros-lentes/
LOCATION:Arequipa
CATEGORIES:Artes visuales,Exposiciones
ATTACH;FMTTYPE=image/jpeg:https://cultural.edu.pe/wp-content/uploads/2025/03/Visita-la-Galeria-scaled.jpg
END:VEVENT
BEGIN:VEVENT
DTSTART;TZID=America/New_York:20250429T190000
DTEND;TZID=America/New_York:20250429T190000
DTSTAMP:20260422T220935
CREATED:20250329T170915Z
LAST-MODIFIED:20250331T172540Z
UID:13451-1745953200-1745953200@cultural.edu.pe
SUMMARY:Conversatorio en torno a la exposición: "El mundo al revez o la locura de los hombres"
DESCRIPTION:📜 El Sueño de la Razón… (produce monstruos) 🧐\nSobre las ilusiones ilusas.  \nEn el arte y en la historia. \nHistoria del arte\, \nhisteria del mundo. \n🎨 Participan:  \n🖌️ Javier Ruzo OcampoArtista plástico con estudios en Europa y posgrado en el Boston College of Art. Expone desde 1981\, con 21 muestras individuales y más de 130 colectivas en 20 países. Premiado en la Bienal de Cuenca (1998)\, su obra se exhibe en más de una docena de museos y colecciones internacionales. Su creatividad abarca fotografía\, grabado\, litografía y papel hecho a mano\, además de publicaciones en poesía y gastronomía. \n📖 Gustavo BuntinxHistoriador del arte\, egresado ‘magna cum laude’ de la Universidad de Harvard. Ha enseñado en la Universidad Nacional Mayor de San Marcos (UNMSM) y en los posgrados de la Universidad de Buenos Aires (UBA)\, Universidad Nacional Autónoma de México (UNAM) y Universidad de Sao Paulo (USP).Como curador e historiador del arte\, ha realizado exposiciones y publicaciones en diversos países\, explorando las relaciones entre arte y violencia\, arte y política\, arte y religión. Sus escritos han sido acogidos por importantes instituciones en Perú y el mundo\, incluyendo MIT Press\, el Museo de Arte de Lima\, el New Museum de Nueva York y el Museo de Arte Latinoamericano de Buenos Aires. \n\n Fecha:\nmartes 29 de abril \n\n\n Hora: \n7: 00 p.m. \n\n\n Lugar:\n\nAuditorio (Calle Melgar 109) \n🎟️ INGRESO LIBRE
URL:https://cultural.edu.pe/eventos/conversatorio-en-torno-a-la-exposicion-el-mundo-al-revez-o-la-locura-de-los-hombres/
LOCATION:Auditorio del Cultural\, Calle Melgar 109\, Arequipa\, Arequipa\, 04001\, Perú
CATEGORIES:Artes escénicas,Artes visuales,Exposiciones,Presentaciones
ATTACH;FMTTYPE=image/jpeg:https://cultural.edu.pe/wp-content/uploads/2025/03/conversatorio-scaled.jpg
END:VEVENT
BEGIN:VEVENT
DTSTART;TZID=America/New_York:20250430T193000
DTEND;TZID=America/New_York:20250430T193000
DTSTAMP:20260422T220935
CREATED:20250328T223811Z
LAST-MODIFIED:20250407T143410Z
UID:13429-1746041400-1746041400@cultural.edu.pe
SUMMARY:Inauguración de la exposición pictórica: "El mundo al revez o la locura de los hombres"
DESCRIPTION:🖼️ «Misticidad y Otras Rebeliones» 🌍\nEn esta muestra desconcertante Javier Ruzo confronta las ilusiones de su propia producción anterior\, aferrada a las promesas cósmicas del saber místico. Impresionantes manifestaciones pictóricas ahora desafiadas por reelaboraciones gráficas de las estampas «jocoserias» asociadas al repertorio popular de la inversión simétrica del orden dado. Un género histórico que adquiere renovados sentidos en nuestra actualidad disparatada. Ese presente trastornado en el que el Gran Teatro del Mundo es el del absurdo. Y el sueño de la razón produce monstruos.  Pero también\, ojalá\, algo de Esperanza: atención a ese grabado singular en que es el hombre quien hace suya la guadaña.   Para darle muerte a la Muerte misma.  Así sea. 👨‍🎨 A cargo del artista: Javier Ruzo Ocampo Artista plástico con estudios en Europa y posgrado en el Boston College of Art. Expone desde 1981 y tiene a su haber veintiún muestras individuales y más de ciento treinta colectivas en veinte diferentes países. Ha sido premiado en la Bienal de Cuenca de 1998. Ha obtenido varias residencias y becas de arte. Su obra se exhibe en más de una docena de museos y colecciones alrededor del mundo. Su quehacer creativo también incluye fotografía\, grabado\, litografía\, papel a mano. Ha publicado libros de poesía y gastronomía. \n\n Fecha:\nmiércoles 30 de abril \n\n\n Hora: \n7: 30 p.m. \n\n Lugar:\n\nGalería de Arte (Calle Melgar 109) 
URL:https://cultural.edu.pe/eventos/%f0%9f%96%bc%ef%b8%8f-inauguracion-de-la-exposicion-pictorica-el-mundo-al-revez-o-la-locura-de-los-hombres-%f0%9f%96%8c%ef%b8%8f/
LOCATION:Galería de Arte\, Calle Melgar 109\, Arequipa\, Arequipa\, 04001
CATEGORIES:Artes visuales,Exposiciones
ATTACH;FMTTYPE=image/png:https://cultural.edu.pe/wp-content/uploads/2025/03/foto-principal-20.png
END:VEVENT
END:VCALENDAR