BEGIN:VCALENDAR
VERSION:2.0
PRODID:-//Cultural Arequipa - ECPv6.0.13//NONSGML v1.0//EN
CALSCALE:GREGORIAN
METHOD:PUBLISH
X-ORIGINAL-URL:https://cultural.edu.pe
X-WR-CALDESC:Eventos para Cultural Arequipa
REFRESH-INTERVAL;VALUE=DURATION:PT1H
X-Robots-Tag:noindex
X-PUBLISHED-TTL:PT1H
BEGIN:VTIMEZONE
TZID:America/New_York
BEGIN:DAYLIGHT
TZOFFSETFROM:-0500
TZOFFSETTO:-0400
TZNAME:EDT
DTSTART:20210314T070000
END:DAYLIGHT
BEGIN:STANDARD
TZOFFSETFROM:-0400
TZOFFSETTO:-0500
TZNAME:EST
DTSTART:20211107T060000
END:STANDARD
END:VTIMEZONE
BEGIN:VEVENT
DTSTART;TZID=America/New_York:20211105T170000
DTEND;TZID=America/New_York:20211105T180000
DTSTAMP:20260425T070638
CREATED:20211102T164416Z
LAST-MODIFIED:20211102T164432Z
UID:5996-1636131600-1636135200@cultural.edu.pe
SUMMARY:Muestra fotográfica y conversatorio virtual: "Sin interés aparente" de Juan Carlos Belón
DESCRIPTION:«En el fondo toda obra es un sistema\, hecho de correspondencias \ninternas\, de ecos y de resonancias\, de reactivaciones\, de \ndesplazamientos y de variaciones. Generalmente\, esa dimensión sistémica \nno aparece al comienzo sino llegando a la madurez\, es allí que se \nconstituye y se amplifica a medida que la obra crece y se diversifica \npara devenir un vasto complejo interior.» Jean-Max Colard. \n  \nLa exposición de Juan Carlos Belón reúne una selección de imágenes fotográficas organizadas en series\, producidas entre finales de los años 70′ y el 2016. Se trata de una colección de imágenes\, producto de una larga acumulación subterránea\, capturas organizadas de sus encuentros con lo real. \nSe trata de una revisión crítica de un archivo fotográfico\, re-lectura realizada con la intención de mostrar los territorios tanto geográficos como mentales por los que ha transitado. Así como comprender las diferentes temporalidades presentes en la obra. Ha dado lugar\, asimismo\, a una serie de libros que pueden consultarse en el sitio de  \nhttps://fotografiaperuana.com/category/a-emigradoa/belon-juan-carlos/ \nEs una producción que contiene imágenes que provienen de archivos analógicos (films de diversos formatos en B&N y a color)y digitales en los años recientes.
URL:https://cultural.edu.pe/eventos/muestra-fotografica-juan-carlos-belon/
LOCATION:Facebook Live\, Perú
CATEGORIES:Artes visuales,Presentaciones
ATTACH;FMTTYPE=image/jpeg:https://cultural.edu.pe/wp-content/uploads/2021/11/muestra-fotografica-sin-interes-aparente.jpg
END:VEVENT
END:VCALENDAR