BEGIN:VCALENDAR
VERSION:2.0
PRODID:-//Cultural Arequipa - ECPv6.0.13//NONSGML v1.0//EN
CALSCALE:GREGORIAN
METHOD:PUBLISH
X-ORIGINAL-URL:https://cultural.edu.pe
X-WR-CALDESC:Eventos para Cultural Arequipa
REFRESH-INTERVAL;VALUE=DURATION:PT1H
X-Robots-Tag:noindex
X-PUBLISHED-TTL:PT1H
BEGIN:VTIMEZONE
TZID:America/New_York
BEGIN:DAYLIGHT
TZOFFSETFROM:-0500
TZOFFSETTO:-0400
TZNAME:EDT
DTSTART:20210314T070000
END:DAYLIGHT
BEGIN:STANDARD
TZOFFSETFROM:-0400
TZOFFSETTO:-0500
TZNAME:EST
DTSTART:20211107T060000
END:STANDARD
END:VTIMEZONE
BEGIN:VEVENT
DTSTART;TZID=America/New_York:20210811T193000
DTEND;TZID=America/New_York:20210811T203000
DTSTAMP:20260425T113312
CREATED:20210804T222402Z
LAST-MODIFIED:20210804T222402Z
UID:5725-1628710200-1628713800@cultural.edu.pe
SUMMARY:Inauguración virtual y conversatorio: Puraqta kay (dualidad andina)
DESCRIPTION:Puraqta Kay (dualidad Andina)\n\n\nExposición virtual de fotografía. Uriel Montúfar \nUriel Montúfar es un fotógrafo puneño que ha expuesto en Alemania\, Chile\,Colombia\, India\, Marruecos\, México y Suiza. En esta ocasión\, nos presenta un trabajo documental acerca del “Ritual de Pachamama y Pachatata”\, que se realiza sobre dos templos pre incas ubicados en los cerros tutelares de la isla de Amantani. La realización de esta serie es el fruto de varias visitas realizadas durante ochos años para recoger un conjunto de imágenes que nos acercan al mundo cultural de sus habitantes.
URL:https://cultural.edu.pe/eventos/inauguracion-puraqta-kay/
LOCATION:Facebook Live\, Perú
CATEGORIES:Artes visuales,Presentaciones
ATTACH;FMTTYPE=image/jpeg:https://cultural.edu.pe/wp-content/uploads/2021/08/inauguracion-puraqta-kay.jpg
END:VEVENT
END:VCALENDAR