BEGIN:VCALENDAR
VERSION:2.0
PRODID:-//Cultural Arequipa - ECPv6.0.13//NONSGML v1.0//EN
CALSCALE:GREGORIAN
METHOD:PUBLISH
X-WR-CALNAME:Cultural Arequipa
X-ORIGINAL-URL:https://cultural.edu.pe
X-WR-CALDESC:Eventos para Cultural Arequipa
REFRESH-INTERVAL;VALUE=DURATION:PT1H
X-Robots-Tag:noindex
X-PUBLISHED-TTL:PT1H
BEGIN:VTIMEZONE
TZID:America/New_York
BEGIN:DAYLIGHT
TZOFFSETFROM:-0500
TZOFFSETTO:-0400
TZNAME:EDT
DTSTART:20210314T070000
END:DAYLIGHT
BEGIN:STANDARD
TZOFFSETFROM:-0400
TZOFFSETTO:-0500
TZNAME:EST
DTSTART:20211107T060000
END:STANDARD
END:VTIMEZONE
BEGIN:VEVENT
DTSTART;TZID=America/New_York:20210616T193000
DTEND;TZID=America/New_York:20210616T203000
DTSTAMP:20260425T143037
CREATED:20210604T190508Z
LAST-MODIFIED:20210607T200706Z
UID:5454-1623871800-1623875400@cultural.edu.pe
SUMMARY:Inauguración virtual y conversatorio: Nueva figura humana
DESCRIPTION:Con la llegada de una nueva etapa de la historia del arte\, siempre surgirá una “Nueva Figura Humana”\, que revela la visión del mundo que se encuentra detrás. La posmodernidad es el contexto donde una nueva generación conformada por José Carlos Chávez\, Cristal Luque y Naim Shanti\, viene sorprendiendo por la solvencia en el trato de la figura humana y que ahora se presentan colectivamente en la exposición “Nueva Figura Humana” en el Centro Cultural Peruano Norteamericano de Arequipa.\n\nEl conjunto de las obras presentadas refleja un camino promisorio\, pero al mismo tiempo\, ha sido una ocasión para auscultar las diversas vertientes que se van cruzando en este intrincado mundo contemporáneo.
URL:https://cultural.edu.pe/eventos/nueva-figura-humana/
LOCATION:Facebook Live\, Perú
CATEGORIES:Artes visuales
ATTACH;FMTTYPE=image/jpeg:https://cultural.edu.pe/wp-content/uploads/2021/06/muestra-de-dibujo-nueva-figura-humana.jpg
END:VEVENT
BEGIN:VEVENT
DTSTART;TZID=America/New_York:20210625T193000
DTEND;TZID=America/New_York:20210625T203000
DTSTAMP:20260425T143037
CREATED:20210504T165549Z
LAST-MODIFIED:20210607T200952Z
UID:5356-1624649400-1624653000@cultural.edu.pe
SUMMARY:Inauguración virtual y conversatorio: "Dibujar/Respirar" de Miguel Reynel
DESCRIPTION:“DIBUJAR / RESPIRAR” de Miguel Reynel.\nReynel es un cirujano que tiene una maestría en Ilustración médica por el Medical College of Georgia. Si bien dedica la mayor parte de su tiempo al ejercicio de la medicina\, se las ingenia para cultivar su verdadera pasión: el dibujo.\nLa presente exposición está constituida por dibujos con una clara influencia de Leonardo\, Picasso\, Beardsley y Málaga Grenet\, la mayoría ejecutados con bolígrafo sobre papeles de uso cotidiano abordando los temas de la mitología griega\, la anatomía renacentista\, la caricatura surrealista y el paisaje.\n\n“Dibujar/Respirar” es una lección acerca de la importancia del buen dibujo para todos los artistas.
URL:https://cultural.edu.pe/eventos/dibujar-respirar/
LOCATION:Facebook Live\, Perú
CATEGORIES:Artes visuales,Presentaciones
ATTACH;FMTTYPE=image/png:https://cultural.edu.pe/wp-content/uploads/2021/05/dibujar-respirar-miguel-reynel-1.png
END:VEVENT
END:VCALENDAR