BEGIN:VCALENDAR
VERSION:2.0
PRODID:-//Cultural Arequipa - ECPv6.0.13//NONSGML v1.0//EN
CALSCALE:GREGORIAN
METHOD:PUBLISH
X-WR-CALNAME:Cultural Arequipa
X-ORIGINAL-URL:https://cultural.edu.pe
X-WR-CALDESC:Eventos para Cultural Arequipa
REFRESH-INTERVAL;VALUE=DURATION:PT1H
X-Robots-Tag:noindex
X-PUBLISHED-TTL:PT1H
BEGIN:VTIMEZONE
TZID:America/New_York
BEGIN:DAYLIGHT
TZOFFSETFROM:-0500
TZOFFSETTO:-0400
TZNAME:EDT
DTSTART:20210314T070000
END:DAYLIGHT
BEGIN:STANDARD
TZOFFSETFROM:-0400
TZOFFSETTO:-0500
TZNAME:EST
DTSTART:20211107T060000
END:STANDARD
END:VTIMEZONE
BEGIN:VEVENT
DTSTART;TZID=America/New_York:20210320T123000
DTEND;TZID=America/New_York:20210331T000000
DTSTAMP:20260425T184928
CREATED:20210301T153117Z
LAST-MODIFIED:20210301T153117Z
UID:3257-1616243400-1617148800@cultural.edu.pe
SUMMARY:Muestra de fotografía: "Paysages d' un exile"
DESCRIPTION:En el año 2005\, el fotógrafo mallorquín Rif Spahni\, empezó el ensayo Paysages d’un exile\, una reflexión sobre los campamentos saharauis enla hamada argelina\, pleno desierto del Sáhara dónde se establecieron los desplazados por la ocupación marroquí del Sáhara Occidental en1975.\nEn el año 2006\, cuando se presentó por primera vez esta muestra\, que ya ha visitado varios países\, el número de desplazados a la fuerza en el mundo era\, según la ACNUR\, la Agencia de Naciones Unidas para los Refugiados\, de 45 millones de personas\, cinco años después\, la cifra supera los 70 millones de personas.\nEn épocas de HD\, selfies y fotos al alcance de un clic de tu celular\, Spahni elige una cámara estenopeica o pinhole de madera\, elaborada por el hongkonés Zernike Au\, para presentarnos su poética versión de una dura realidad que no es exclusiva del medio oriente\, los desplazados por guerras\, por la intolerancia\, por hambre\, violencia o por cambios climáticos han afectado de alguna manera casi todo el planeta. Los protagonistas saharauis de esta muestra\, son un lamentable ejemplo\nde como una situación que se prolonga en el tiempo termina por adormecer uno de los atributos principales que determinan nuestra humanidad\, la empatía y la compasión\, ambas resultan vitales para la vida en sociedad. En el año 2020 se cumplieron 45 años de este exilio y los campamentos siguen ahí\, son más de 200.000 personas las que habitan esas tierras inhóspitas y el tiempo sigue pasando en silencio. Hoy\, son otros los desplazados que llaman nuestra atención\ny pronto ellos también serán ignorados por otros.\n\nHoy más que nunca es importante poder ponerse en el lugar del otro. Las obras de Rif Spahni\, nos regalan esa oportunidad y nos invitan a imaginar el mundo que queremos para nosotros y nuestros hijos\, y nos recuerdan que en un planeta globalizado y cada vez más chico\, debido a la interconexión\, física y virtual\, son imprescindibles el respeto y la tolerancia a otras culturas.\nNo te pierdas la inauguración y conversatorio de nuestra primera muestra virtual del año 2021\, te esperamos este sábado 20 de marzo desde las 12:30 pm. ¡Pasa la voz!
URL:https://cultural.edu.pe/eventos/muestra-paysages-d-un-exile/
LOCATION:Facebook Live\, Perú
CATEGORIES:Artes visuales
ATTACH;FMTTYPE=image/jpeg:https://cultural.edu.pe/wp-content/uploads/2021/03/muestra-paysages-d-un-exile.jpg
END:VEVENT
END:VCALENDAR