BEGIN:VCALENDAR
VERSION:2.0
PRODID:-//Cultural Arequipa - ECPv6.0.13//NONSGML v1.0//EN
CALSCALE:GREGORIAN
METHOD:PUBLISH
X-WR-CALNAME:Cultural Arequipa
X-ORIGINAL-URL:https://cultural.edu.pe
X-WR-CALDESC:Eventos para Cultural Arequipa
REFRESH-INTERVAL;VALUE=DURATION:PT1H
X-Robots-Tag:noindex
X-PUBLISHED-TTL:PT1H
BEGIN:VTIMEZONE
TZID:America/New_York
BEGIN:DAYLIGHT
TZOFFSETFROM:-0500
TZOFFSETTO:-0400
TZNAME:EDT
DTSTART:20250309T070000
END:DAYLIGHT
BEGIN:STANDARD
TZOFFSETFROM:-0400
TZOFFSETTO:-0500
TZNAME:EST
DTSTART:20251102T060000
END:STANDARD
END:VTIMEZONE
BEGIN:VEVENT
DTSTART;VALUE=DATE:20251211
DTEND;VALUE=DATE:20251212
DTSTAMP:20260422T123602
CREATED:20251201T202909Z
LAST-MODIFIED:20251201T205054Z
UID:15219-1765411200-1765497599@cultural.edu.pe
SUMMARY:Conversatorio: "La luz en sí"
DESCRIPTION:📸 Conversatorio: “La Luz en sí”\n🖼️ Con Antonio Escalante Loredo y Jorge Villacorta\nComo parte de las actividades alrededor de la exposición\, se realizará un conversatorio especial con Antonio Escalante y el curador Jorge Villacorta\, quienes compartirán el proceso detrás de estas imágenes\, la recuperación de técnicas históricas y el valor de la materialidad fotográfica en tiempos digitales. \nSerá un espacio para profundizar en la relación entre luz\, tiempo y mirada; conocer de cerca los desafíos de trabajar con procedimientos analógicos del siglo XIX; y comprender cómo la obra de Escalante reinterpreta la fotografía desde una perspectiva contemporánea. \nUna oportunidad única para dialogar con el artista y el curador sobre la búsqueda creativa\, los procesos manuales y la vigencia de las técnicas históricas en el arte actual. ✨ \n📅 Fecha: Jueves 11 de diciembre🕕 Hora: 7:00 p. m.📍 Lugar: Teatro del Cultural👥 Modalidad: Presencial🎟️ Ingreso libre
URL:https://cultural.edu.pe/eventos/conversatorio-la-luz-en-si/
LOCATION:Teatro del Cultural\, Calle Melgar 109\, Arequipa\, Arequipa\, 04001\, Perú
CATEGORIES:Artes escénicas,Artes visuales,Exposiciones
ATTACH;FMTTYPE=image/png:https://cultural.edu.pe/wp-content/uploads/2025/12/Conversatorio.png
END:VEVENT
END:VCALENDAR