BEGIN:VCALENDAR
VERSION:2.0
PRODID:-//Cultural Arequipa - ECPv6.0.13//NONSGML v1.0//EN
CALSCALE:GREGORIAN
METHOD:PUBLISH
X-ORIGINAL-URL:https://cultural.edu.pe
X-WR-CALDESC:Eventos para Cultural Arequipa
REFRESH-INTERVAL;VALUE=DURATION:PT1H
X-Robots-Tag:noindex
X-PUBLISHED-TTL:PT1H
BEGIN:VTIMEZONE
TZID:America/New_York
BEGIN:DAYLIGHT
TZOFFSETFROM:-0500
TZOFFSETTO:-0400
TZNAME:EDT
DTSTART:20250309T070000
END:DAYLIGHT
BEGIN:STANDARD
TZOFFSETFROM:-0400
TZOFFSETTO:-0500
TZNAME:EST
DTSTART:20251102T060000
END:STANDARD
END:VTIMEZONE
BEGIN:VEVENT
DTSTART;TZID=America/New_York:20250926T190000
DTEND;TZID=America/New_York:20250926T210000
DTSTAMP:20260422T161148
CREATED:20250912T135417Z
LAST-MODIFIED:20250916T172515Z
UID:14755-1758913200-1758920400@cultural.edu.pe
SUMMARY:Presentación Teatral «El Gesto»
DESCRIPTION:🎭 Cuando el silencio se convierte en un lenguaje universal ✨\nEl elenco de actores sordos del II Festival Internacional de Teatro Accesible\, junto a Teatrando\, presenta “El Gesto”\, una puesta en escena que demuestra que la comunicación va más allá de las palabras. 🖐🏽 \nA través del cuerpo\, la expresión y el arte visual en vivo\, el público recorre un viaje por la vida humana: desde el nacimiento hasta la muerte\, pasando por la inocencia del juego\, la rebeldía de la adolescencia y los gestos de amor\, poder\, identidad y memoria que nos unen o nos separan 🖐🏽. \n✨ Una experiencia única que conmueve\, conecta y nos invita a descubrir el teatro sin barreras. \n🎟️ INGRESO LIBRE\n\nAsegura tu lugar completando el formulario de inscripción.\nLas entradas estarán disponibles hasta agotar stock.\n\n📍 Lugar:\nTeatro\, Calle Melgar 109 \n📅 Fecha\nViernes 26 de septiembre \n🕖 Hora\n7:00 p.m. \n¡Los esperamos! 🤩\n💜 Gracias a Teatrando por hacer posible un teatro verdaderamente inclusivo.\n 
URL:https://cultural.edu.pe/eventos/presentacion-teatral-el-gesto/
LOCATION:Teatro del Cultural\, Calle Melgar 109\, Arequipa\, Arequipa\, 04001\, Perú
CATEGORIES:Artes escénicas,Presentaciones
ATTACH;FMTTYPE=image/jpeg:https://cultural.edu.pe/wp-content/uploads/2025/09/El-Gesto-Web-1.jpg
ORGANIZER;CN="Cultural":MAILTO:cultura@cultural.edu.pe
END:VEVENT
END:VCALENDAR