BEGIN:VCALENDAR
VERSION:2.0
PRODID:-//Cultural Arequipa - ECPv6.0.13//NONSGML v1.0//EN
CALSCALE:GREGORIAN
METHOD:PUBLISH
X-ORIGINAL-URL:https://cultural.edu.pe
X-WR-CALDESC:Eventos para Cultural Arequipa
REFRESH-INTERVAL;VALUE=DURATION:PT1H
X-Robots-Tag:noindex
X-PUBLISHED-TTL:PT1H
BEGIN:VTIMEZONE
TZID:America/New_York
BEGIN:DAYLIGHT
TZOFFSETFROM:-0500
TZOFFSETTO:-0400
TZNAME:EDT
DTSTART:20250309T070000
END:DAYLIGHT
BEGIN:STANDARD
TZOFFSETFROM:-0400
TZOFFSETTO:-0500
TZNAME:EST
DTSTART:20251102T060000
END:STANDARD
END:VTIMEZONE
BEGIN:VEVENT
DTSTART;TZID=America/New_York:20250429T190000
DTEND;TZID=America/New_York:20250429T190000
DTSTAMP:20260423T072633
CREATED:20250329T170915Z
LAST-MODIFIED:20250331T172540Z
UID:13451-1745953200-1745953200@cultural.edu.pe
SUMMARY:Conversatorio en torno a la exposición: "El mundo al revez o la locura de los hombres"
DESCRIPTION:📜 El Sueño de la Razón… (produce monstruos) 🧐\nSobre las ilusiones ilusas.  \nEn el arte y en la historia. \nHistoria del arte\, \nhisteria del mundo. \n🎨 Participan:  \n🖌️ Javier Ruzo OcampoArtista plástico con estudios en Europa y posgrado en el Boston College of Art. Expone desde 1981\, con 21 muestras individuales y más de 130 colectivas en 20 países. Premiado en la Bienal de Cuenca (1998)\, su obra se exhibe en más de una docena de museos y colecciones internacionales. Su creatividad abarca fotografía\, grabado\, litografía y papel hecho a mano\, además de publicaciones en poesía y gastronomía. \n📖 Gustavo BuntinxHistoriador del arte\, egresado ‘magna cum laude’ de la Universidad de Harvard. Ha enseñado en la Universidad Nacional Mayor de San Marcos (UNMSM) y en los posgrados de la Universidad de Buenos Aires (UBA)\, Universidad Nacional Autónoma de México (UNAM) y Universidad de Sao Paulo (USP).Como curador e historiador del arte\, ha realizado exposiciones y publicaciones en diversos países\, explorando las relaciones entre arte y violencia\, arte y política\, arte y religión. Sus escritos han sido acogidos por importantes instituciones en Perú y el mundo\, incluyendo MIT Press\, el Museo de Arte de Lima\, el New Museum de Nueva York y el Museo de Arte Latinoamericano de Buenos Aires. \n\n Fecha:\nmartes 29 de abril \n\n\n Hora: \n7: 00 p.m. \n\n\n Lugar:\n\nAuditorio (Calle Melgar 109) \n🎟️ INGRESO LIBRE
URL:https://cultural.edu.pe/eventos/conversatorio-en-torno-a-la-exposicion-el-mundo-al-revez-o-la-locura-de-los-hombres/
LOCATION:Auditorio del Cultural\, Calle Melgar 109\, Arequipa\, Arequipa\, 04001\, Perú
CATEGORIES:Artes escénicas,Artes visuales,Exposiciones,Presentaciones
ATTACH;FMTTYPE=image/jpeg:https://cultural.edu.pe/wp-content/uploads/2025/03/conversatorio-scaled.jpg
END:VEVENT
END:VCALENDAR