BEGIN:VCALENDAR
VERSION:2.0
PRODID:-//Cultural Arequipa - ECPv6.0.13//NONSGML v1.0//EN
CALSCALE:GREGORIAN
METHOD:PUBLISH
X-ORIGINAL-URL:https://cultural.edu.pe
X-WR-CALDESC:Eventos para Cultural Arequipa
REFRESH-INTERVAL;VALUE=DURATION:PT1H
X-Robots-Tag:noindex
X-PUBLISHED-TTL:PT1H
BEGIN:VTIMEZONE
TZID:America/New_York
BEGIN:DAYLIGHT
TZOFFSETFROM:-0500
TZOFFSETTO:-0400
TZNAME:EDT
DTSTART:20240310T070000
END:DAYLIGHT
BEGIN:STANDARD
TZOFFSETFROM:-0400
TZOFFSETTO:-0500
TZNAME:EST
DTSTART:20241103T060000
END:STANDARD
END:VTIMEZONE
BEGIN:VEVENT
DTSTART;TZID=America/New_York:20240705T190000
DTEND;TZID=America/New_York:20240705T190000
DTSTAMP:20260423T184841
CREATED:20240619T163852Z
LAST-MODIFIED:20240705T005924Z
UID:10255-1720206000-1720206000@cultural.edu.pe
SUMMARY:Presentación de Andrés Chimango Lares y la danza de tijeras
DESCRIPTION:Presentación de Andrés Chimango Lares y la Danza de Tijeras 💃✨\nÚnete a una noche de cultura y tradición\nTe invitamos a disfrutar de una espectacular presentación de Andrés Chimango Lares y la fascinante Danza de Tijeras. Sumérgete en la rica tradición de esta danza originaria de la región Chanka\, Perú\, y experimenta una noche llena de música\, danza y cultura. 🎻🌄 \n📅Fecha:\nViernes 05 de julio 2024 \n🕢Hora:\n19:00 h \n📍Lugar:\nTeatro \n✂️ Sobre la danza de tijeras:\nLa Danza de Tijeras\, también conocida como danza de gala\, proviene de la región Chanka en el Perú. Acompañada por el sonido del violín y el arpa\, esta danza se ha difundido a las regiones de Huancavelica\, Ayacucho y Apurímac. En cada región\, la danza adopta nombres distintos: Saqras en Apurímac\, Danzaq en Ayacucho\, y Gala en Huancavelica. José María Arguedas popularizó el término “danzante de tijeras” debido a las dos láminas de acero que los bailarines entrechocan mientras ejecutan sus movimientos. 🩰✨ \n📋Programa del evento:\n\nCánticos Rituales: La noche comenzará con cánticos rituales alusivos a la Fiesta del Agua\, en agradecimiento a la naturaleza – Pachamama. 🌊🌿\nHuaynos Tradicionales: A continuación\, se interpretarán huaynos tradicionales de la región\, acompañados por el marco musical. 🎶🌄\nDanza de Tijeras: El evento principal será la Danza de Tijeras\, destacándose un “Atipanacuy” entre los cuatro ejecutantes\, quienes ofrecerán una impresionante performance llena de secuencias de baile\, pruebas de valor y acrobacias. 💃🤸‍♂️\n\n🎟️Información sobre entradas:\nCompra de entradas AQUI \nPre-Venta (hasta el lunes 24 de junio):\n\nPlatea Baja: S/40.00\nPlatea Alta: S/30.00\nMezzanine: S/25.00\n\nCosto Regular:\n\nPlatea Baja: S/50.00\nPlatea Alta: S/40.00\nMezzanine: S/30.00\n\n¡No te pierdas esta oportunidad única de presenciar una manifestación cultural tan vibrante y llena de historia! Ven y disfruta de una noche mágica con Andrés Chimango Lares y la Danza de Tijeras. 🌟🎭✨
URL:https://cultural.edu.pe/eventos/10255/
LOCATION:Teatro del Cultural\, Calle Melgar 109\, Arequipa\, Arequipa\, 04001\, Perú
CATEGORIES:Artes escénicas
ATTACH;FMTTYPE=image/png:https://cultural.edu.pe/wp-content/uploads/2024/06/1-3.png
END:VEVENT
END:VCALENDAR