BEGIN:VCALENDAR
VERSION:2.0
PRODID:-//Cultural Arequipa - ECPv6.0.13//NONSGML v1.0//EN
CALSCALE:GREGORIAN
METHOD:PUBLISH
X-ORIGINAL-URL:https://cultural.edu.pe
X-WR-CALDESC:Eventos para Cultural Arequipa
REFRESH-INTERVAL;VALUE=DURATION:PT1H
X-Robots-Tag:noindex
X-PUBLISHED-TTL:PT1H
BEGIN:VTIMEZONE
TZID:America/New_York
BEGIN:DAYLIGHT
TZOFFSETFROM:-0500
TZOFFSETTO:-0400
TZNAME:EDT
DTSTART:20240310T070000
END:DAYLIGHT
BEGIN:STANDARD
TZOFFSETFROM:-0400
TZOFFSETTO:-0500
TZNAME:EST
DTSTART:20241103T060000
END:STANDARD
END:VTIMEZONE
BEGIN:VEVENT
DTSTART;TZID=America/New_York:20240628T193000
DTEND;TZID=America/New_York:20240628T193000
DTSTAMP:20260423T202119
CREATED:20240515T164112Z
LAST-MODIFIED:20240624T165241Z
UID:10113-1719603000-1719603000@cultural.edu.pe
SUMMARY:Presentación de Concierto de música country con Ashley Campbell y Thor Jensen
DESCRIPTION:🎶 ¡No te pierdas el emocionante concierto de música country con Ashley Campbell y Thor Jensen! 🎸\n📆 Fecha:\nViernes\, 28 de junio \n🕜Hora:\n19:30 hrs. \n📍 Lugar:\nTeatro \n🎟️ Entradas:\nIngreso libre hasta completar aforo \nRegistra tu asistencia AQUI \n🤠 Invitados por la Embajada de los Estados Unidos y El Cultural\, este dúo de músicos estadounidenses llega a Arequipa para celebrar el aniversario de independencia de los Estados Unidos. 🇺🇸 Acompáñanos y disfruta de música tradicional de estilo Country y Americana\, así como de éxitos de leyendas como Dolly Parton\, Hank Williams\, George Jones\, Patsy Cline y Glenn Campbell\, padre de la talentosa Ashley. 🎶 \n🎻 Ashley Campbell y Thor Jensen forman el dúo Campbell/Jensen desde 2021. Ashley\, con su raíces en el Country y Americana\, y Thor\, con una experiencia diversa que abarca desde el rock hasta el jazz\, crean juntos un sonido fresco y único. Ashley\, hija de la leyenda del country Glen Campbell\, ha conquistado escenarios de todo el mundo con su música original\, incluyendo el O2 Arena de Londres y conciertos en Japón. Thor Jensen\, virtuoso guitarrista y compositor de Nueva York\, ha viajado interpretando música Americana y Jazz. ¡No te pierdas su álbum debut «Turtle Cottage»! 🐢🎶
URL:https://cultural.edu.pe/eventos/presentacion-de-concierto-de-musica-country-con-ashley-campbell-y-thor-jensen/
LOCATION:Teatro del Cultural\, Calle Melgar 109\, Arequipa\, Arequipa\, 04001\, Perú
CATEGORIES:Artes escénicas
ATTACH;FMTTYPE=image/png:https://cultural.edu.pe/wp-content/uploads/2024/05/Post-Concierto-de-Country-1.png
END:VEVENT
END:VCALENDAR