BEGIN:VCALENDAR
VERSION:2.0
PRODID:-//Cultural Arequipa - ECPv6.0.13//NONSGML v1.0//EN
CALSCALE:GREGORIAN
METHOD:PUBLISH
X-ORIGINAL-URL:https://cultural.edu.pe
X-WR-CALDESC:Eventos para Cultural Arequipa
REFRESH-INTERVAL;VALUE=DURATION:PT1H
X-Robots-Tag:noindex
X-PUBLISHED-TTL:PT1H
BEGIN:VTIMEZONE
TZID:America/New_York
BEGIN:DAYLIGHT
TZOFFSETFROM:-0500
TZOFFSETTO:-0400
TZNAME:EDT
DTSTART:20230312T070000
END:DAYLIGHT
BEGIN:STANDARD
TZOFFSETFROM:-0400
TZOFFSETTO:-0500
TZNAME:EST
DTSTART:20231105T060000
END:STANDARD
END:VTIMEZONE
BEGIN:VEVENT
DTSTART;TZID=America/New_York:20230826T160000
DTEND;TZID=America/New_York:20230826T160000
DTSTAMP:20260424T101038
CREATED:20230726T162843Z
LAST-MODIFIED:20230731T153057Z
UID:8507-1693065600-1693065600@cultural.edu.pe
SUMMARY:Cuentacuentos: El Ruiseñor
DESCRIPTION:Descripción:\nUn rey sordo no permite a ninguna ave cantora habitar sus jardines. Un día\, su hija entabla amistad con un ruiseñor y se enamora de su canto. \n*Ingreso libre hasta completar aforo.
URL:https://cultural.edu.pe/eventos/cuentacuentos-el-ruisenor/
LOCATION:Auditorio del Cultural\, Calle Melgar 109\, Arequipa\, Arequipa\, 04001\, Perú
CATEGORIES:Artes escénicas
ATTACH;FMTTYPE=image/png:https://cultural.edu.pe/wp-content/uploads/2023/07/Post-Cuentacuentos-06.png
END:VEVENT
END:VCALENDAR