BEGIN:VCALENDAR
VERSION:2.0
PRODID:-//Cultural Arequipa - ECPv6.0.13//NONSGML v1.0//EN
CALSCALE:GREGORIAN
METHOD:PUBLISH
X-ORIGINAL-URL:https://cultural.edu.pe
X-WR-CALDESC:Eventos para Cultural Arequipa
REFRESH-INTERVAL;VALUE=DURATION:PT1H
X-Robots-Tag:noindex
X-PUBLISHED-TTL:PT1H
BEGIN:VTIMEZONE
TZID:America/New_York
BEGIN:DAYLIGHT
TZOFFSETFROM:-0500
TZOFFSETTO:-0400
TZNAME:EDT
DTSTART:20230312T070000
END:DAYLIGHT
BEGIN:STANDARD
TZOFFSETFROM:-0400
TZOFFSETTO:-0500
TZNAME:EST
DTSTART:20231105T060000
END:STANDARD
END:VTIMEZONE
BEGIN:VEVENT
DTSTART;TZID=America/New_York:20230721T200000
DTEND;TZID=America/New_York:20230722T200000
DTSTAMP:20260424T112539
CREATED:20230703T144813Z
LAST-MODIFIED:20230703T214236Z
UID:8202-1689969600-1690056000@cultural.edu.pe
SUMMARY:Obra Teatral: AQP Beats
DESCRIPTION:Descripción: \nEl Elenco de Teatro del Centro Cultural Peruano Norteamericano de Arequipa nos presenta un collage de dramaturgia arequipeña. Reunión de fragmentos de textos escritos en nuestra localidad dentro de los dos últimos años. “Yawarlla Perú” y “El Valle de las Burundangas” por el grupo Teatro del Tercer Piso\, “Relave” por Jéssica Vidal\, “Un Elefante más” por el grupo Cable Roto Teatro. Escritos que coinciden en cuestionar el amor y sus intrincadas relaciones\, dándonos una revelación de nuestras máscaras sociales\, mostrando saltos temporales que nos exponen una radiografía de la memoria humana. Este joven grupo de actores y actrices hacen uso del cuerpo como principal y único elemento vivo en escena para sumergirnos en el imaginario dramático de cuatro historias distintas. \nFechas de presentaciones: \n\nPrimera:\n\nViernes 21 de julio\n20:00 h.\n\n\nSegunda: \n\nSábado 22 de julio\n20:00 h.\n\n\n\n*Ingreso libre hasta completar aforo. \n 
URL:https://cultural.edu.pe/eventos/obra-teatral-aqp-beats/
LOCATION:Auditorio del Cultural\, Calle Melgar 109\, Arequipa\, Arequipa\, 04001\, Perú
CATEGORIES:Artes escénicas,Artes visuales
ATTACH;FMTTYPE=image/png:https://cultural.edu.pe/wp-content/uploads/2023/07/Post-Teatro-6-06.png
ORGANIZER;CN="Cultural":MAILTO:cultura@cultural.edu.pe
END:VEVENT
END:VCALENDAR