BEGIN:VCALENDAR
VERSION:2.0
PRODID:-//Cultural Arequipa - ECPv6.0.13//NONSGML v1.0//EN
CALSCALE:GREGORIAN
METHOD:PUBLISH
X-ORIGINAL-URL:https://cultural.edu.pe
X-WR-CALDESC:Eventos para Cultural Arequipa
REFRESH-INTERVAL;VALUE=DURATION:PT1H
X-Robots-Tag:noindex
X-PUBLISHED-TTL:PT1H
BEGIN:VTIMEZONE
TZID:America/New_York
BEGIN:DAYLIGHT
TZOFFSETFROM:-0500
TZOFFSETTO:-0400
TZNAME:EDT
DTSTART:20220313T070000
END:DAYLIGHT
BEGIN:STANDARD
TZOFFSETFROM:-0400
TZOFFSETTO:-0500
TZNAME:EST
DTSTART:20221106T060000
END:STANDARD
END:VTIMEZONE
BEGIN:VEVENT
DTSTART;TZID=America/New_York:20220129T160000
DTEND;TZID=America/New_York:20220129T163000
DTSTAMP:20260425T141445
CREATED:20220113T162308Z
LAST-MODIFIED:20220113T162308Z
UID:6227-1643472000-1643473800@cultural.edu.pe
SUMMARY:Cuentacuentos: Pequeño capitán Jimy
DESCRIPTION:Jimy es un niño de pequeña estatura que sueña con convertirse en un gran pirata\, y un día logra realizar su sueño\, pero las cosas no salen como esperaba.
URL:https://cultural.edu.pe/eventos/cuentacuentos-pequeno-capitan-jimy/
LOCATION:Facebook Live\, Perú
CATEGORIES:Artes escénicas
ATTACH;FMTTYPE=image/jpeg:https://cultural.edu.pe/wp-content/uploads/2022/01/cuentacuentos-pequeno-capitan-jimy.jpg
END:VEVENT
END:VCALENDAR