BEGIN:VCALENDAR
VERSION:2.0
PRODID:-//Cultural Arequipa - ECPv6.0.13//NONSGML v1.0//EN
CALSCALE:GREGORIAN
METHOD:PUBLISH
X-ORIGINAL-URL:https://cultural.edu.pe
X-WR-CALDESC:Eventos para Cultural Arequipa
REFRESH-INTERVAL;VALUE=DURATION:PT1H
X-Robots-Tag:noindex
X-PUBLISHED-TTL:PT1H
BEGIN:VTIMEZONE
TZID:America/New_York
BEGIN:DAYLIGHT
TZOFFSETFROM:-0500
TZOFFSETTO:-0400
TZNAME:EDT
DTSTART:20210314T070000
END:DAYLIGHT
BEGIN:STANDARD
TZOFFSETFROM:-0400
TZOFFSETTO:-0500
TZNAME:EST
DTSTART:20211107T060000
END:STANDARD
END:VTIMEZONE
BEGIN:VEVENT
DTSTART;TZID=America/New_York:20211127T160000
DTEND;TZID=America/New_York:20211127T163000
DTSTAMP:20260425T171348
CREATED:20211105T152022Z
LAST-MODIFIED:20211105T152022Z
UID:6021-1638028800-1638030600@cultural.edu.pe
SUMMARY:Cuentacuentos: El rey con orejas de burro
DESCRIPTION:La mitología griega contiene las bases de la cultura occidental\, por eso queremos acercársela a los niños en forma de cuentos cortos. De esta manera\, los más pequeños pueden aprender y divertirse al mismo tiempo con las historias más fantásticas. En este cuentacuentos nos acercamos hasta la región de Frigia para visitar al rey Midas\, un rey muy avaro que tenía mucho oro pero que siempre quería tener más. Su avaricia llegaba cargada de oro\, pero también de mala suerte.
URL:https://cultural.edu.pe/eventos/cuentacuentos-el-rey-con-orejas-de-burro/
LOCATION:Facebook Live\, Perú
CATEGORIES:Artes escénicas
ATTACH;FMTTYPE=image/jpeg:https://cultural.edu.pe/wp-content/uploads/2021/11/el-rey-con-orejas-de-burro.jpg
END:VEVENT
END:VCALENDAR