BEGIN:VCALENDAR
VERSION:2.0
PRODID:-//Cultural Arequipa - ECPv6.0.13//NONSGML v1.0//EN
CALSCALE:GREGORIAN
METHOD:PUBLISH
X-ORIGINAL-URL:https://cultural.edu.pe
X-WR-CALDESC:Eventos para Cultural Arequipa
REFRESH-INTERVAL;VALUE=DURATION:PT1H
X-Robots-Tag:noindex
X-PUBLISHED-TTL:PT1H
BEGIN:VTIMEZONE
TZID:America/New_York
BEGIN:DAYLIGHT
TZOFFSETFROM:-0500
TZOFFSETTO:-0400
TZNAME:EDT
DTSTART:20210314T070000
END:DAYLIGHT
BEGIN:STANDARD
TZOFFSETFROM:-0400
TZOFFSETTO:-0500
TZNAME:EST
DTSTART:20211107T060000
END:STANDARD
END:VTIMEZONE
BEGIN:VEVENT
DTSTART;TZID=America/New_York:20210918T160000
DTEND;TZID=America/New_York:20210918T163000
DTSTAMP:20260425T200554
CREATED:20210901T161400Z
LAST-MODIFIED:20211026T193522Z
UID:5817-1631980800-1631982600@cultural.edu.pe
SUMMARY:Cuentacuentos: En busca del peor libro del mundo
DESCRIPTION:Huno “el Conquistador” odia a los libros. Y está tan molesto por que siempre quieren obligarlo a leer que inicia una búsqueda para encontrar al peor de ellos y obligar a todos a leerlo en venganza.
URL:https://cultural.edu.pe/eventos/cuentacuentos-en-busca-del-peor-libro-del-mundo/
LOCATION:Facebook Live\, Perú
CATEGORIES:Artes escénicas,Presentaciones
ATTACH;FMTTYPE=image/jpeg:https://cultural.edu.pe/wp-content/uploads/2021/09/cuentacuentos-en-busca-del-peor-libro-del-mundo.jpg
END:VEVENT
END:VCALENDAR