BEGIN:VCALENDAR
VERSION:2.0
PRODID:-//Cultural Arequipa - ECPv6.0.13//NONSGML v1.0//EN
CALSCALE:GREGORIAN
METHOD:PUBLISH
X-WR-CALNAME:Cultural Arequipa
X-ORIGINAL-URL:https://cultural.edu.pe
X-WR-CALDESC:Eventos para Cultural Arequipa
REFRESH-INTERVAL;VALUE=DURATION:PT1H
X-Robots-Tag:noindex
X-PUBLISHED-TTL:PT1H
BEGIN:VTIMEZONE
TZID:America/New_York
BEGIN:DAYLIGHT
TZOFFSETFROM:-0500
TZOFFSETTO:-0400
TZNAME:EDT
DTSTART:20210314T070000
END:DAYLIGHT
BEGIN:STANDARD
TZOFFSETFROM:-0400
TZOFFSETTO:-0500
TZNAME:EST
DTSTART:20211107T060000
END:STANDARD
END:VTIMEZONE
BEGIN:VEVENT
DTSTART;TZID=America/New_York:20210814T160000
DTEND;TZID=America/New_York:20210814T163000
DTSTAMP:20260425T213306
CREATED:20210727T221805Z
LAST-MODIFIED:20210727T221805Z
UID:5691-1628956800-1628958600@cultural.edu.pe
SUMMARY:Cuentacuentos: La cometa rota
DESCRIPTION:María Fernanda se encuentra una cometa tan rota\, que ya no puede volar. Ella hará todo lo posible por llevarla al cielo y devolverle la alegría de volar.\nEs te cuento estaré a cargo de Alexis Valverde.\n  \n  \n 
URL:https://cultural.edu.pe/eventos/cuentacuentos-la-cometa-rota/
LOCATION:Facebook Live\, Perú
CATEGORIES:Artes escénicas,Presentaciones
ATTACH;FMTTYPE=image/jpeg:https://cultural.edu.pe/wp-content/uploads/2021/07/cuentacuentos-la-cometa-rota.jpg
END:VEVENT
END:VCALENDAR