BEGIN:VCALENDAR
VERSION:2.0
PRODID:-//Cultural Arequipa - ECPv6.0.13//NONSGML v1.0//EN
CALSCALE:GREGORIAN
METHOD:PUBLISH
X-WR-CALNAME:Cultural Arequipa
X-ORIGINAL-URL:https://cultural.edu.pe
X-WR-CALDESC:Eventos para Cultural Arequipa
REFRESH-INTERVAL;VALUE=DURATION:PT1H
X-Robots-Tag:noindex
X-PUBLISHED-TTL:PT1H
BEGIN:VTIMEZONE
TZID:America/New_York
BEGIN:DAYLIGHT
TZOFFSETFROM:-0500
TZOFFSETTO:-0400
TZNAME:EDT
DTSTART:20210314T070000
END:DAYLIGHT
BEGIN:STANDARD
TZOFFSETFROM:-0400
TZOFFSETTO:-0500
TZNAME:EST
DTSTART:20211107T060000
END:STANDARD
END:VTIMEZONE
BEGIN:VEVENT
DTSTART;TZID=America/New_York:20210727T193000
DTEND;TZID=America/New_York:20210727T203000
DTSTAMP:20260425T213339
CREATED:20210608T174809Z
LAST-MODIFIED:20210720T140025Z
UID:5490-1627414200-1627417800@cultural.edu.pe
SUMMARY:Concierto virtual: Criollos por el Bicentenario
DESCRIPTION:En “Criollos por el Bicentenario” rendiremos un justo homenaje a los hombres y mujeres que hicieron posible el inicio de la música criolla. A través de sus inspiraciones e interpretaciones\, revaloraremos melodías olvidadas casi extinguidas\, que en su momento fueron preferidas y aplaudidas como así también rescataremos temas que en el tiempo fueron desvirtuados. \nEn “Criollos por el Bicentenario” incluiremos yaravíes\, danzas\, mazurcas\, abaneras\, valses\, polkas\, tonderos y marineras con compositores del 800 y 900\, se hará historia de quiénes fueron los autores y compositores\, rindiendo así culto y pleitesía a los padres del criollismo. \nEn esta ocasión participarán los destacados músicos criollos: Víctor Marín\, Luz de Fátima Trillo\, Ana María Rossi\, Sheilla y Sergio (Lima)\, Grupo Gozo (Lima) y como Marco Musical el Grupo Serenata del Perú de los Hermanos Machicao Angles. \n  \nTambién contaremos con la participación de Evelyn Huaco (Campeona Nacional de Marinera 2016). \nEsta actividad se realiza gracias al valioso patrocinio de Sociedad Minera Cerro Verde\, quienes siempre contribuyen con la difusión de la cultura en nuestra ciudad y en esta ocasión tan especial como lo es el Bicentenario de nuestro Perú. \n \n 
URL:https://cultural.edu.pe/eventos/criollos-bicentenario/
LOCATION:Facebook Live\, Perú
CATEGORIES:Artes escénicas,Música
ATTACH;FMTTYPE=image/jpeg:https://cultural.edu.pe/wp-content/uploads/2021/06/concierto-criollos-en-el-bicentenario.jpg
END:VEVENT
END:VCALENDAR